Workbook

Sheet Danh sach
A1: DANH SÁCH CÁC BIỂU THỐNG KÊ
A2: STT | B2: Tên biểu | C2: Nội dung | D2: Đường dẫn | E2: Kiểm tra số liệu | F2: Biểu chứa dữ liệu
A3: 1 | B3: Biểu 01 | C3: Kiểm tra đảng viên theo Điều 30 Điều lệ Đảng | D3: B01 | E3: =IF(COUNTIF('B01'!C34:Y41,"Sai")+COUNTIF('B01'!Z7:AC26,"Sai")>=1,"Sai","Đúng") -> Đúng | F3: =IF(SUM('B01'!C7:Y32)>0,"Có","Không") -> Không
A4: 2 | B4: Biểu 02 | C4: Kiểm tra tổ chức đảng cấp dưới theo Điều 30 Điều lệ Đảng | D4: B02 | E4: =IF(COUNTIF('B02'!C26:T33,"Sai")+COUNTIF('B02'!Z7:AC18,"Sai")>=1,"Sai","Đúng") -> Đúng | F4: =IF(SUM('B02'!C7:Y24)>0,"Có","Không") -> Không
A5: 3 | B5: Biểu 03 | C5: Kiểm tra đảng viên khi có dấu hiệu vi phạm của cấp uỷ, ban thường vụ cấp uỷ và chi bộ | D5: B03 | E5: =IF(COUNTIF('B03'!C32:T36,"Sai")+COUNTIF('B03'!U7:V26,"Sai")>=1,"Sai","Đúng") -> Đúng | F5: =IF(SUM('B03'!C7:T30)>0,"Có","Không") -> Không
A6: 4 | B6: Biểu 04 | C6: Kiểm tra tổ chức đảng khi có dấu hiệu vi phạm của cấp uỷ, ban thường vụ cấp uỷ | D6: B04 | E6: =IF(COUNTIF('B04'!C23:P26,"Sai")+COUNTIF('B04'!T7:U18,"Sai")>=1,"Sai","Đúng") -> Đúng | F6: =IF(SUM('B04'!C7:S22)>0,"Có","Không") -> Không
A7: 5 | B7: Biểu 05 | C7: Giám sát đảng viên theo Điều 30 Điều lệ Đảng | D7: B05 | E7: =IF(COUNTIF('B05'!C31:W31,"Sai")+COUNTIF('B05'!X6:Z29,"Sai")>=1,"Sai","Đúng") -> Đúng | F7: =IF(SUM('B05'!C6:W29)>0,"Có","Không") -> Không
A8: 6 | B8: Biểu 06 | C8: Giám sát tổ chức đảng theo Điều 30 Điều lệ Đảng | D8: B06 | E8: =IF(COUNTIF('B06'!Y6:AA17,"Sai")>=1,"Sai","Đúng") -> Đúng | F8: =IF(SUM('B06'!C6:X17)>0,"Có","Không") -> Không
A9: 7 | B9: Biểu 07 | C9: Thi hành kỷ luật đảng viên của cấp uỷ các cấp và chi bộ | D9: B07 | E9: =IF(COUNTIF('B07'!C34:AB34,"Sai")+COUNTIF('B07'!AC7:AE31,"Sai")>=1,"Sai","Đúng") -> Đúng | F9: =IF(SUM('B07'!C7:AB31)>0,"Có","Không") -> Không
A10: 8 | B10: Biểu 08 | C10: Thi hành kỷ luật đảng viên của cấp uỷ các cấp và chi bộ | D10: B08 | E10: =IF(COUNTIF('B08'!C24:S25,"Sai")+COUNTIF('B08'!T6:U22,"Sai")>=1,"Sai","Đúng") -> Đúng | F10: =IF(SUM('B08'!C6:S22)>0,"Có","Không") -> Không
A11: 9 | B11: Biểu 09 | C11: Giải quyết khiếu nại kỷ luật đảng viên của cấp uỷ các cấp | D11: B09 | E11: =IF(COUNTIF('B09'!C28:V29,"Sai")+COUNTIF('B09'!W7:Y24,"Sai")>=1,"Sai","Đúng") -> Đúng | F11: =IF(SUM('B09'!C7:V25)>0,"Có","Không") -> Không
A12: 10 | B12: Biểu 10 | C12: Giải quyết khiếu nại kỷ luật tổ chức đảng của cấp uỷ các cấp | D12: B10 | E12: =IF(COUNTIF('B10'!C23:L23,"Sai")+COUNTIF('B10'!Y7:AA20,"Sai")>=1,"Sai","Đúng") -> Đúng | F12: =IF(SUM('B10'!C7:X21)>0,"Có","Không") -> Không
A13: 11 | B13: Biểu 11 | C13: Kiểm tra đảng viên khi có dấu hiệu vi phạm của uỷ ban kiểm tra các cấp | D13: B11 | E13: =IF(COUNTIF('B11'!C32:S36,"Sai")+COUNTIF('B11'!T7:U30,"Sai")>=1,"Sai","Đúng") -> Đúng | F13: =IF(SUM('B11'!C7:S30)>0,"Có","Không") -> Không
A14: 12 | B14: Biểu 12 | C14: Kiểm tra tổ chức đảng khi có dấu hiệu vi phạm của uỷ ban kiểm tra các cấp | D14: B12 | E14: =IF(COUNTIF('B12'!C24:N27,"Sai")+COUNTIF('B12'!R7:S22,"Sai")>=1,"Sai","Đúng") -> Đúng | F14: =IF(SUM('B12'!C7:Q22)>0,"Có","Không") -> Không
A15: 13 | B15: Biểu 13 | C15: Uỷ ban kiểm tra các cấp kiểm tra tổ chức đảng, uỷ ban kiểm tra cấp dưới thực hiện nhiệm vụ kiểm tra, giám sát | D15: B13 | E15: =IF(COUNTIF('B13'!Q7:Q15,"Sai")>=1,"Sai","Đúng") -> Đúng | F15: =IF(SUM('B13'!C7:P15)>0,"Có","Không") -> Không
A16: 14 | B16: Biểu 14 | C16: Uỷ ban kiểm tra các cấp kiểm tra việc thi hành kỷ luật của tổ chức đảng cấp dưới | D16: B14 | E16: =IF(COUNTIF('B14'!AB7:AD13,"Sai")>=1,"Sai","Đúng") -> Đúng | F16: =IF(SUM('B14'!C7:AA14)>0,"Có","Không") -> Không
A17: 15 | B17: Biểu 15 | C17: Giám sát đảng viên của uỷ ban kiểm tra các cấp | D17: B15 | E17: =IF(COUNTIF('B15'!C31:R31,"Sai")+COUNTIF('B15'!S6:U29,"Sai")>=1,"Sai","Đúng") -> Đúng | F17: =IF(SUM('B15'!C6:R29)>0,"Có","Không") -> Không
A18: 16 | B18: Biểu 16 | C18: Giám sát tổ chức đảng của uỷ ban kiểm tra các cấp | D18: B16 | E18: =IF(COUNTIF('B16'!R6:T17,"Sai")>=1,"Sai","Đúng") -> Đúng | F18: =IF(SUM('B16'!C6:Q17)>0,"Có","Không") -> Không
A19: 17 | B19: Biểu 17 | C19: Thi hành kỷ luật đảng viên của uỷ ban kiểm tra các cấp | D19: B17 | E19: =IF(COUNTIF('B17'!C33:Z33,"Sai")+COUNTIF('B17'!AA7:AC31,"Sai")>=1,"Sai","Đúng") -> Đúng | F19: =IF(SUM('B17'!C7:Z31)>0,"Có","Không") -> Không
A20: 18 | B20: Biểu 18 | C20: Thi hành kỷ luật tổ chức đảng của uỷ ban kiểm tra các cấp | D20: B18 | E20: =IF(COUNTIF('B18'!C22:Q22,"Sai")+COUNTIF('B18'!R6:S20,"Sai")>=1,"Sai","Đúng") -> Đúng | F20: =IF(SUM('B18'!C6:Q20)>0,"Có","Không") -> Không
A21: 19 | B21: Biểu 19 | C21: Giải quyết tố cáo đảng viên của uỷ ban kiểm tra các cấp | D21: B19 | E21: =IF(COUNTIF('B19'!C37:X47,"Sai")+COUNTIF('B19'!Y7:AB26,"Sai")>=1,"Sai","Đúng") -> Đúng | F21: =IF(SUM('B19'!C7:X35)>0,"Có","Không") -> Không
A22: 20 | B22: Biểu 20 | C22: Giải quyết tố cáo tổ chức đảng của uỷ ban kiểm tra các cấp | D22: B20 | E22: =IF(COUNTIF('B20'!C26:N36,"Sai")+COUNTIF('B20'!V7:Y24,"Sai")>=1,"Sai","Đúng") -> Đúng | F22: =IF(SUM('B20'!C7:U24)>0,"Có","Không") -> Không
A23: 21 | B23: Biểu 21 | C23: Giải quyết khiếu nại kỷ luật đảng viên của uỷ ban kiểm tra các cấp | D23: B21 | E23: =IF(COUNTIF('B21'!C24:S25,"Sai")+COUNTIF('B21'!T7:V21,"Sai")>=1,"Sai","Đúng") -> Đúng | F23: =IF(SUM('B21'!C7:S22)>0,"Có","Không") -> Không
A24: 22 | B24: Biểu 22 | C24: Kiểm tra tài chính (về thu chi ngân sách và sản xuất kinh doanh) | D24: B22 | E24: =IF(COUNTIF('B22'!AG9:AJ19,"Sai")>=1,"Sai","Đúng") -> Đúng | F24: =IF(SUM('B22'!C9:AF20)>0,"Có","Không") -> Không
A25: 23 | B25: Biểu 23 | C25: Kiểm tra tài chính đảng (về thu, nộp, quản lý và sử dụng đảng phí) | D25: B23 | E25: =IF(COUNTIF('B23'!AD8:AH15,"Sai")>=1,"Sai","Đúng") -> Đúng | F25: =IF(SUM('B23'!C8:AC15)>0,"Có","Không") -> Không
A26: 24 | B26: Biểu 24 | C26: Tiếp nhận, xử lý đơn thư của uỷ ban kiểm tra các cấp | D26: B24 | E26: =IF(COUNTIF('B24'!AD7:AD16,"Sai")>=1,"Sai","Đúng") -> Đúng | F26: =IF(SUM('B24'!E7:AC16)>0,"Có","Không") -> Không
A27: 25 | B27: Biểu 25 | C27: Tình hình đội ngũ cán bộ ngành kiểm tra các cấp | D27: B25 | E27: =IF(COUNTIF('B25'!AM9:AN36,"Sai")>=1,"Sai","Đúng") -> Đúng | F27: =IF(SUM('B25'!C9:AL36)>0,"Có","Không") -> Không
A28: 26 | B28: Biểu 26 | C28: Tình hình đào tạo, bồi dưỡng cán bộ, công chức làm công tác kiểm tra | D28: B26 | E28: =IF(COUNTIF('B26'!AN9:AO13,"Sai")>=1,"Sai","Đúng") -> Đúng | F28: =IF(SUM('B26'!C9:AM13)>0,"Có","Không") -> Không

Sheet B01
A1: KIỂM TRA ĐẢNG VIÊN THEO ĐIỀU 30 ĐIỀU LỆ ĐẢNG | X1: Biểu 01
U2: (ĐVT: Đảng viên)
A3: TT | B3: Đảng viên được kiểm tra | C3: Tổng số đảng viên được kiểm tra | D3: Cấp kiểm tra | M3: Nội dung kiểm tra | U3: Kết luận
D4: BCHTW, BCT, Ban Bí thư | E4: Các CQ tham mưu của TW | F4: Tỉnh ủy, BTV tỉnh uỷ và tương đương | G4: Các CQ tham mưu, của cấp ủy tỉnh và tương đương | H4: Huyện ủy, BTV HU và tương đương | I4: Các CQ tham mưu, của cấp ủy huyện và tương đương | J4: Đảng ủy cơ sở, BTV Đảng ủy cơ sở | K4: Đảng ủy bộ phận | L4: Chi bộ | M4: Việc thực hiện những điều đảng viên không được làm | N4: Tiêu chuẩn đảng viên, tiêu chuẩn cấp ủy viên | O4: Việc thực hiện nhiệm vụ đảng viên, nhiệm vụ cấp ủy viên | P4: Việc chấp hành nghị quyết, chỉ thị, quy định, kết luận của Đảng; chính sách, pháp luật của Nhà nước | R4: Tư tưởng chính trị, đạo đức, lối sống, trách nhiệm nêu gương | S4: Kê khai tài sản, thu nhập cá nhân | T4: Khác | U4: Thực hiện tốt | V4: Thực hiện chưa tốt | W4: Trong đó
Q5: Việc chấp hành quy chế làm việc, nguyên tắc tập trung dân chủ, chế độ công tác | W5: Có vi phạm, khuyết điểm, chưa đến mức phải kỷ luật | X5: Phải thi hành kỷ luật | Y5: Đã thi hành kỷ luật
A6: 1 | B6: 2 | C6: 3 | D6: 4 | E6: 5 | F6: 6 | G6: 7 | H6: 8 | I6: 9 | J6: 10 | K6: 11 | L6: 12 | M6: 13 | N6: 14 | O6: 15 | P6: 16 | Q6: 17 | R6: 18 | S6: 19 | T6: 20 | U6: 21 | V6: 22 | W6: 23 | X6: 24 | Y6: 25
A7: I | B7: Cấp quản lý đảng viên | C7: =SUM(C8:C11) -> 0 | D7: =SUM(D8:D11) -> 0 | E7: =SUM(E8:E11) -> 0 | F7: =SUM(F8:F11) -> 0 | G7: =SUM(G8:G11) -> 0 | H7: =SUM(H8:H11) -> 0 | I7: =SUM(I8:I11) -> 0 | J7: =SUM(J8:J11) -> 0 | ... Y7: =SUM(Y8:Y11) -> 0 | Z7: =IF(AND(M7<=C7,N7<=C7,O7<=C7,P7<=C7,Q7<=C7,R7<=C7,S7<=C7,T7<=C7),"Đúng","Sai") -> Đúng | AA7: =IF(C7=U7+V7,"Đúng","Sai") -> Đúng | AB7: =IF(V7=W7+X7,"Đúng","Sai") -> Đúng | AC7: =IF(Y7<=X7,"Đúng","Sai") -> Đúng
B8: Trung ương | C8: =SUM(D8:L8) -> 0 | Z8: =IF(AND(M8<=C8,N8<=C8,O8<=C8,P8<=C8,Q8<=C8,R8<=C8,S8<=C8,T8<=C8),"Đúng","Sai") -> Đúng | AA8: =IF(C8=U8+V8,"Đúng","Sai") -> Đúng | AB8: =IF(V8=W8+X8,"Đúng","Sai") -> Đúng | AC8: =IF(Y8<=X8,"Đúng","Sai") -> Đúng
B9: Cấp tỉnh và tương đương | C9: =SUM(D9:L9) -> 0 | Z9: =IF(AND(M9<=C9,N9<=C9,O9<=C9,P9<=C9,Q9<=C9,R9<=C9,S9<=C9,T9<=C9),"Đúng","Sai") -> Đúng | AA9: =IF(C9=U9+V9,"Đúng","Sai") -> Đúng | AB9: =IF(V9=W9+X9,"Đúng","Sai") -> Đúng | AC9: =IF(Y9<=X9,"Đúng","Sai") -> Đúng
B10: Cấp huyện và tương đương | C10: =SUM(D10:L10) -> 0 | Z10: =IF(AND(M10<=C10,N10<=C10,O10<=C10,P10<=C10,Q10<=C10,R10<=C10,S10<=C10,T10<=C10),"Đúng","Sai") -> Đúng | AA10: =IF(C10=U10+V10,"Đúng","Sai") -> Đúng | AB10: =IF(V10=W10+X10,"Đúng","Sai") -> Đúng | AC10: =IF(Y10<=X10,"Đúng","Sai") -> Đúng
B11: Cấp cơ sở | C11: =SUM(D11:L11) -> 0 | Z11: =IF(AND(M11<=C11,N11<=C11,O11<=C11,P11<=C11,Q11<=C11,R11<=C11,S11<=C11,T11<=C11),"Đúng","Sai") -> Đúng | AA11: =IF(C11=U11+V11,"Đúng","Sai") -> Đúng | AB11: =IF(V11=W11+X11,"Đúng","Sai") -> Đúng | AC11: =IF(Y11<=X11,"Đúng","Sai") -> Đúng
A12: II | B12: Là cấp uỷ viên các cấp | C12: =SUM(C13:C18) -> 0 | D12: =SUM(D13:D18) -> 0 | E12: =SUM(E13:E18) -> 0 | F12: =SUM(F13:F18) -> 0 | G12: =SUM(G13:G18) -> 0 | H12: =SUM(H13:H18) -> 0 | I12: =SUM(I13:I18) -> 0 | J12: =SUM(J13:J18) -> 0 | ... Y12: =SUM(Y13:Y18) -> 0 | Z12: =IF(AND(M12<=C12,N12<=C12,O12<=C12,P12<=C12,Q12<=C12,R12<=C12,S12<=C12,T12<=C12),"Đúng","Sai") -> Đúng | AA12: =IF(C12=U12+V12,"Đúng","Sai") -> Đúng | AB12: =IF(V12=W12+X12,"Đúng","Sai") -> Đúng | AC12: =IF(Y12<=X12,"Đúng","Sai") -> Đúng
B13: Uỷ viên Trung ương | C13: =SUM(D13:L13) -> 0 | Z13: =IF(AND(M13<=C13,N13<=C13,O13<=C13,P13<=C13,Q13<=C13,R13<=C13,S13<=C13,T13<=C13),"Đúng","Sai") -> Đúng | AA13: =IF(C13=U13+V13,"Đúng","Sai") -> Đúng | AB13: =IF(V13=W13+X13,"Đúng","Sai") -> Đúng | AC13: =IF(Y13<=X13,"Đúng","Sai") -> Đúng
B14: Tỉnh ủy viên và tương đương | C14: =SUM(D14:L14) -> 0 | Z14: =IF(AND(M14<=C14,N14<=C14,O14<=C14,P14<=C14,Q14<=C14,R14<=C14,S14<=C14,T14<=C14),"Đúng","Sai") -> Đúng | AA14: =IF(C14=U14+V14,"Đúng","Sai") -> Đúng | AB14: =IF(V14=W14+X14,"Đúng","Sai") -> Đúng | AC14: =IF(Y14<=X14,"Đúng","Sai") -> Đúng
B15: Huyện ủy viên và tương đương | C15: =SUM(D15:L15) -> 0 | Z15: =IF(AND(M15<=C15,N15<=C15,O15<=C15,P15<=C15,Q15<=C15,R15<=C15,S15<=C15,T15<=C15),"Đúng","Sai") -> Đúng | AA15: =IF(C15=U15+V15,"Đúng","Sai") -> Đúng | AB15: =IF(V15=W15+X15,"Đúng","Sai") -> Đúng | AC15: =IF(Y15<=X15,"Đúng","Sai") -> Đúng
B16: Đảng ủy viên | C16: =SUM(D16:L16) -> 0 | Z16: =IF(AND(M16<=C16,N16<=C16,O16<=C16,P16<=C16,Q16<=C16,R16<=C16,S16<=C16,T16<=C16),"Đúng","Sai") -> Đúng | AA16: =IF(C16=U16+V16,"Đúng","Sai") -> Đúng | AB16: =IF(V16=W16+X16,"Đúng","Sai") -> Đúng | AC16: =IF(Y16<=X16,"Đúng","Sai") -> Đúng
B17: Đảng ủy viên đảng ủy bộ phận | C17: =SUM(D17:L17) -> 0 | Z17: =IF(AND(M17<=C17,N17<=C17,O17<=C17,P17<=C17,Q17<=C17,R17<=C17,S17<=C17,T17<=C17),"Đúng","Sai") -> Đúng | AA17: =IF(C17=U17+V17,"Đúng","Sai") -> Đúng | AB17: =IF(V17=W17+X17,"Đúng","Sai") -> Đúng | AC17: =IF(Y17<=X17,"Đúng","Sai") -> Đúng
B18: Chi ủy viên | C18: =SUM(D18:L18) -> 0 | Z18: =IF(AND(M18<=C18,N18<=C18,O18<=C18,P18<=C18,Q18<=C18,R18<=C18,S18<=C18,T18<=C18),"Đúng","Sai") -> Đúng | AA18: =IF(C18=U18+V18,"Đúng","Sai") -> Đúng | AB18: =IF(V18=W18+X18,"Đúng","Sai") -> Đúng | AC18: =IF(Y18<=X18,"Đúng","Sai") -> Đúng
A19: III | B19: Đảng viên ở các lĩnh vực | C19: =SUM(C20:C26) -> 0 | D19: =SUM(D20:D26) -> 0 | E19: =SUM(E20:E26) -> 0 | F19: =SUM(F20:F26) -> 0 | G19: =SUM(G20:G26) -> 0 | H19: =SUM(H20:H26) -> 0 | I19: =SUM(I20:I26) -> 0 | J19: =SUM(J20:J26) -> 0 | ... Y19: =SUM(Y20:Y26) -> 0 | Z19: =IF(AND(M19<=C19,N19<=C19,O19<=C19,P19<=C19,Q19<=C19,R19<=C19,S19<=C19,T19<=C19),"Đúng","Sai") -> Đúng | AA19: =IF(C19=U19+V19,"Đúng","Sai") -> Đúng | AB19: =IF(V19=W19+X19,"Đúng","Sai") -> Đúng | AC19: =IF(Y19<=X19,"Đúng","Sai") -> Đúng
B20: Đảng | C20: =SUM(D20:L20) -> 0 | Z20: =IF(AND(M20<=C20,N20<=C20,O20<=C20,P20<=C20,Q20<=C20,R20<=C20,S20<=C20,T20<=C20),"Đúng","Sai") -> Đúng | AA20: =IF(C20=U20+V20,"Đúng","Sai") -> Đúng | AB20: =IF(V20=W20+X20,"Đúng","Sai") -> Đúng | AC20: =IF(Y20<=X20,"Đúng","Sai") -> Đúng
B21: Hành chính, Nhà nước | C21: =SUM(D21:L21) -> 0 | Z21: =IF(AND(M21<=C21,N21<=C21,O21<=C21,P21<=C21,Q21<=C21,R21<=C21,S21<=C21,T21<=C21),"Đúng","Sai") -> Đúng | AA21: =IF(C21=U21+V21,"Đúng","Sai") -> Đúng | AB21: =IF(V21=W21+X21,"Đúng","Sai") -> Đúng | AC21: =IF(Y21<=X21,"Đúng","Sai") -> Đúng
B22: Đoàn thể | C22: =SUM(D22:L22) -> 0 | Z22: =IF(AND(M22<=C22,N22<=C22,O22<=C22,P22<=C22,Q22<=C22,R22<=C22,S22<=C22,T22<=C22),"Đúng","Sai") -> Đúng | AA22: =IF(C22=U22+V22,"Đúng","Sai") -> Đúng | AB22: =IF(V22=W22+X22,"Đúng","Sai") -> Đúng | AC22: =IF(Y22<=X22,"Đúng","Sai") -> Đúng
B23: Lực lượng vũ trang | C23: =SUM(D23:L23) -> 0 | Z23: =IF(AND(M23<=C23,N23<=C23,O23<=C23,P23<=C23,Q23<=C23,R23<=C23,S23<=C23,T23<=C23),"Đúng","Sai") -> Đúng | AA23: =IF(C23=U23+V23,"Đúng","Sai") -> Đúng | AB23: =IF(V23=W23+X23,"Đúng","Sai") -> Đúng | AC23: =IF(Y23<=X23,"Đúng","Sai") -> Đúng
B24: Sự nghiệp công lập | C24: =SUM(D24:L24) -> 0 | Z24: =IF(AND(M24<=C24,N24<=C24,O24<=C24,P24<=C24,Q24<=C24,R24<=C24,S24<=C24,T24<=C24),"Đúng","Sai") -> Đúng | AA24: =IF(C24=U24+V24,"Đúng","Sai") -> Đúng | AB24: =IF(V24=W24+X24,"Đúng","Sai") -> Đúng | AC24: =IF(Y24<=X24,"Đúng","Sai") -> Đúng
B25: Sản xuất kinh doanh, dịch vụ | C25: =SUM(D25:L25) -> 0 | Z25: =IF(AND(M25<=C25,N25<=C25,O25<=C25,P25<=C25,Q25<=C25,R25<=C25,S25<=C25,T25<=C25),"Đúng","Sai") -> Đúng | AA25: =IF(C25=U25+V25,"Đúng","Sai") -> Đúng | AB25: =IF(V25=W25+X25,"Đúng","Sai") -> Đúng | AC25: =IF(Y25<=X25,"Đúng","Sai") -> Đúng
B26: Các lĩnh vực khác | C26: =SUM(D26:L26) -> 0 | Z26: =IF(AND(M26<=C26,N26<=C26,O26<=C26,P26<=C26,Q26<=C26,R26<=C26,S26<=C26,T26<=C26),"Đúng","Sai") -> Đúng | AA26: =IF(C26=U26+V26,"Đúng","Sai") -> Đúng | AB26: =IF(V26=W26+X26,"Đúng","Sai") -> Đúng | AC26: =IF(Y26<=X26,"Đúng","Sai") -> Đúng
A27: IV | B27: Kết luận | C27: =C28+C29 -> 0 | D27: =D28+D29 -> 0 | E27: =E28+E29 -> 0 | F27: =F28+F29 -> 0 | G27: =G28+G29 -> 0 | H27: =H28+H29 -> 0 | I27: =I28+I29 -> 0 | J27: =J28+J29 -> 0 | ... T27: =T28+T29 -> 0
B28: Thực hiện tốt | C28: =SUM(D28:L28) -> 0
B29: Thực hiện chưa tốt | C29: =SUM(D29:L29) -> 0
B30: Có vi phạm, khuyết điểm chưa đến mức phải kỷ luật | C30: =SUM(D30:L30) -> 0
B31: Phải thi hành kỷ luật | C31: =SUM(D31:L31) -> 0
B32: Đã thi hành kỷ luật | C32: =SUM(D32:L32) -> 0
C34: =IF(AND(C7=C19,C7=C27), "Đúng", "Sai") -> Đúng | D34: =IF(AND(D7=D19,D7=D27), "Đúng", "Sai") -> Đúng | E34: =IF(AND(E7=E19,E7=E27), "Đúng", "Sai") -> Đúng | F34: =IF(AND(F7=F19,F7=F27), "Đúng", "Sai") -> Đúng | G34: =IF(AND(G7=G19,G7=G27), "Đúng", "Sai") -> Đúng | H34: =IF(AND(H7=H19,H7=H27), "Đúng", "Sai") -> Đúng | I34: =IF(AND(I7=I19,I7=I27), "Đúng", "Sai") -> Đúng | J34: =IF(AND(J7=J19,J7=J27), "Đúng", "Sai") -> Đúng | ... T34: =IF(AND(T7=T19,T7=T27), "Đúng", "Sai") -> Đúng | U34: =IF(U7=U19, "Đúng", "Sai") -> Đúng | V34: =IF(V7=V19, "Đúng", "Sai") -> Đúng | W34: =IF(W7=W19, "Đúng", "Sai") -> Đúng | X34: =IF(X7=X19, "Đúng", "Sai") -> Đúng | Y34: =IF(Y7=Y19, "Đúng", "Sai") -> Đúng
C35: =IF(C29=C30+C31,"Đúng","Sai") -> Đúng | D35: =IF(D29=D30+D31,"Đúng","Sai") -> Đúng | E35: =IF(E29=E30+E31,"Đúng","Sai") -> Đúng | F35: =IF(F29=F30+F31,"Đúng","Sai") -> Đúng | G35: =IF(G29=G30+G31,"Đúng","Sai") -> Đúng | H35: =IF(H29=H30+H31,"Đúng","Sai") -> Đúng | I35: =IF(I29=I30+I31,"Đúng","Sai") -> Đúng | J35: =IF(J29=J30+J31,"Đúng","Sai") -> Đúng | ... T35: =IF(T29=T30+T31,"Đúng","Sai") -> Đúng
C36: =IF(C32<=C31,"Đúng","Sai") -> Đúng | D36: =IF(D32<=D31,"Đúng","Sai") -> Đúng | E36: =IF(E32<=E31,"Đúng","Sai") -> Đúng | F36: =IF(F32<=F31,"Đúng","Sai") -> Đúng | G36: =IF(G32<=G31,"Đúng","Sai") -> Đúng | H36: =IF(H32<=H31,"Đúng","Sai") -> Đúng | I36: =IF(I32<=I31,"Đúng","Sai") -> Đúng | J36: =IF(J32<=J31,"Đúng","Sai") -> Đúng | ... T36: =IF(T32<=T31,"Đúng","Sai") -> Đúng
C37: =IF(C28=U19, "Đúng", "Sai") -> Đúng
C38: =IF(C29=V19, "Đúng", "Sai") -> Đúng
C39: =IF(C30=W19, "Đúng", "Sai") -> Đúng
C40: =IF(C31=X19, "Đúng", "Sai") -> Đúng
C41: =IF(C32=Y19, "Đúng", "Sai") -> Đúng

Sheet B02
A1: KIỂM TRA TỔ CHỨC ĐẢNG CẤP DƯỚI THEO ĐIỀU 30 ĐIỀU LỆ ĐẢNG | W1: Biểu 02
U2: (ĐVT: Tổ chức đảng)
A3: TT | B3: Tổ chức đảng được kiểm tra | C3: Tổng số tổ chức đảng được kiểm tra | D3: Cấp kiểm tra | L3: Nội dung kiểm tra | U3: Kết luận
D4: BCH Trung ương, BCT, BBT | E4: Các CQ tham mưu, của Trung ương | F4: Tỉnh ủy, BTV Tỉnh uỷ và tương đương | G4: Các CQ tham mưu, của cấp ủy tỉnh và tương đương | H4: Huyện ủy, BTV HU và tương đương | I4: Các CQ tham mưu của cấp ủy huyện và tương đương | J4: Đảng ủy cơ sở, BTV Đảng ủy cơ sở | K4: Đảng uỷ bộ phận | L4: Việc chấp hành Cương lĩnh chính trị, Điều lệ Đảng, chủ trương, nghị quyết, chỉ thị, quy định, quyết định, quy chế, kết luận, hướng dẫn của Đảng | M4: Việc chấp hành chính sách, pháp luật của Nhà nước | N4: Việc chấp hành các nguyên tắc tổ chức và hoạt động của Đảng, giữ gìn đoàn kết nội bộ, quy chế làm việc, chế độ công tác, thực hiện dân chủ trong Đảng | O4: Việc lãnh đạo, chỉ đạo thực hành tiết kiệm; phòng, chống tham nhũng, lãng phí, tiêu cực; quản lý, rèn luyện phẩm chất, đạo đức, lối sống của đảng viên | P4: Việc lãnh đạo, chỉ đạo và tổ chức thực hiện cải cách hành chính, cải cách tư pháp | Q4: Việc lãnh đạo, chỉ đạo các cơ quan bảo vệ pháp luật trong công tác điều tra, truy tố, xét xử, thi hành án | R4: Công tác cán bộ | S4: Giải quyết khiếu nại, tố cáo | T4: Khác | U4: Thực hiện tốt | V4: Thực hiện chưa tốt | W4: Trong đó
W5: Có vi phạm, khuyết điểm chưa đến mức phải kỷ luật | X5: Phải thi hành kỷ luật | Y5: Đã thi hành kỷ luật
A6: 1 | B6: 2 | C6: 3 | D6: 4 | E6: 5 | F6: 6 | G6: 7 | H6: 8 | I6: 9 | J6: 10 | K6: 11 | L6: 12 | M6: 13 | N6: 14 | O6: 15 | P6: 16 | Q6: 17 | R6: 18 | S6: 19 | T6: 20 | U6: 21 | V6: 22 | W6: 23 | X6: 24 | Y6: 25
A7: I | B7: Tổ chức đảng được kiểm tra | C7: =SUM(C8:C18) -> 0 | D7: =SUM(D8:D18) -> 0 | E7: =SUM(E8:E18) -> 0 | F7: =SUM(F8:F18) -> 0 | G7: =SUM(G8:G18) -> 0 | H7: =SUM(H8:H18) -> 0 | I7: =SUM(I8:I18) -> 0 | J7: =SUM(J8:J18) -> 0 | ... Y7: =SUM(Y8:Y18) -> 0 | Z7: =IF(AND(L7<=C7,M7<=C7,N7<=C7,O7<=C7,P7<=C7,Q7<=C7,R7<=C7,S7<=C7,T7<=C7), "Đúng", "Sai") -> Đúng | AA7: =IF(C7=U7+V7, "Đúng", "Sai") -> Đúng | AB7: =IF(V7=W7+X7, "Đúng", "Sai") -> Đúng | AC7: =IF(Y7<=X7,"Đúng","Sai") -> Đúng
B8: BCS đảng, đảng đoàn ở Trung ương | C8: =SUM(D8:K8) -> 0 | Z8: =IF(AND(L8<=C8,M8<=C8,N8<=C8,O8<=C8,P8<=C8,Q8<=C8,R8<=C8,S8<=C8,T8<=C8), "Đúng", "Sai") -> Đúng | AA8: =IF(C8=U8+V8, "Đúng", "Sai") -> Đúng | AB8: =IF(V8=W8+X8, "Đúng", "Sai") -> Đúng | AC8: =IF(Y8<=X8,"Đúng","Sai") -> Đúng
B9: Các CQ tham mưu của Trung ương | C9: =SUM(D9:K9) -> 0 | Z9: =IF(AND(L9<=C9,M9<=C9,N9<=C9,O9<=C9,P9<=C9,Q9<=C9,R9<=C9,S9<=C9,T9<=C9), "Đúng", "Sai") -> Đúng | AA9: =IF(C9=U9+V9, "Đúng", "Sai") -> Đúng | AB9: =IF(V9=W9+X9, "Đúng", "Sai") -> Đúng | AC9: =IF(Y9<=X9,"Đúng","Sai") -> Đúng
B10: Tỉnh uỷ, BTV,thuờng trực tỉnh uỷ và tương đương | C10: =SUM(D10:K10) -> 0 | Z10: =IF(AND(L10<=C10,M10<=C10,N10<=C10,O10<=C10,P10<=C10,Q10<=C10,R10<=C10,S10<=C10,T10<=C10), "Đúng", "Sai") -> Đúng | AA10: =IF(C10=U10+V10, "Đúng", "Sai") -> Đúng | AB10: =IF(V10=W10+X10, "Đúng", "Sai") -> Đúng | AC10: =IF(Y10<=X10,"Đúng","Sai") -> Đúng
B11: BCS đảng, đảng đoàn cấp tỉnh và tương đương | C11: =SUM(D11:K11) -> 0 | Z11: =IF(AND(L11<=C11,M11<=C11,N11<=C11,O11<=C11,P11<=C11,Q11<=C11,R11<=C11,S11<=C11,T11<=C11), "Đúng", "Sai") -> Đúng | AA11: =IF(C11=U11+V11, "Đúng", "Sai") -> Đúng | AB11: =IF(V11=W11+X11, "Đúng", "Sai") -> Đúng | AC11: =IF(Y11<=X11,"Đúng","Sai") -> Đúng
B12: Các CQ tham mưu của cấp ủy tỉnh và tương đương | C12: =SUM(D12:K12) -> 0 | Z12: =IF(AND(L12<=C12,M12<=C12,N12<=C12,O12<=C12,P12<=C12,Q12<=C12,R12<=C12,S12<=C12,T12<=C12), "Đúng", "Sai") -> Đúng | AA12: =IF(C12=U12+V12, "Đúng", "Sai") -> Đúng | AB12: =IF(V12=W12+X12, "Đúng", "Sai") -> Đúng | AC12: =IF(Y12<=X12,"Đúng","Sai") -> Đúng
B13: Huyện ủy,BTV huyện uỷ, thường trực huyện ủy và tương đương | C13: =SUM(D13:K13) -> 0 | Z13: =IF(AND(L13<=C13,M13<=C13,N13<=C13,O13<=C13,P13<=C13,Q13<=C13,R13<=C13,S13<=C13,T13<=C13), "Đúng", "Sai") -> Đúng | AA13: =IF(C13=U13+V13, "Đúng", "Sai") -> Đúng | AB13: =IF(V13=W13+X13, "Đúng", "Sai") -> Đúng | AC13: =IF(Y13<=X13,"Đúng","Sai") -> Đúng
B14: Các CQ tham mưu của cấp ủy huyện và tương đương | C14: =SUM(D14:K14) -> 0 | Z14: =IF(AND(L14<=C14,M14<=C14,N14<=C14,O14<=C14,P14<=C14,Q14<=C14,R14<=C14,S14<=C14,T14<=C14), "Đúng", "Sai") -> Đúng | AA14: =IF(C14=U14+V14, "Đúng", "Sai") -> Đúng | AB14: =IF(V14=W14+X14, "Đúng", "Sai") -> Đúng | AC14: =IF(Y14<=X14,"Đúng","Sai") -> Đúng
B15: Đảng ủy cơ sở, BTV Đảng ủy cơ sở | C15: =SUM(D15:K15) -> 0 | Z15: =IF(AND(L15<=C15,M15<=C15,N15<=C15,O15<=C15,P15<=C15,Q15<=C15,R15<=C15,S15<=C15,T15<=C15), "Đúng", "Sai") -> Đúng | AA15: =IF(C15=U15+V15, "Đúng", "Sai") -> Đúng | AB15: =IF(V15=W15+X15, "Đúng", "Sai") -> Đúng | AC15: =IF(Y15<=X15,"Đúng","Sai") -> Đúng
B16: Đảng uỷ bộ phận | C16: =SUM(D16:K16) -> 0 | Z16: =IF(AND(L16<=C16,M16<=C16,N16<=C16,O16<=C16,P16<=C16,Q16<=C16,R16<=C16,S16<=C16,T16<=C16), "Đúng", "Sai") -> Đúng | AA16: =IF(C16=U16+V16, "Đúng", "Sai") -> Đúng | AB16: =IF(V16=W16+X16, "Đúng", "Sai") -> Đúng | AC16: =IF(Y16<=X16,"Đúng","Sai") -> Đúng
B17: Chi bộ, Chi ủy | C17: =SUM(D17:K17) -> 0 | Z17: =IF(AND(L17<=C17,M17<=C17,N17<=C17,O17<=C17,P17<=C17,Q17<=C17,R17<=C17,S17<=C17,T17<=C17), "Đúng", "Sai") -> Đúng | AA17: =IF(C17=U17+V17, "Đúng", "Sai") -> Đúng | AB17: =IF(V17=W17+X17, "Đúng", "Sai") -> Đúng | AC17: =IF(Y17<=X17,"Đúng","Sai") -> Đúng
B18: Khác (ban chỉ đạo, tiểu ban, hội đồng...) | C18: =SUM(D18:K18) -> 0 | Z18: =IF(AND(L18<=C18,M18<=C18,N18<=C18,O18<=C18,P18<=C18,Q18<=C18,R18<=C18,S18<=C18,T18<=C18), "Đúng", "Sai") -> Đúng | AA18: =IF(C18=U18+V18, "Đúng", "Sai") -> Đúng | AB18: =IF(V18=W18+X18, "Đúng", "Sai") -> Đúng | AC18: =IF(Y18<=X18,"Đúng","Sai") -> Đúng
A19: II | B19: Kết luận | C19: =C20+C21 -> 0 | D19: =D20+D21 -> 0 | E19: =E20+E21 -> 0 | F19: =F20+F21 -> 0 | G19: =G20+G21 -> 0 | H19: =H20+H21 -> 0 | I19: =I20+I21 -> 0 | J19: =J20+J21 -> 0 | ... T19: =T20+T21 -> 0
B20: Thực hiện tốt | C20: =SUM(D20:K20) -> 0
B21: Thực hiện chưa tốt | C21: =SUM(D21:K21) -> 0
B22: Có vi phạm, khuyết điểm chưa đến mức phải kỷ luật | C22: =SUM(D22:K22) -> 0
B23: Phải thi hành kỷ luật | C23: =SUM(D23:K23) -> 0
B24: Đã thi hành kỷ luật | C24: =SUM(D24:K24) -> 0
C26: =IF(C19=C7, "Đúng", "Sai") -> Đúng | D26: =IF(D19=D7, "Đúng", "Sai") -> Đúng | E26: =IF(E19=E7, "Đúng", "Sai") -> Đúng | F26: =IF(F19=F7, "Đúng", "Sai") -> Đúng | G26: =IF(G19=G7, "Đúng", "Sai") -> Đúng | H26: =IF(H19=H7, "Đúng", "Sai") -> Đúng | I26: =IF(I19=I7, "Đúng", "Sai") -> Đúng | J26: =IF(J19=J7, "Đúng", "Sai") -> Đúng | ... T26: =IF(T19=T7, "Đúng", "Sai") -> Đúng
C27: =IF(C21=C22+C23, "Đúng", "Sai") -> Đúng | D27: =IF(D21=D22+D23, "Đúng", "Sai") -> Đúng | E27: =IF(E21=E22+E23, "Đúng", "Sai") -> Đúng | F27: =IF(F21=F22+F23, "Đúng", "Sai") -> Đúng | G27: =IF(G21=G22+G23, "Đúng", "Sai") -> Đúng | H27: =IF(H21=H22+H23, "Đúng", "Sai") -> Đúng | I27: =IF(I21=I22+I23, "Đúng", "Sai") -> Đúng | J27: =IF(J21=J22+J23, "Đúng", "Sai") -> Đúng | ... T27: =IF(T21=T22+T23, "Đúng", "Sai") -> Đúng
C28: =IF(C24<=C23,"Đúng","Sai") -> Đúng | D28: =IF(D24<=D23,"Đúng","Sai") -> Đúng | E28: =IF(E24<=E23,"Đúng","Sai") -> Đúng | F28: =IF(F24<=F23,"Đúng","Sai") -> Đúng | G28: =IF(G24<=G23,"Đúng","Sai") -> Đúng | H28: =IF(H24<=H23,"Đúng","Sai") -> Đúng | I28: =IF(I24<=I23,"Đúng","Sai") -> Đúng | J28: =IF(J24<=J23,"Đúng","Sai") -> Đúng | ... T28: =IF(T24<=T23,"Đúng","Sai") -> Đúng
C29: =IF(C20=U7, "Đúng", "Sai") -> Đúng
C30: =IF(C21=V7, "Đúng", "Sai") -> Đúng
C31: =IF(C22=W7, "Đúng", "Sai") -> Đúng
C32: =IF(C23=X7, "Đúng", "Sai") -> Đúng
C33: =IF(C24=Y7, "Đúng", "Sai") -> Đúng

Sheet B03
A1: KIỂM TRA ĐẢNG VIÊN KHI CÓ DẤU HIỆU VI PHẠM CỦA CẤP ỦY, BAN THƯỜNG VỤ CẤP ỦY VÀ CHI BỘ | S1: Biểu 03
A3: TT | B3: Đảng viên được kiểm tra | C3: Tổng số đảng viên được kiểm tra | D3: Cấp kiểm tra | J3: Nội dung kiểm tra | R3: Kết luận
D4: BCHTW, Bộ Chính trị, Ban Bí thư | E4: Tỉnh ủy, BTV tỉnh ủy và tương đương | F4: Huyện ủy, BTV HU và tương đương | G4: Đảng ủy cơ sở, BTV đảng ủy cơ sở | H4: Đảng uy bộ phận | I4: Chi bộ | J4: Việc thực hiện những điều đảng viên không được làm | K4: Tiêu chuẩn đảng viên, tiêu chuẩn cấp ủy viên | L4: Việc thực hiện nhiệm vụ đảng viên, cấp ủy viên | M4: Việc chấp hành nghị quyết, chỉ thị, quy định, kết luận của Đảng; chính sách, pháp luật của Nhà nước | N4: Việc chấp hành quy chế làm việc, nguyên tắc tập trung dân chủ, chế độ công tác | O4: Tư tưởng chính trị, đạo đức, lối sống, trách nhiệm nêu gương | P4: Kê khai tài sản, thu nhập cá nhân | Q4: Khác | R4: Số có vi phạm | S4: Trong đó
N5: Việc chấp hành nghị quyết, chỉ thị, quy định của Đảng, pháp luật của Nhà nước | S5: Phải thi hành kỷ luật | T5: Đã thi hành kỷ luật
A6: 1 | B6: 2 | C6: 3 | D6: 4 | E6: 5 | F6: 6 | G6: 7 | H6: 8 | I6: 9 | J6: 10 | K6: 11 | L6: 12 | M6: 13 | N6: 14 | O6: 15 | P6: 16 | Q6: 17 | R6: 18 | S6: 19 | T6: 20
A7: I | B7: Cấp quản lý đảng viên | C7: =SUM(C8:C11) -> 0 | D7: =SUM(D8:D11) -> 0 | E7: =SUM(E8:E11) -> 0 | F7: =SUM(F8:F11) -> 0 | G7: =SUM(G8:G11) -> 0 | H7: =SUM(H8:H11) -> 0 | I7: =SUM(I8:I11) -> 0 | J7: =SUM(J8:J11) -> 0 | ... T7: =SUM(T8:T11) -> 0 | U7: =IF(AND(J7<=C7,K7<=C7,L7<=C7,M7<=C7,N7<=C7,O7<=C7,P7<=C7,Q7<=C7,R7<=C7),"Đúng","Sai") -> Đúng | V7: =IF(AND(T7<=S7,S7<=R7),"Đúng","Sai") -> Đúng
B8: Trung ương | C8: =SUM(D8:I8) -> 0 | U8: =IF(AND(J8<=C8,K8<=C8,L8<=C8,M8<=C8,N8<=C8,O8<=C8,P8<=C8,Q8<=C8,R8<=C8),"Đúng","Sai") -> Đúng | V8: =IF(AND(T8<=S8,S8<=R8),"Đúng","Sai") -> Đúng
B9: Cấp tỉnh và tương đương | C9: =SUM(D9:I9) -> 0 | U9: =IF(AND(J9<=C9,K9<=C9,L9<=C9,M9<=C9,N9<=C9,O9<=C9,P9<=C9,Q9<=C9,R9<=C9),"Đúng","Sai") -> Đúng | V9: =IF(AND(T9<=S9,S9<=R9),"Đúng","Sai") -> Đúng
B10: Cấp huyện và tương đương | C10: =SUM(D10:I10) -> 0 | U10: =IF(AND(J10<=C10,K10<=C10,L10<=C10,M10<=C10,N10<=C10,O10<=C10,P10<=C10,Q10<=C10,R10<=C10),"Đúng","Sai") -> Đúng | V10: =IF(AND(T10<=S10,S10<=R10),"Đúng","Sai") -> Đúng
B11: Cấp cơ sở | C11: =SUM(D11:I11) -> 0 | U11: =IF(AND(J11<=C11,K11<=C11,L11<=C11,M11<=C11,N11<=C11,O11<=C11,P11<=C11,Q11<=C11,R11<=C11),"Đúng","Sai") -> Đúng | V11: =IF(AND(T11<=S11,S11<=R11),"Đúng","Sai") -> Đúng
A12: II | B12: Là cấp uỷ viên các cấp | C12: =SUM(C13:C18) -> 0 | D12: =SUM(D13:D18) -> 0 | E12: =SUM(E13:E18) -> 0 | F12: =SUM(F13:F18) -> 0 | G12: =SUM(G13:G18) -> 0 | H12: =SUM(H13:H18) -> 0 | I12: =SUM(I13:I18) -> 0 | J12: =SUM(J13:J18) -> 0 | ... T12: =SUM(T13:T18) -> 0 | U12: =IF(AND(J12<=C12,K12<=C12,L12<=C12,M12<=C12,N12<=C12,O12<=C12,P12<=C12,Q12<=C12,R12<=C12),"Đúng","Sai") -> Đúng | V12: =IF(AND(T12<=S12,S12<=R12),"Đúng","Sai") -> Đúng
B13: Uỷ viên Trung ương | C13: =SUM(D13:I13) -> 0 | U13: =IF(AND(J13<=C13,K13<=C13,L13<=C13,M13<=C13,N13<=C13,O13<=C13,P13<=C13,Q13<=C13,R13<=C13),"Đúng","Sai") -> Đúng | V13: =IF(AND(T13<=S13,S13<=R13),"Đúng","Sai") -> Đúng
B14: Tỉnh uỷ viên và tương đương | C14: =SUM(D14:I14) -> 0 | U14: =IF(AND(J14<=C14,K14<=C14,L14<=C14,M14<=C14,N14<=C14,O14<=C14,P14<=C14,Q14<=C14,R14<=C14),"Đúng","Sai") -> Đúng | V14: =IF(AND(T14<=S14,S14<=R14),"Đúng","Sai") -> Đúng
B15: Huyện uỷ viên và tương đương | C15: =SUM(D15:I15) -> 0 | U15: =IF(AND(J15<=C15,K15<=C15,L15<=C15,M15<=C15,N15<=C15,O15<=C15,P15<=C15,Q15<=C15,R15<=C15),"Đúng","Sai") -> Đúng | V15: =IF(AND(T15<=S15,S15<=R15),"Đúng","Sai") -> Đúng
B16: Đảng uỷ viên | C16: =SUM(D16:I16) -> 0 | U16: =IF(AND(J16<=C16,K16<=C16,L16<=C16,M16<=C16,N16<=C16,O16<=C16,P16<=C16,Q16<=C16,R16<=C16),"Đúng","Sai") -> Đúng | V16: =IF(AND(T16<=S16,S16<=R16),"Đúng","Sai") -> Đúng
B17: Đảng ủy viên đảng ủy bộ phận | C17: =SUM(D17:I17) -> 0 | U17: =IF(AND(J17<=C17,K17<=C17,L17<=C17,M17<=C17,N17<=C17,O17<=C17,P17<=C17,Q17<=C17,R17<=C17),"Đúng","Sai") -> Đúng | V17: =IF(AND(T17<=S17,S17<=R17),"Đúng","Sai") -> Đúng
B18: Chi uỷ viên | C18: =SUM(D18:I18) -> 0 | U18: =IF(AND(J18<=C18,K18<=C18,L18<=C18,M18<=C18,N18<=C18,O18<=C18,P18<=C18,Q18<=C18,R18<=C18),"Đúng","Sai") -> Đúng | V18: =IF(AND(T18<=S18,S18<=R18),"Đúng","Sai") -> Đúng
A19: III | B19: Đảng viên ở các lĩnh vực | C19: =SUM(C20:C26) -> 0 | D19: =SUM(D20:D26) -> 0 | E19: =SUM(E20:E26) -> 0 | F19: =SUM(F20:F26) -> 0 | G19: =SUM(G20:G26) -> 0 | H19: =SUM(H20:H26) -> 0 | I19: =SUM(I20:I26) -> 0 | J19: =SUM(J20:J26) -> 0 | ... T19: =SUM(T20:T26) -> 0 | U19: =IF(AND(J19<=C19,K19<=C19,L19<=C19,M19<=C19,N19<=C19,O19<=C19,P19<=C19,Q19<=C19,R19<=C19),"Đúng","Sai") -> Đúng | V19: =IF(AND(T19<=S19,S19<=R19),"Đúng","Sai") -> Đúng
B20: Đảng | C20: =SUM(D20:I20) -> 0 | U20: =IF(AND(J20<=C20,K20<=C20,L20<=C20,M20<=C20,N20<=C20,O20<=C20,P20<=C20,Q20<=C20,R20<=C20),"Đúng","Sai") -> Đúng | V20: =IF(AND(T20<=S20,S20<=R20),"Đúng","Sai") -> Đúng
B21: Hành chính, Nhà nước | C21: =SUM(D21:I21) -> 0 | U21: =IF(AND(J21<=C21,K21<=C21,L21<=C21,M21<=C21,N21<=C21,O21<=C21,P21<=C21,Q21<=C21,R21<=C21),"Đúng","Sai") -> Đúng | V21: =IF(AND(T21<=S21,S21<=R21),"Đúng","Sai") -> Đúng
B22: Đoàn thể | C22: =SUM(D22:I22) -> 0 | U22: =IF(AND(J22<=C22,K22<=C22,L22<=C22,M22<=C22,N22<=C22,O22<=C22,P22<=C22,Q22<=C22,R22<=C22),"Đúng","Sai") -> Đúng | V22: =IF(AND(T22<=S22,S22<=R22),"Đúng","Sai") -> Đúng
B23: Lực lượng vũ trang | C23: =SUM(D23:I23) -> 0 | U23: =IF(AND(J23<=C23,K23<=C23,L23<=C23,M23<=C23,N23<=C23,O23<=C23,P23<=C23,Q23<=C23,R23<=C23),"Đúng","Sai") -> Đúng | V23: =IF(AND(T23<=S23,S23<=R23),"Đúng","Sai") -> Đúng
B24: Sự nghiệp công lập | C24: =SUM(D24:I24) -> 0 | U24: =IF(AND(J24<=C24,K24<=C24,L24<=C24,M24<=C24,N24<=C24,O24<=C24,P24<=C24,Q24<=C24,R24<=C24),"Đúng","Sai") -> Đúng | V24: =IF(AND(T24<=S24,S24<=R24),"Đúng","Sai") -> Đúng
B25: Sản xuất kinh doanh, dịch vụ | C25: =SUM(D25:I25) -> 0 | U25: =IF(AND(J25<=C25,K25<=C25,L25<=C25,M25<=C25,N25<=C25,O25<=C25,P25<=C25,Q25<=C25,R25<=C25),"Đúng","Sai") -> Đúng | V25: =IF(AND(T25<=S25,S25<=R25),"Đúng","Sai") -> Đúng
B26: Lĩnh vực khác | C26: =SUM(D26:I26) -> 0 | U26: =IF(AND(J26<=C26,K26<=C26,L26<=C26,M26<=C26,N26<=C26,O26<=C26,P26<=C26,Q26<=C26,R26<=C26),"Đúng","Sai") -> Đúng | V26: =IF(AND(T26<=S26,S26<=R26),"Đúng","Sai") -> Đúng
A27: IV | B27: Kết luận
B28: Số có vi phạm | C28: =SUM(D28:I28) -> 0
B29: Phải thi hành kỷ luật | C29: =SUM(D29:I29) -> 0
B30: Đã thi hành kỷ luật | C30: =SUM(D30:I30) -> 0
C32: =IF(C7=C19, "Đúng", "Sai") -> Đúng | D32: =IF(D7=D19, "Đúng", "Sai") -> Đúng | E32: =IF(E7=E19, "Đúng", "Sai") -> Đúng | F32: =IF(F7=F19, "Đúng", "Sai") -> Đúng | G32: =IF(G7=G19, "Đúng", "Sai") -> Đúng | H32: =IF(H7=H19, "Đúng", "Sai") -> Đúng | I32: =IF(I7=I19, "Đúng", "Sai") -> Đúng | J32: =IF(J7=J19, "Đúng", "Sai") -> Đúng | ... T32: =IF(T7=T19, "Đúng", "Sai") -> Đúng
C33: =IF(AND(C30<=C29,C29<=C28,C28<=C7),"Đúng","Sai") -> Đúng | D33: =IF(AND(D30<=D29,D29<=D28,D28<=D7),"Đúng","Sai") -> Đúng | E33: =IF(AND(E30<=E29,E29<=E28,E28<=E7),"Đúng","Sai") -> Đúng | F33: =IF(AND(F30<=F29,F29<=F28,F28<=F7),"Đúng","Sai") -> Đúng | G33: =IF(AND(G30<=G29,G29<=G28,G28<=G7),"Đúng","Sai") -> Đúng | H33: =IF(AND(H30<=H29,H29<=H28,H28<=H7),"Đúng","Sai") -> Đúng | I33: =IF(AND(I30<=I29,I29<=I28,I28<=I7),"Đúng","Sai") -> Đúng | J33: =IF(AND(J30<=J29,J29<=J28,J28<=J7),"Đúng","Sai") -> Đúng | ... Q33: =IF(AND(Q30<=Q29,Q29<=Q28,Q28<=Q7),"Đúng","Sai") -> Đúng
C34: =IF(R7=C28, "Đúng", "Sai") -> Đúng
C35: =IF(S7=C29, "Đúng", "Sai") -> Đúng
C36: =IF(T7=C30, "Đúng", "Sai") -> Đúng

Sheet B04
A1: KIỂM TRA TỔ CHỨC ĐẢNG KHI CÓ DẤU HIỆU VI PHẠM CỦA CẤP ỦY, BAN THƯỜNG VỤ CẤP ỦY | R1: Biểu 04
A3: TT | B3: Tổ chức đảng được kiểm tra | C3: Tổng số tổ chức đảng được kiểm tra | D3: Cấp kiểm tra | H3: Nội dung kiểm tra | Q3: Kết luận
D4: BCHTW, Bộ Chính trị, Ban Bí thư | E4: Tỉnh ủy, BTV tỉnh ủy và tương đương | F4: Huyện ủy, BTV HU và tương đương | G4: Đảng ủy cơ sở, BTV đảng ủy cơ sở | H4: Việc chấp hành Cương lĩnh chính trị, Điều lệ Đảng, chủ trương, nghị quyết, chỉ thị, quy định, quyết định, quy chế, kết luận, hướng dẫn của Đảng | I4: Việc chấp hành chính sách, pháp luật của Nhà nước | J4: Việc chấp hành các nguyên tắc tổ chức và hoạt động của Đảng, giữ gìn đoàn kết nội bộ, quy chế làm việc, chế độ công tác, thực hiện dân chủ trong Đảng | K4: Việc lãnh đạo, chỉ đạo thực hành tiết kiệm; phòng, chống tham nhũng, lãng phí; quản lý, tèn luyện phẩm chất, đạo đức, lối sống của đảng viên | L4: Việc lãnh đạo, chỉ đạo và tổ chức thực hiện cải cách hành chính, cải cách tư pháp | M4: Việc lãnh đạo, chỉ đạo các cơ quan bảo vệ pháp luật trong công tác điều tra, truy tố, xét xử, thi hành án | N4: Công tác cán bộ | O4: Giải quyết khiếu nại, tố cáo | P4: Khác | Q4: Số có vi phạm | R4: Trong đó
R5: Phải thi hành kỷ luật | S5: Đã thi hành kỷ luật
A6: 1 | B6: 2 | C6: 3 | D6: 4 | E6: 5 | F6: 6 | G6: 7 | H6: 8 | I6: 9 | J6: 10 | K6: 11 | L6: 12 | M6: 13 | N6: 14 | O6: 15 | P6: 16 | Q6: 17 | R6: 18 | S6: 19
A7: I | B7: Tổ chức đảng được kiểm tra | C7: =SUM(C8:C18) -> 0 | D7: =SUM(D8:D18) -> 0 | E7: =SUM(E8:E18) -> 0 | F7: =SUM(F8:F18) -> 0 | G7: =SUM(G8:G18) -> 0 | H7: =SUM(H8:H18) -> 0 | I7: =SUM(I8:I18) -> 0 | J7: =SUM(J8:J18) -> 0 | ... S7: =SUM(S8:S18) -> 0 | T7: =IF(AND(H7<=C7,I7<=C7,J7<=C7,K7<=C7,L7<=C7,M7<=C7,N7<=C7,O7<=C7,P7<=C7,Q7<=C7),"Đúng","Sai") -> Đúng | U7: =IF(AND(S7<=R7,R7<=Q7),"Đúng","Sai") -> Đúng
B8: BCS đảng, đảng đoàn ở TW | C8: =SUM(D8:G8) -> 0 | T8: =IF(AND(H8<=C8,I8<=C8,J8<=C8,K8<=C8,L8<=C8,M8<=C8,N8<=C8,O8<=C8,P8<=C8,Q8<=C8),"Đúng","Sai") -> Đúng | U8: =IF(AND(S8<=R8,R8<=Q8),"Đúng","Sai") -> Đúng
B9: Các CQ tham mưu của Trung ương | C9: =SUM(D9:G9) -> 0 | T9: =IF(AND(H9<=C9,I9<=C9,J9<=C9,K9<=C9,L9<=C9,M9<=C9,N9<=C9,O9<=C9,P9<=C9,Q9<=C9),"Đúng","Sai") -> Đúng | U9: =IF(AND(S9<=R9,R9<=Q9),"Đúng","Sai") -> Đúng
B10: Tỉnh ủy, BTV, Thường trực tỉnh ủy và tương đương | C10: =SUM(D10:G10) -> 0 | T10: =IF(AND(H10<=C10,I10<=C10,J10<=C10,K10<=C10,L10<=C10,M10<=C10,N10<=C10,O10<=C10,P10<=C10,Q10<=C10),"Đúng","Sai") -> Đúng | U10: =IF(AND(S10<=R10,R10<=Q10),"Đúng","Sai") -> Đúng
B11: BCS đảng, đảng đoàn cấp tỉnh và tương đương | C11: =SUM(D11:G11) -> 0 | T11: =IF(AND(H11<=C11,I11<=C11,J11<=C11,K11<=C11,L11<=C11,M11<=C11,N11<=C11,O11<=C11,P11<=C11,Q11<=C11),"Đúng","Sai") -> Đúng | U11: =IF(AND(S11<=R11,R11<=Q11),"Đúng","Sai") -> Đúng
B12: Các CQ tham mưu của cấp ủy tỉnh và tương đương | C12: =SUM(D12:G12) -> 0 | T12: =IF(AND(H12<=C12,I12<=C12,J12<=C12,K12<=C12,L12<=C12,M12<=C12,N12<=C12,O12<=C12,P12<=C12,Q12<=C12),"Đúng","Sai") -> Đúng | U12: =IF(AND(S12<=R12,R12<=Q12),"Đúng","Sai") -> Đúng
B13: Huyện ủy, BTV, Thường trực huyện ủy và tương đương | C13: =SUM(D13:G13) -> 0 | T13: =IF(AND(H13<=C13,I13<=C13,J13<=C13,K13<=C13,L13<=C13,M13<=C13,N13<=C13,O13<=C13,P13<=C13,Q13<=C13),"Đúng","Sai") -> Đúng | U13: =IF(AND(S13<=R13,R13<=Q13),"Đúng","Sai") -> Đúng
B14: Các CQ tham mưu của cấp ủy huyện và tương đương | C14: =SUM(D14:G14) -> 0 | T14: =IF(AND(H14<=C14,I14<=C14,J14<=C14,K14<=C14,L14<=C14,M14<=C14,N14<=C14,O14<=C14,P14<=C14,Q14<=C14),"Đúng","Sai") -> Đúng | U14: =IF(AND(S14<=R14,R14<=Q14),"Đúng","Sai") -> Đúng
B15: Đảng ủy cơ sở, BTV đảng ủy cơ sở | C15: =SUM(D15:G15) -> 0 | T15: =IF(AND(H15<=C15,I15<=C15,J15<=C15,K15<=C15,L15<=C15,M15<=C15,N15<=C15,O15<=C15,P15<=C15,Q15<=C15),"Đúng","Sai") -> Đúng | U15: =IF(AND(S15<=R15,R15<=Q15),"Đúng","Sai") -> Đúng
B16: Đảng ủy bộ phận | C16: =SUM(D16:G16) -> 0 | T16: =IF(AND(H16<=C16,I16<=C16,J16<=C16,K16<=C16,L16<=C16,M16<=C16,N16<=C16,O16<=C16,P16<=C16,Q16<=C16),"Đúng","Sai") -> Đúng | U16: =IF(AND(S16<=R16,R16<=Q16),"Đúng","Sai") -> Đúng
B17: Chi bộ, Chi ủy | C17: =SUM(D17:G17) -> 0 | T17: =IF(AND(H17<=C17,I17<=C17,J17<=C17,K17<=C17,L17<=C17,M17<=C17,N17<=C17,O17<=C17,P17<=C17,Q17<=C17),"Đúng","Sai") -> Đúng | U17: =IF(AND(S17<=R17,R17<=Q17),"Đúng","Sai") -> Đúng
B18: Khác (ban chỉ đạo, tiểu ban, hội đồng, tổ đảng,...) | C18: =SUM(D18:G18) -> 0 | T18: =IF(AND(H18<=C18,I18<=C18,J18<=C18,K18<=C18,L18<=C18,M18<=C18,N18<=C18,O18<=C18,P18<=C18,Q18<=C18),"Đúng","Sai") -> Đúng | U18: =IF(AND(S18<=R18,R18<=Q18),"Đúng","Sai") -> Đúng
A19: II | B19: Kết luận
B20: Số có vi phạm | C20: =SUM(D20:G20) -> 0
B21: Phải thi hành kỷ luật | C21: =SUM(D21:G21) -> 0
B22: Đã thi hành kỷ luật | C22: =SUM(D22:G22) -> 0
C23: =IF(AND(C22<=C21,C21<=C20,C20<=C7),"Đúng","Sai") -> Đúng | D23: =IF(AND(D22<=D21,D21<=D20,D20<=D7),"Đúng","Sai") -> Đúng | E23: =IF(AND(E22<=E21,E21<=E20,E20<=E7),"Đúng","Sai") -> Đúng | F23: =IF(AND(F22<=F21,F21<=F20,F20<=F7),"Đúng","Sai") -> Đúng | G23: =IF(AND(G22<=G21,G21<=G20,G20<=G7),"Đúng","Sai") -> Đúng | H23: =IF(AND(H22<=H21,H21<=H20,H20<=H7),"Đúng","Sai") -> Đúng | I23: =IF(AND(I22<=I21,I21<=I20,I20<=I7),"Đúng","Sai") -> Đúng | J23: =IF(AND(J22<=J21,J21<=J20,J20<=J7),"Đúng","Sai") -> Đúng | ... P23: =IF(AND(P22<=P21,P21<=P20,P20<=P7),"Đúng","Sai") -> Đúng
C24: =IF(Q7=C20, "Đúng", "Sai") -> Đúng
C25: =IF(R7=C21, "Đúng", "Sai") -> Đúng
C26: =IF(S7=C22, "Đúng", "Sai") -> Đúng

Sheet B05
A1: GIÁM SÁT ĐẢNG VIÊN THEO ĐIỀU 30 ĐIỀU LỆ ĐẢNG | V1: Biểu 05
A2: (Giám sát theo chuyên đề) | V2: (ĐVT: đảng viên)
A3: TT | B3: Đảng viên được giám sát | C3: Tổng số đảng viên được giám sát | D3: Cấp giám sát | M3: Nội dung | U3: Kết quả
D4: BCH TW, Bộ Chính trị, Ban Bí thư | E4: Các CQ tham mưu của Trung ương | F4: Tỉnh ủy, BTV tỉnh uỷ và tương đương | G4: Các CQ tham mưu của cấp ủy tỉnh và tương đương | H4: Huyện ủy, BTV HU và tương đương | I4: Các CQ tham mưu của cấp ủy huyện và tương đương | J4: Đảng ủy cơ sở, BTV đảng ủy cơ sở | K4: Đảng ủy bộ phận | L4: Chi bộ | M4: Việc thực hiện những điều đảng viên không được làm | N4: Tiêu chuẩn đảng viên, tiêu chuẩn cấp ủy viên | O4: Việc thực hiện nhiệm vụ đảng viên, nhiệm vụ cấp ủy viên | P4: Việc chấp hành nghị quyết, chỉ thị, quy định, kết luận của Đảng; chính sách, pháp luật của Nhà nước | Q4: Việc chấp hành quy chế làm việc, nguyên tắc tập trung dân chủ, chế độ công tác | R4: Tư tưởng chính trị, giữ gìn đạo đức, lối sống, trách nhiệm nêu gương | S4: Kê khai tài sản, thu nhập cá nhân | T4: Khác | U4: Số đảng viên thực hiện tốt | V4: Số đảng viên có vi phạm, khuyết điểm | W4: Số đảng viên chuyển kiểm tra khi có dấu hiệu vi phạm
A5: 1 | B5: 2 | C5: 3 | D5: 4 | E5: 5 | F5: 6 | G5: 7 | H5: 8 | I5: 9 | J5: 10 | K5: 11 | L5: 12 | M5: 13 | N5: 14 | O5: 15 | P5: 16 | Q5: 17 | R5: 18 | S5: 19 | T5: 20 | U5: 21 | V5: 22 | W5: 23
A6: I | B6: Cấp quản lý đảng viên | C6: =SUM(C7:C10) -> 0 | D6: =SUM(D7:D10) -> 0 | E6: =SUM(E7:E10) -> 0 | F6: =SUM(F7:F10) -> 0 | G6: =SUM(G7:G10) -> 0 | H6: =SUM(H7:H10) -> 0 | I6: =SUM(I7:I10) -> 0 | J6: =SUM(J7:J10) -> 0 | ... W6: =SUM(W7:W10) -> 0 | X6: =IF(AND(M6<=C6,N6<=C6,O6<=C6,P6<=C6,Q6<=C6,R6<=C6,S6<=C6,T6<=C6),"Đúng","Sai") -> Đúng | Y6: =IF(C6=U6+V6,"Đúng","Sai") -> Đúng | Z6: =IF(W6<=V6,"Đúng","Sai") -> Đúng
B7: Trung ương | C7: =SUM(D7:L7) -> 0 | X7: =IF(AND(M7<=C7,N7<=C7,O7<=C7,P7<=C7,Q7<=C7,R7<=C7,S7<=C7,T7<=C7),"Đúng","Sai") -> Đúng | Y7: =IF(C7=U7+V7,"Đúng","Sai") -> Đúng | Z7: =IF(W7<=V7,"Đúng","Sai") -> Đúng
B8: Cấp tỉnh và tương đương | C8: =SUM(D8:L8) -> 0 | X8: =IF(AND(M8<=C8,N8<=C8,O8<=C8,P8<=C8,Q8<=C8,R8<=C8,S8<=C8,T8<=C8),"Đúng","Sai") -> Đúng | Y8: =IF(C8=U8+V8,"Đúng","Sai") -> Đúng | Z8: =IF(W8<=V8,"Đúng","Sai") -> Đúng
B9: Cấp huyện và tương đương | C9: =SUM(D9:L9) -> 0 | X9: =IF(AND(M9<=C9,N9<=C9,O9<=C9,P9<=C9,Q9<=C9,R9<=C9,S9<=C9,T9<=C9),"Đúng","Sai") -> Đúng | Y9: =IF(C9=U9+V9,"Đúng","Sai") -> Đúng | Z9: =IF(W9<=V9,"Đúng","Sai") -> Đúng
B10: Cấp cơ sở | C10: =SUM(D10:L10) -> 0 | X10: =IF(AND(M10<=C10,N10<=C10,O10<=C10,P10<=C10,Q10<=C10,R10<=C10,S10<=C10,T10<=C10),"Đúng","Sai") -> Đúng | Y10: =IF(C10=U10+V10,"Đúng","Sai") -> Đúng | Z10: =IF(W10<=V10,"Đúng","Sai") -> Đúng
A11: II | B11: Cấp ủy viên các cấp | C11: =C12+C13+C16+C19+C20+C21 -> 0 | D11: =D12+D13+D16+D19+D20+D21 -> 0 | E11: =E12+E13+E16+E19+E20+E21 -> 0 | F11: =F12+F13+F16+F19+F20+F21 -> 0 | G11: =G12+G13+G16+G19+G20+G21 -> 0 | H11: =H12+H13+H16+H19+H20+H21 -> 0 | I11: =I12+I13+I16+I19+I20+I21 -> 0 | J11: =J12+J13+J16+J19+J20+J21 -> 0 | ... W11: =W12+W13+W16+W19+W20+W21 -> 0 | X11: =IF(AND(M11<=C11,N11<=C11,O11<=C11,P11<=C11,Q11<=C11,R11<=C11,S11<=C11,T11<=C11),"Đúng","Sai") -> Đúng | Y11: =IF(C11=U11+V11,"Đúng","Sai") -> Đúng | Z11: =IF(W11<=V11,"Đúng","Sai") -> Đúng
B12: Uỷ viên Trung ương | C12: =SUM(D12:L12) -> 0 | X12: =IF(AND(M12<=C12,N12<=C12,O12<=C12,P12<=C12,Q12<=C12,R12<=C12,S12<=C12,T12<=C12),"Đúng","Sai") -> Đúng | Y12: =IF(C12=U12+V12,"Đúng","Sai") -> Đúng | Z12: =IF(W12<=V12,"Đúng","Sai") -> Đúng
B13: Tỉnh ủy viên và tương đương | C13: =SUM(D13:L13) -> 0 | X13: =IF(AND(M13<=C13,N13<=C13,O13<=C13,P13<=C13,Q13<=C13,R13<=C13,S13<=C13,T13<=C13),"Đúng","Sai") -> Đúng | Y13: =IF(C13=U13+V13,"Đúng","Sai") -> Đúng | Z13: =IF(W13<=V13,"Đúng","Sai") -> Đúng
B14: Trong đó: Bí thư | C14: =SUM(D14:L14) -> 0 | X14: =IF(AND(M14<=C14,N14<=C14,O14<=C14,P14<=C14,Q14<=C14,R14<=C14,S14<=C14,T14<=C14),"Đúng","Sai") -> Đúng | Y14: =IF(C14=U14+V14,"Đúng","Sai") -> Đúng | Z14: =IF(W14<=V14,"Đúng","Sai") -> Đúng
B15: Phó Bí thư | C15: =SUM(D15:L15) -> 0 | X15: =IF(AND(M15<=C15,N15<=C15,O15<=C15,P15<=C15,Q15<=C15,R15<=C15,S15<=C15,T15<=C15),"Đúng","Sai") -> Đúng | Y15: =IF(C15=U15+V15,"Đúng","Sai") -> Đúng | Z15: =IF(W15<=V15,"Đúng","Sai") -> Đúng
B16: Huyện ủy viên và tương đương | C16: =SUM(D16:L16) -> 0 | X16: =IF(AND(M16<=C16,N16<=C16,O16<=C16,P16<=C16,Q16<=C16,R16<=C16,S16<=C16,T16<=C16),"Đúng","Sai") -> Đúng | Y16: =IF(C16=U16+V16,"Đúng","Sai") -> Đúng | Z16: =IF(W16<=V16,"Đúng","Sai") -> Đúng
B17: Trong đó: Bí thư | C17: =SUM(D17:L17) -> 0 | X17: =IF(AND(M17<=C17,N17<=C17,O17<=C17,P17<=C17,Q17<=C17,R17<=C17,S17<=C17,T17<=C17),"Đúng","Sai") -> Đúng | Y17: =IF(C17=U17+V17,"Đúng","Sai") -> Đúng | Z17: =IF(W17<=V17,"Đúng","Sai") -> Đúng
B18: Phó Bí thư | C18: =SUM(D18:L18) -> 0 | X18: =IF(AND(M18<=C18,N18<=C18,O18<=C18,P18<=C18,Q18<=C18,R18<=C18,S18<=C18,T18<=C18),"Đúng","Sai") -> Đúng | Y18: =IF(C18=U18+V18,"Đúng","Sai") -> Đúng | Z18: =IF(W18<=V18,"Đúng","Sai") -> Đúng
B19: Đảng uỷ viên | C19: =SUM(D19:L19) -> 0 | X19: =IF(AND(M19<=C19,N19<=C19,O19<=C19,P19<=C19,Q19<=C19,R19<=C19,S19<=C19,T19<=C19),"Đúng","Sai") -> Đúng | Y19: =IF(C19=U19+V19,"Đúng","Sai") -> Đúng | Z19: =IF(W19<=V19,"Đúng","Sai") -> Đúng
B20: Đảng ủy viên đảng ủy bộ phận | C20: =SUM(D20:L20) -> 0 | X20: =IF(AND(M20<=C20,N20<=C20,O20<=C20,P20<=C20,Q20<=C20,R20<=C20,S20<=C20,T20<=C20),"Đúng","Sai") -> Đúng | Y20: =IF(C20=U20+V20,"Đúng","Sai") -> Đúng | Z20: =IF(W20<=V20,"Đúng","Sai") -> Đúng
B21: Chi uỷ viên | C21: =SUM(D21:L21) -> 0 | X21: =IF(AND(M21<=C21,N21<=C21,O21<=C21,P21<=C21,Q21<=C21,R21<=C21,S21<=C21,T21<=C21),"Đúng","Sai") -> Đúng | Y21: =IF(C21=U21+V21,"Đúng","Sai") -> Đúng | Z21: =IF(W21<=V21,"Đúng","Sai") -> Đúng
A22: III | B22: Đảng viên ở các lĩnh vực | C22: =SUM(C23:C29) -> 0 | D22: =SUM(D23:D29) -> 0 | E22: =SUM(E23:E29) -> 0 | F22: =SUM(F23:F29) -> 0 | G22: =SUM(G23:G29) -> 0 | H22: =SUM(H23:H29) -> 0 | I22: =SUM(I23:I29) -> 0 | J22: =SUM(J23:J29) -> 0 | ... W22: =SUM(W23:W29) -> 0 | X22: =IF(AND(M22<=C22,N22<=C22,O22<=C22,P22<=C22,Q22<=C22,R22<=C22,S22<=C22,T22<=C22),"Đúng","Sai") -> Đúng | Y22: =IF(C22=U22+V22,"Đúng","Sai") -> Đúng | Z22: =IF(W22<=V22,"Đúng","Sai") -> Đúng
B23: Đảng | C23: =SUM(D23:L23) -> 0 | X23: =IF(AND(M23<=C23,N23<=C23,O23<=C23,P23<=C23,Q23<=C23,R23<=C23,S23<=C23,T23<=C23),"Đúng","Sai") -> Đúng | Y23: =IF(C23=U23+V23,"Đúng","Sai") -> Đúng | Z23: =IF(W23<=V23,"Đúng","Sai") -> Đúng
B24: Hành chính, Nhà nước | C24: =SUM(D24:L24) -> 0 | X24: =IF(AND(M24<=C24,N24<=C24,O24<=C24,P24<=C24,Q24<=C24,R24<=C24,S24<=C24,T24<=C24),"Đúng","Sai") -> Đúng | Y24: =IF(C24=U24+V24,"Đúng","Sai") -> Đúng | Z24: =IF(W24<=V24,"Đúng","Sai") -> Đúng
B25: Đoàn thể | C25: =SUM(D25:L25) -> 0 | X25: =IF(AND(M25<=C25,N25<=C25,O25<=C25,P25<=C25,Q25<=C25,R25<=C25,S25<=C25,T25<=C25),"Đúng","Sai") -> Đúng | Y25: =IF(C25=U25+V25,"Đúng","Sai") -> Đúng | Z25: =IF(W25<=V25,"Đúng","Sai") -> Đúng
B26: Lực lượng vũ trang | C26: =SUM(D26:L26) -> 0 | X26: =IF(AND(M26<=C26,N26<=C26,O26<=C26,P26<=C26,Q26<=C26,R26<=C26,S26<=C26,T26<=C26),"Đúng","Sai") -> Đúng | Y26: =IF(C26=U26+V26,"Đúng","Sai") -> Đúng | Z26: =IF(W26<=V26,"Đúng","Sai") -> Đúng
B27: Sự nghiệp công lập | C27: =SUM(D27:L27) -> 0 | X27: =IF(AND(M27<=C27,N27<=C27,O27<=C27,P27<=C27,Q27<=C27,R27<=C27,S27<=C27,T27<=C27),"Đúng","Sai") -> Đúng | Y27: =IF(C27=U27+V27,"Đúng","Sai") -> Đúng | Z27: =IF(W27<=V27,"Đúng","Sai") -> Đúng
B28: Sản xuất kinh doanh, dịch vụ | C28: =SUM(D28:L28) -> 0 | X28: =IF(AND(M28<=C28,N28<=C28,O28<=C28,P28<=C28,Q28<=C28,R28<=C28,S28<=C28,T28<=C28),"Đúng","Sai") -> Đúng | Y28: =IF(C28=U28+V28,"Đúng","Sai") -> Đúng | Z28: =IF(W28<=V28,"Đúng","Sai") -> Đúng
B29: Các lĩnh vực khác | C29: =SUM(D29:L29) -> 0 | X29: =IF(AND(M29<=C29,N29<=C29,O29<=C29,P29<=C29,Q29<=C29,R29<=C29,S29<=C29,T29<=C29),"Đúng","Sai") -> Đúng | Y29: =IF(C29=U29+V29,"Đúng","Sai") -> Đúng | Z29: =IF(W29<=V29,"Đúng","Sai") -> Đúng
C31: =IF(C6=C22, "Đúng", "Sai") -> Đúng | D31: =IF(D6=D22, "Đúng", "Sai") -> Đúng | E31: =IF(E6=E22, "Đúng", "Sai") -> Đúng | F31: =IF(F6=F22, "Đúng", "Sai") -> Đúng | G31: =IF(G6=G22, "Đúng", "Sai") -> Đúng | H31: =IF(H6=H22, "Đúng", "Sai") -> Đúng | I31: =IF(I6=I22, "Đúng", "Sai") -> Đúng | J31: =IF(J6=J22, "Đúng", "Sai") -> Đúng | ... W31: =IF(W6=W22, "Đúng", "Sai") -> Đúng

Sheet B06
A1: GIÁM SÁT TỔ CHỨC ĐẢNG THEO ĐIỀU 30 ĐIỀU LỆ ĐẢNG | W1: Biểu 06
A2: (Giám sát theo chuyên đề) | T2: (ĐVT: Tổ chức đảng)
A3: TT | B3: Tổ chức đảng được giám sát | C3: Tổng số tổ chức đảng được giám sát | D3: Cấp giám sát | L3: Nội dung | V3: Kết quả
D4: BCH Trung ương, Bộ Chính trị, BBT | E4: Các CQ tham mưu của Trung ương | F4: Tỉnh uỷ, BTV tỉnh uỷ và tương đương | G4: Các CQ tham mưu của cấp ủy tỉnh và tương đương | H4: Huyện uỷ, BTV HU và tương đương | I4: Các CQ tham mưu của cấp ủy huyện và tương đương | J4: Đảng ủy cơ sở, BTV Đảng ủy cơ sở | K4: Đảng ủy bộ phận | L4: Việc chấp hành Cương lĩnh chính trị, Điều lệ Đảng, chủ trương, nghị quyết, chỉ thị, quy định, quyết định, quy chế, kết luận, hướng dẫn của Đảng | M4: Việc chấp hành chính sách, pháp luật của Nhà nước | N4: Việc chấp hành các nguyên tắc tổ chức và hoạt động của Đảng, giữ gìn đoàn kết nội bộ, quy chế làm việc, chế độ công tác, thực hiện dân chủ trong Đảng | O4: Việc lãnh đạo, chỉ đạo thực hành tiết kiệm; phòng, chống tham nhũng, lãng phí; quản lý, rèn luyện phẩm chất, đạo đức, lối sống của đảng viên | P4: Việc lãnh đạo, chỉ đạo và tổ chức thực hiện cải cách hành chính, cải cách tư pháp | Q4: Việc lãnh đạo, chỉ đạo các cơ quan bảo vệ pháp luật trong công tác điều tra, truy tố, xét xử, thi hành án | R4: Việc thực hiện chức năng, nhiệm vụ, quyền hạn thuộc lĩnh vực phụ trách và những nội dung do cấp ủy giao | S4: Công tác cán bộ | T4: Giải quyết khiếu nại, tố cáo | U4: Khác | V4: Số tổ chức đảng thực hiện tốt | W4: Số tổ chức đảng có vi phạm, khuyết điểm | X4: Số tổ chức đảng chuyển kiểm tra khi có dấu hiệu vi phạm
A5: 1 | B5: 2 | C5: 3 | D5: 4 | E5: 5 | F5: 6 | G5: 7 | H5: 8 | I5: 9 | J5: 10 | K5: 11 | L5: 12 | M5: 13 | N5: 14 | O5: 15 | P5: 16 | Q5: 17 | R5: 18 | S5: 19 | T5: 20 | U5: 21 | V5: 22 | W5: 23 | X5: 24
B6: BCS đảng, đảng đoàn ở Trung ương | C6: =SUM(D6:K6) -> 0 | Y6: =IF(AND(L6<=C6,M6<=C6,N6<=C6,O6<=C6,P6<=C6,Q6<=C6,R6<=C6,S6<=C6,T6<=C6,U6<=C6),"Đúng","Sai") -> Đúng | Z6: =IF(C6=V6+W6,"Đúng","Sai") -> Đúng | AA6: =IF(X6<=W6,"Đúng","Sai") -> Đúng
B7: Các CQ tham mưu của Trung ương | C7: =SUM(D7:K7) -> 0 | Y7: =IF(AND(L7<=C7,M7<=C7,N7<=C7,O7<=C7,P7<=C7,Q7<=C7,R7<=C7,S7<=C7,T7<=C7,U7<=C7),"Đúng","Sai") -> Đúng | Z7: =IF(C7=V7+W7,"Đúng","Sai") -> Đúng | AA7: =IF(X7<=W7,"Đúng","Sai") -> Đúng
B8: Tỉnh ủy, BTV, thường trực tỉnh ủy và tương đương | C8: =SUM(D8:K8) -> 0 | Y8: =IF(AND(L8<=C8,M8<=C8,N8<=C8,O8<=C8,P8<=C8,Q8<=C8,R8<=C8,S8<=C8,T8<=C8,U8<=C8),"Đúng","Sai") -> Đúng | Z8: =IF(C8=V8+W8,"Đúng","Sai") -> Đúng | AA8: =IF(X8<=W8,"Đúng","Sai") -> Đúng
B9: BCS đảng, đảng đoàn cấp tỉnh và tương đương | C9: =SUM(D9:K9) -> 0 | Y9: =IF(AND(L9<=C9,M9<=C9,N9<=C9,O9<=C9,P9<=C9,Q9<=C9,R9<=C9,S9<=C9,T9<=C9,U9<=C9),"Đúng","Sai") -> Đúng | Z9: =IF(C9=V9+W9,"Đúng","Sai") -> Đúng | AA9: =IF(X9<=W9,"Đúng","Sai") -> Đúng
B10: Các CQ tham mưu của cấp ủy tỉnh và tương đương | C10: =SUM(D10:K10) -> 0 | Y10: =IF(AND(L10<=C10,M10<=C10,N10<=C10,O10<=C10,P10<=C10,Q10<=C10,R10<=C10,S10<=C10,T10<=C10,U10<=C10),"Đúng","Sai") -> Đúng | Z10: =IF(C10=V10+W10,"Đúng","Sai") -> Đúng | AA10: =IF(X10<=W10,"Đúng","Sai") -> Đúng
B11: Huyện ủy, BTV, thường trực huyện ủy và tương đương | C11: =SUM(D11:K11) -> 0 | Y11: =IF(AND(L11<=C11,M11<=C11,N11<=C11,O11<=C11,P11<=C11,Q11<=C11,R11<=C11,S11<=C11,T11<=C11,U11<=C11),"Đúng","Sai") -> Đúng | Z11: =IF(C11=V11+W11,"Đúng","Sai") -> Đúng | AA11: =IF(X11<=W11,"Đúng","Sai") -> Đúng
B12: Các CQ tham mưu của cấp ủy huyện và tương đương | C12: =SUM(D12:K12) -> 0 | Y12: =IF(AND(L12<=C12,M12<=C12,N12<=C12,O12<=C12,P12<=C12,Q12<=C12,R12<=C12,S12<=C12,T12<=C12,U12<=C12),"Đúng","Sai") -> Đúng | Z12: =IF(C12=V12+W12,"Đúng","Sai") -> Đúng | AA12: =IF(X12<=W12,"Đúng","Sai") -> Đúng
B13: Đảng ủy cơ sở, BTV Đảng ủy cơ sở | C13: =SUM(D13:K13) -> 0 | Y13: =IF(AND(L13<=C13,M13<=C13,N13<=C13,O13<=C13,P13<=C13,Q13<=C13,R13<=C13,S13<=C13,T13<=C13,U13<=C13),"Đúng","Sai") -> Đúng | Z13: =IF(C13=V13+W13,"Đúng","Sai") -> Đúng | AA13: =IF(X13<=W13,"Đúng","Sai") -> Đúng
B14: Đảng ủy bộ phận | C14: =SUM(D14:K14) -> 0 | Y14: =IF(AND(L14<=C14,M14<=C14,N14<=C14,O14<=C14,P14<=C14,Q14<=C14,R14<=C14,S14<=C14,T14<=C14,U14<=C14),"Đúng","Sai") -> Đúng | Z14: =IF(C14=V14+W14,"Đúng","Sai") -> Đúng | AA14: =IF(X14<=W14,"Đúng","Sai") -> Đúng
B15: Chi bộ, Chi ủy | C15: =SUM(D15:K15) -> 0 | Y15: =IF(AND(L15<=C15,M15<=C15,N15<=C15,O15<=C15,P15<=C15,Q15<=C15,R15<=C15,S15<=C15,T15<=C15,U15<=C15),"Đúng","Sai") -> Đúng | Z15: =IF(C15=V15+W15,"Đúng","Sai") -> Đúng | AA15: =IF(X15<=W15,"Đúng","Sai") -> Đúng
B16: Khác (Ban Chỉ đạo, tiểu ban, hội đồng, tổ đảng...) | C16: =SUM(D16:K16) -> 0 | Y16: =IF(AND(L16<=C16,M16<=C16,N16<=C16,O16<=C16,P16<=C16,Q16<=C16,R16<=C16,S16<=C16,T16<=C16,U16<=C16),"Đúng","Sai") -> Đúng | Z16: =IF(C16=V16+W16,"Đúng","Sai") -> Đúng | AA16: =IF(X16<=W16,"Đúng","Sai") -> Đúng
A17: I | B17: Cộng | C17: =SUM(C6:C16) -> 0 | D17: =SUM(D6:D16) -> 0 | E17: =SUM(E6:E16) -> 0 | F17: =SUM(F6:F16) -> 0 | G17: =SUM(G6:G16) -> 0 | H17: =SUM(H6:H16) -> 0 | I17: =SUM(I6:I16) -> 0 | J17: =SUM(J6:J16) -> 0 | ... X17: =SUM(X6:X16) -> 0 | Y17: =IF(AND(L17<=C17,M17<=C17,N17<=C17,O17<=C17,P17<=C17,Q17<=C17,R17<=C17,S17<=C17,T17<=C17,U17<=C17),"Đúng","Sai") -> Đúng | Z17: =IF(C17=V17+W17,"Đúng","Sai") -> Đúng | AA17: =IF(X17<=W17,"Đúng","Sai") -> Đúng

Sheet B07
A1: THI HÀNH KỶ LUẬT ĐẢNG VIÊN CỦA CẤP ỦY CÁC CẤP VÀ CHI BỘ | Y1: Biểu 07
Y2: (ĐVT: lượt đảng viên)
A3: TT | B3: Đảng viên bị thi hành kỷ luật | C3: Tổng số đảng viên bị THKL | D3: Hình thức kỷ luật | H3: Đình chỉ sinh hoạt đảng | I3: Đình chỉ sinh hoạt cấp ủy viên | J3: Xóa tên, cho rút | K3: Cấp thi hành kỷ luật | P3: Nội dung vi phạm | Y3: Xử lý pháp luật | AB3: Xử lý hành chính
D4: Khiển trách | E4: Cảnh cáo | F4: Cách chức | G4: Khai trừ | K4: BCHTW, Bộ Chính trị, Ban Bí thư | L4: Tỉnh uỷ, BTV tỉnh uỷ và tương đương | M4: Huyện uỷ, BTV HU và tương đương | N4: Đảng uỷ cơ sở , BTV đảng ủy cơ sở | O4: Chi bộ | P4: Những điều đảng viên không được làm | Q4: Tiêu chuẩn đảng viên, tiêu chuẩn cấp ủy viên | R4: Việc thực hiện nhiệm vụ đảng viên, cấp ủy viên | S4: Việc chấp hành nghị quyết, chỉ thị, quy định, kết luận của Đảng; chính sách, pháp luật của Nhà nước | T4: Việc chấp hành quy chế làm việc, nguyên tắc tập trung dân chủ, chế độ công tác | U4: Tư tưởng chính trị, đạo đức, lối sống, trách nhiệm nêu gương | V4: Tham nhũng, tiêu cực, lãng phí | W4: Kê khai tài sản, thu nhập cá nhân | X4: Khác | Y4: Số lượng | Z4: Trong đó
Z5: Bị phạt tù (kể cả án treo) | AA5: Hình thức khác
A6: 1 | B6: 2 | C6: 3 | D6: 4 | E6: 5 | F6: 6 | G6: 7 | H6: 8 | I6: 9 | J6: 10 | K6: 11 | L6: 12 | M6: 13 | N6: 14 | O6: 15 | P6: 16 | Q6: 17 | R6: 18 | S6: 19 | T6: 20 | U6: 21 | V6: 22 | W6: 23 | X6: 24 | Y6: 25 | Z6: 26 | AA6: 27 | AB6: 28
A7: I | B7: Cấp quản lý đảng viên | C7: =SUM(C8:C11) -> 0 | D7: =SUM(D8:D11) -> 0 | E7: =SUM(E8:E11) -> 0 | F7: =SUM(F8:F11) -> 0 | G7: =SUM(G8:G11) -> 0 | H7: =SUM(H8:H11) -> 0 | I7: =SUM(I8:I11) -> 0 | J7: =SUM(J8:J11) -> 0 | ... AB7: =SUM(AB8:AB11) -> 0 | AC7: =IF(C7=(SUM(K7:O7)),"Đúng","Sai") -> Đúng | AD7: =IF(AND(P7<=C7,Q7<=C7,R7<=C7,S7<=C7,T7<=C7,U7<=C7,V7<=C7,X7<=C7,W7<=C7),"Đúng","Sai") -> Đúng | AE7: =IF(Y7=Z7+AA7,"Đúng","Sai") -> Đúng
B8: Trung ương | C8: =SUM(D8:G8) -> 0 | AC8: =IF(C8=(SUM(K8:O8)),"Đúng","Sai") -> Đúng | AD8: =IF(AND(P8<=C8,Q8<=C8,R8<=C8,S8<=C8,T8<=C8,U8<=C8,V8<=C8,X8<=C8,W8<=C8),"Đúng","Sai") -> Đúng | AE8: =IF(Y8=Z8+AA8,"Đúng","Sai") -> Đúng
B9: Cấp tỉnh và tương đương | C9: =SUM(D9:G9) -> 0 | AC9: =IF(C9=(SUM(K9:O9)),"Đúng","Sai") -> Đúng | AD9: =IF(AND(P9<=C9,Q9<=C9,R9<=C9,S9<=C9,T9<=C9,U9<=C9,V9<=C9,X9<=C9,W9<=C9),"Đúng","Sai") -> Đúng | AE9: =IF(Y9=Z9+AA9,"Đúng","Sai") -> Đúng
B10: Cấp huyện và tương đương | C10: =SUM(D10:G10) -> 0 | AC10: =IF(C10=(SUM(K10:O10)),"Đúng","Sai") -> Đúng | AD10: =IF(AND(P10<=C10,Q10<=C10,R10<=C10,S10<=C10,T10<=C10,U10<=C10,V10<=C10,X10<=C10,W10<=C10),"Đúng","Sai") -> Đúng | AE10: =IF(Y10=Z10+AA10,"Đúng","Sai") -> Đúng
B11: Cấp cơ sở | C11: =SUM(D11:G11) -> 0 | AC11: =IF(C11=(SUM(K11:O11)),"Đúng","Sai") -> Đúng | AD11: =IF(AND(P11<=C11,Q11<=C11,R11<=C11,S11<=C11,T11<=C11,U11<=C11,V11<=C11,X11<=C11,W11<=C11),"Đúng","Sai") -> Đúng | AE11: =IF(Y11=Z11+AA11,"Đúng","Sai") -> Đúng
A12: II | B12: Là cấp uỷ viên các cấp | C12: =SUM(C13:C18) -> 0 | D12: =SUM(D13:D18) -> 0 | E12: =SUM(E13:E18) -> 0 | F12: =SUM(F13:F18) -> 0 | G12: =SUM(G13:G18) -> 0 | H12: =SUM(H13:H18) -> 0 | I12: =SUM(I13:I18) -> 0 | J12: =SUM(J13:J18) -> 0 | ... AB12: =SUM(AB13:AB18) -> 0 | AC12: =IF(C12=(SUM(K12:O12)),"Đúng","Sai") -> Đúng | AD12: =IF(AND(P12<=C12,Q12<=C12,R12<=C12,S12<=C12,T12<=C12,U12<=C12,V12<=C12,X12<=C12,W12<=C12),"Đúng","Sai") -> Đúng | AE12: =IF(Y12=Z12+AA12,"Đúng","Sai") -> Đúng
B13: Uỷ viên Trung ương | C13: =SUM(D13:G13) -> 0 | AC13: =IF(C13=(SUM(K13:O13)),"Đúng","Sai") -> Đúng | AD13: =IF(AND(P13<=C13,Q13<=C13,R13<=C13,S13<=C13,T13<=C13,U13<=C13,V13<=C13,X13<=C13,W13<=C13),"Đúng","Sai") -> Đúng | AE13: =IF(Y13=Z13+AA13,"Đúng","Sai") -> Đúng
B14: Tỉnh ủy viên và tương đương | C14: =SUM(D14:G14) -> 0 | AC14: =IF(C14=(SUM(K14:O14)),"Đúng","Sai") -> Đúng | AD14: =IF(AND(P14<=C14,Q14<=C14,R14<=C14,S14<=C14,T14<=C14,U14<=C14,V14<=C14,X14<=C14,W14<=C14),"Đúng","Sai") -> Đúng | AE14: =IF(Y14=Z14+AA14,"Đúng","Sai") -> Đúng
B15: Huyện ủy viên và tương đương | C15: =SUM(D15:G15) -> 0 | AC15: =IF(C15=(SUM(K15:O15)),"Đúng","Sai") -> Đúng | AD15: =IF(AND(P15<=C15,Q15<=C15,R15<=C15,S15<=C15,T15<=C15,U15<=C15,V15<=C15,X15<=C15,W15<=C15),"Đúng","Sai") -> Đúng | AE15: =IF(Y15=Z15+AA15,"Đúng","Sai") -> Đúng
B16: Đảng ủy viên | C16: =SUM(D16:G16) -> 0 | AC16: =IF(C16=(SUM(K16:O16)),"Đúng","Sai") -> Đúng | AD16: =IF(AND(P16<=C16,Q16<=C16,R16<=C16,S16<=C16,T16<=C16,U16<=C16,V16<=C16,X16<=C16,W16<=C16),"Đúng","Sai") -> Đúng | AE16: =IF(Y16=Z16+AA16,"Đúng","Sai") -> Đúng
B17: Đảng ủy viên đảng ủy bộ phận | C17: =SUM(D17:G17) -> 0 | AC17: =IF(C17=(SUM(K17:O17)),"Đúng","Sai") -> Đúng | AD17: =IF(AND(P17<=C17,Q17<=C17,R17<=C17,S17<=C17,T17<=C17,U17<=C17,V17<=C17,X17<=C17,W17<=C17),"Đúng","Sai") -> Đúng | AE17: =IF(Y17=Z17+AA17,"Đúng","Sai") -> Đúng
B18: Chi ủy viên | C18: =SUM(D18:G18) -> 0 | AC18: =IF(C18=(SUM(K18:O18)),"Đúng","Sai") -> Đúng | AD18: =IF(AND(P18<=C18,Q18<=C18,R18<=C18,S18<=C18,T18<=C18,U18<=C18,V18<=C18,X18<=C18,W18<=C18),"Đúng","Sai") -> Đúng | AE18: =IF(Y18=Z18+AA18,"Đúng","Sai") -> Đúng
A19: III | B19: Đảng viên ở các lĩnh vực | C19: =SUM(C20:C26) -> 0 | D19: =SUM(D20:D26) -> 0 | E19: =SUM(E20:E26) -> 0 | F19: =SUM(F20:F26) -> 0 | G19: =SUM(G20:G26) -> 0 | H19: =SUM(H20:H26) -> 0 | I19: =SUM(I20:I26) -> 0 | J19: =SUM(J20:J26) -> 0 | ... AB19: =SUM(AB20:AB26) -> 0 | AC19: =IF(C19=(SUM(K19:O19)),"Đúng","Sai") -> Đúng | AD19: =IF(AND(P19<=C19,Q19<=C19,R19<=C19,S19<=C19,T19<=C19,U19<=C19,V19<=C19,X19<=C19,W19<=C19),"Đúng","Sai") -> Đúng | AE19: =IF(Y19=Z19+AA19,"Đúng","Sai") -> Đúng
B20: Đảng | C20: =SUM(D20:G20) -> 0 | AC20: =IF(C20=(SUM(K20:O20)),"Đúng","Sai") -> Đúng | AD20: =IF(AND(P20<=C20,Q20<=C20,R20<=C20,S20<=C20,T20<=C20,U20<=C20,V20<=C20,X20<=C20,W20<=C20),"Đúng","Sai") -> Đúng | AE20: =IF(Y20=Z20+AA20,"Đúng","Sai") -> Đúng
B21: Hành chính, Nhà nước | C21: =SUM(D21:G21) -> 0 | AC21: =IF(C21=(SUM(K21:O21)),"Đúng","Sai") -> Đúng | AD21: =IF(AND(P21<=C21,Q21<=C21,R21<=C21,S21<=C21,T21<=C21,U21<=C21,V21<=C21,X21<=C21,W21<=C21),"Đúng","Sai") -> Đúng | AE21: =IF(Y21=Z21+AA21,"Đúng","Sai") -> Đúng
B22: Đoàn thể | C22: =SUM(D22:G22) -> 0 | AC22: =IF(C22=(SUM(K22:O22)),"Đúng","Sai") -> Đúng | AD22: =IF(AND(P22<=C22,Q22<=C22,R22<=C22,S22<=C22,T22<=C22,U22<=C22,V22<=C22,X22<=C22,W22<=C22),"Đúng","Sai") -> Đúng | AE22: =IF(Y22=Z22+AA22,"Đúng","Sai") -> Đúng
B23: Lực lượng vũ trang | C23: =SUM(D23:G23) -> 0 | AC23: =IF(C23=(SUM(K23:O23)),"Đúng","Sai") -> Đúng | AD23: =IF(AND(P23<=C23,Q23<=C23,R23<=C23,S23<=C23,T23<=C23,U23<=C23,V23<=C23,X23<=C23,W23<=C23),"Đúng","Sai") -> Đúng | AE23: =IF(Y23=Z23+AA23,"Đúng","Sai") -> Đúng
B24: Sự nghiệp công lập | C24: =SUM(D24:G24) -> 0 | AC24: =IF(C24=(SUM(K24:O24)),"Đúng","Sai") -> Đúng | AD24: =IF(AND(P24<=C24,Q24<=C24,R24<=C24,S24<=C24,T24<=C24,U24<=C24,V24<=C24,X24<=C24,W24<=C24),"Đúng","Sai") -> Đúng | AE24: =IF(Y24=Z24+AA24,"Đúng","Sai") -> Đúng
B25: SXKD, dịch vụ | C25: =SUM(D25:G25) -> 0 | AC25: =IF(C25=(SUM(K25:O25)),"Đúng","Sai") -> Đúng | AD25: =IF(AND(P25<=C25,Q25<=C25,R25<=C25,S25<=C25,T25<=C25,U25<=C25,V25<=C25,X25<=C25,W25<=C25),"Đúng","Sai") -> Đúng | AE25: =IF(Y25=Z25+AA25,"Đúng","Sai") -> Đúng
B26: Lĩnh vực khác | C26: =SUM(D26:G26) -> 0 | AC26: =IF(C26=(SUM(K26:O26)),"Đúng","Sai") -> Đúng | AD26: =IF(AND(P26<=C26,Q26<=C26,R26<=C26,S26<=C26,T26<=C26,U26<=C26,V26<=C26,X26<=C26,W26<=C26),"Đúng","Sai") -> Đúng | AE26: =IF(Y26=Z26+AA26,"Đúng","Sai") -> Đúng
A27: IV | B27: Đảng viên bị THKT từ nhiệm vụ | C27: =SUM(C28:C31) -> 0 | D27: =SUM(D28:D31) -> 0 | E27: =SUM(E28:E31) -> 0 | F27: =SUM(F28:F31) -> 0 | G27: =SUM(G28:G31) -> 0 | H27: =SUM(H28:H31) -> 0 | I27: =SUM(I28:I31) -> 0 | J27: =SUM(J28:J31) -> 0 | ... AB27: =SUM(AB28:AB31) -> 0 | AC27: =IF(C27=(SUM(K27:O27)),"Đúng","Sai") -> Đúng | AD27: =IF(AND(P27<=C27,Q27<=C27,R27<=C27,S27<=C27,T27<=C27,U27<=C27,V27<=C27,X27<=C27,W27<=C27),"Đúng","Sai") -> Đúng | AE27: =IF(Y27=Z27+AA27,"Đúng","Sai") -> Đúng
B28: Kiểm tra theo Điều 30 của ĐLĐ | C28: =SUM(D28:G28) -> 0 | AC28: =IF(C28=(SUM(K28:O28)),"Đúng","Sai") -> Đúng | AD28: =IF(AND(P28<=C28,Q28<=C28,R28<=C28,S28<=C28,T28<=C28,U28<=C28,V28<=C28,X28<=C28,W28<=C28),"Đúng","Sai") -> Đúng | AE28: =IF(Y28=Z28+AA28,"Đúng","Sai") -> Đúng
B29: Kiểm tra khi có DHVP của BTV cấp ủy và chi bộ | C29: =SUM(D29:G29) -> 0 | AC29: =IF(C29=(SUM(K29:O29)),"Đúng","Sai") -> Đúng | AD29: =IF(AND(P29<=C29,Q29<=C29,R29<=C29,S29<=C29,T29<=C29,U29<=C29,V29<=C29,X29<=C29,W29<=C29),"Đúng","Sai") -> Đúng | AE29: =IF(Y29=Z29+AA29,"Đúng","Sai") -> Đúng
B30: Giải quyết tố cáo của cấp ủy các cấp | C30: =SUM(D30:G30) -> 0 | AC30: =IF(C30=(SUM(K30:O30)),"Đúng","Sai") -> Đúng | AD30: =IF(AND(P30<=C30,Q30<=C30,R30<=C30,S30<=C30,T30<=C30,U30<=C30,V30<=C30,X30<=C30,W30<=C30),"Đúng","Sai") -> Đúng | AE30: =IF(Y30=Z30+AA30,"Đúng","Sai") -> Đúng
B31: Khác (từ đề nghị của TCĐ, UBKT cấp dưới, từ chỉ đạo của cấp trên giao...) | C31: =SUM(D31:G31) -> 0 | AC31: =IF(C31=(SUM(K31:O31)),"Đúng","Sai") -> Đúng | AD31: =IF(AND(P31<=C31,Q31<=C31,R31<=C31,S31<=C31,T31<=C31,U31<=C31,V31<=C31,X31<=C31,W31<=C31),"Đúng","Sai") -> Đúng | AE31: =IF(Y31=Z31+AA31,"Đúng","Sai") -> Đúng
A32: V | B32: Số liệu lấy thêm: | C32: 1 - Tổng số đảng viên của đảng bộ | O32: 2 - Số đảng viên là người dân tộc thiểu số bị thi hành kỷ luật
