Workbook

Sheet Danh sach
A1: DANH SÁCH CÁC BIỂU THỐNG KÊ
A2: STT | B2: Tên biểu | C2: Nội dung | D2: Đường dẫn | E2: Kiểm tra số liệu | F2: Biểu chứa dữ liệu
A3: 1 | B3: Biểu 01 | C3: Kiểm tra đảng viên theo Điều 30 Điều lệ Đảng | D3: B01 | E3: =IF(COUNTIF('B01'!C34:Y41,"Sai")+COUNTIF('B01'!Z7:AC26,"Sai")>=1,"Sai","Đúng") -> Đúng | F3: =IF(SUM('B01'!C7:Y32)>0,"Có","Không") -> Không
A4: 2 | B4: Biểu 02 | C4: Kiểm tra tổ chức đảng cấp dưới theo Điều 30 Điều lệ Đảng | D4: B02 | E4: =IF(COUNTIF('B02'!C26:T33,"Sai")+COUNTIF('B02'!Z7:AC18,"Sai")>=1,"Sai","Đúng") -> Đúng | F4: =IF(SUM('B02'!C7:Y24)>0,"Có","Không") -> Không
A5: 3 | B5: Biểu 03 | C5: Kiểm tra đảng viên khi có dấu hiệu vi phạm của cấp uỷ, ban thường vụ cấp uỷ và chi bộ | D5: B03 | E5: =IF(COUNTIF('B03'!C32:T36,"Sai")+COUNTIF('B03'!U7:V26,"Sai")>=1,"Sai","Đúng") -> Đúng | F5: =IF(SUM('B03'!C7:T30)>0,"Có","Không") -> Không
A6: 4 | B6: Biểu 04 | C6: Kiểm tra tổ chức đảng khi có dấu hiệu vi phạm của cấp uỷ, ban thường vụ cấp uỷ | D6: B04 | E6: =IF(COUNTIF('B04'!C23:P26,"Sai")+COUNTIF('B04'!T7:U18,"Sai")>=1,"Sai","Đúng") -> Đúng | F6: =IF(SUM('B04'!C7:S22)>0,"Có","Không") -> Không
A7: 5 | B7: Biểu 05 | C7: Giám sát đảng viên theo Điều 30 Điều lệ Đảng | D7: B05 | E7: =IF(COUNTIF('B05'!C31:W31,"Sai")+COUNTIF('B05'!X6:Z29,"Sai")>=1,"Sai","Đúng") -> Đúng | F7: =IF(SUM('B05'!C6:W29)>0,"Có","Không") -> Không
A8: 6 | B8: Biểu 06 | C8: Giám sát tổ chức đảng theo Điều 30 Điều lệ Đảng | D8: B06 | E8: =IF(COUNTIF('B06'!Y6:AA17,"Sai")>=1,"Sai","Đúng") -> Đúng | F8: =IF(SUM('B06'!C6:X17)>0,"Có","Không") -> Không
A9: 7 | B9: Biểu 07 | C9: Thi hành kỷ luật đảng viên của cấp uỷ các cấp và chi bộ | D9: B07 | E9: =IF(COUNTIF('B07'!C34:AB34,"Sai")+COUNTIF('B07'!AC7:AE31,"Sai")>=1,"Sai","Đúng") -> Đúng | F9: =IF(SUM('B07'!C7:AB31)>0,"Có","Không") -> Không
A10: 8 | B10: Biểu 08 | C10: Thi hành kỷ luật đảng viên của cấp uỷ các cấp và chi bộ | D10: B08 | E10: =IF(COUNTIF('B08'!C24:S25,"Sai")+COUNTIF('B08'!T6:U22,"Sai")>=1,"Sai","Đúng") -> Đúng | F10: =IF(SUM('B08'!C6:S22)>0,"Có","Không") -> Không
A11: 9 | B11: Biểu 09 | C11: Giải quyết khiếu nại kỷ luật đảng viên của cấp uỷ các cấp | D11: B09 | E11: =IF(COUNTIF('B09'!C28:V29,"Sai")+COUNTIF('B09'!W7:Y24,"Sai")>=1,"Sai","Đúng") -> Đúng | F11: =IF(SUM('B09'!C7:V25)>0,"Có","Không") -> Không
A12: 10 | B12: Biểu 10 | C12: Giải quyết khiếu nại kỷ luật tổ chức đảng của cấp uỷ các cấp | D12: B10 | E12: =IF(COUNTIF('B10'!C23:L23,"Sai")+COUNTIF('B10'!Y7:AA20,"Sai")>=1,"Sai","Đúng") -> Đúng | F12: =IF(SUM('B10'!C7:X21)>0,"Có","Không") -> Không
A13: 11 | B13: Biểu 11 | C13: Kiểm tra đảng viên khi có dấu hiệu vi phạm của uỷ ban kiểm tra các cấp | D13: B11 | E13: =IF(COUNTIF('B11'!C32:S36,"Sai")+COUNTIF('B11'!T7:U30,"Sai")>=1,"Sai","Đúng") -> Đúng | F13: =IF(SUM('B11'!C7:S30)>0,"Có","Không") -> Không
A14: 12 | B14: Biểu 12 | C14: Kiểm tra tổ chức đảng khi có dấu hiệu vi phạm của uỷ ban kiểm tra các cấp | D14: B12 | E14: =IF(COUNTIF('B12'!C24:N27,"Sai")+COUNTIF('B12'!R7:S22,"Sai")>=1,"Sai","Đúng") -> Đúng | F14: =IF(SUM('B12'!C7:Q22)>0,"Có","Không") -> Không
A15: 13 | B15: Biểu 13 | C15: Uỷ ban kiểm tra các cấp kiểm tra tổ chức đảng, uỷ ban kiểm tra cấp dưới thực hiện nhiệm vụ kiểm tra, giám sát | D15: B13 | E15: =IF(COUNTIF('B13'!Q7:Q15,"Sai")>=1,"Sai","Đúng") -> Đúng | F15: =IF(SUM('B13'!C7:P15)>0,"Có","Không") -> Không
A16: 14 | B16: Biểu 14 | C16: Uỷ ban kiểm tra các cấp kiểm tra việc thi hành kỷ luật của tổ chức đảng cấp dưới | D16: B14 | E16: =IF(COUNTIF('B14'!AB7:AD13,"Sai")>=1,"Sai","Đúng") -> Đúng | F16: =IF(SUM('B14'!C7:AA14)>0,"Có","Không") -> Không
A17: 15 | B17: Biểu 15 | C17: Giám sát đảng viên của uỷ ban kiểm tra các cấp | D17: B15 | E17: =IF(COUNTIF('B15'!C31:R31,"Sai")+COUNTIF('B15'!S6:U29,"Sai")>=1,"Sai","Đúng") -> Đúng | F17: =IF(SUM('B15'!C6:R29)>0,"Có","Không") -> Không
A18: 16 | B18: Biểu 16 | C18: Giám sát tổ chức đảng của uỷ ban kiểm tra các cấp | D18: B16 | E18: =IF(COUNTIF('B16'!R6:T17,"Sai")>=1,"Sai","Đúng") -> Đúng | F18: =IF(SUM('B16'!C6:Q17)>0,"Có","Không") -> Không
A19: 17 | B19: Biểu 17 | C19: Thi hành kỷ luật đảng viên của uỷ ban kiểm tra các cấp | D19: B17 | E19: =IF(COUNTIF('B17'!C33:Z33,"Sai")+COUNTIF('B17'!AA7:AC31,"Sai")>=1,"Sai","Đúng") -> Đúng | F19: =IF(SUM('B17'!C7:Z31)>0,"Có","Không") -> Không
A20: 18 | B20: Biểu 18 | C20: Thi hành kỷ luật tổ chức đảng của uỷ ban kiểm tra các cấp | D20: B18 | E20: =IF(COUNTIF('B18'!C22:Q22,"Sai")+COUNTIF('B18'!R6:S20,"Sai")>=1,"Sai","Đúng") -> Đúng | F20: =IF(SUM('B18'!C6:Q20)>0,"Có","Không") -> Không
A21: 19 | B21: Biểu 19 | C21: Giải quyết tố cáo đảng viên của uỷ ban kiểm tra các cấp | D21: B19 | E21: =IF(COUNTIF('B19'!C37:X47,"Sai")+COUNTIF('B19'!Y7:AB26,"Sai")>=1,"Sai","Đúng") -> Đúng | F21: =IF(SUM('B19'!C7:X35)>0,"Có","Không") -> Không
A22: 20 | B22: Biểu 20 | C22: Giải quyết tố cáo tổ chức đảng của uỷ ban kiểm tra các cấp | D22: B20 | E22: =IF(COUNTIF('B20'!C26:N36,"Sai")+COUNTIF('B20'!V7:Y24,"Sai")>=1,"Sai","Đúng") -> Đúng | F22: =IF(SUM('B20'!C7:U24)>0,"Có","Không") -> Không
A23: 21 | B23: Biểu 21 | C23: Giải quyết khiếu nại kỷ luật đảng viên của uỷ ban kiểm tra các cấp | D23: B21 | E23: =IF(COUNTIF('B21'!C24:S25,"Sai")+COUNTIF('B21'!T7:V21,"Sai")>=1,"Sai","Đúng") -> Đúng | F23: =IF(SUM('B21'!C7:S22)>0,"Có","Không") -> Không
A24: 22 | B24: Biểu 22 | C24: Kiểm tra tài chính (về thu chi ngân sách và sản xuất kinh doanh) | D24: B22 | E24: =IF(COUNTIF('B22'!AG9:AJ19,"Sai")>=1,"Sai","Đúng") -> Đúng | F24: =IF(SUM('B22'!C9:AF20)>0,"Có","Không") -> Không
A25: 23 | B25: Biểu 23 | C25: Kiểm tra tài chính đảng (về thu, nộp, quản lý và sử dụng đảng phí) | D25: B23 | E25: =IF(COUNTIF('B23'!AD8:AH15,"Sai")>=1,"Sai","Đúng") -> Đúng | F25: =IF(SUM('B23'!C8:AC15)>0,"Có","Không") -> Không
A26: 24 | B26: Biểu 24 | C26: Tiếp nhận, xử lý đơn thư của uỷ ban kiểm tra các cấp | D26: B24 | E26: =IF(COUNTIF('B24'!AD7:AD16,"Sai")>=1,"Sai","Đúng") -> Đúng | F26: =IF(SUM('B24'!E7:AC16)>0,"Có","Không") -> Không
A27: 25 | B27: Biểu 25 | C27: Tình hình đội ngũ cán bộ ngành kiểm tra các cấp | D27: B25 | E27: =IF(COUNTIF('B25'!AM9:AN36,"Sai")>=1,"Sai","Đúng") -> Đúng | F27: =IF(SUM('B25'!C9:AL36)>0,"Có","Không") -> Không
A28: 26 | B28: Biểu 26 | C28: Tình hình đào tạo, bồi dưỡng cán bộ, công chức làm công tác kiểm tra | D28: B26 | E28: =IF(COUNTIF('B26'!AN9:AO13,"Sai")>=1,"Sai","Đúng") -> Đúng | F28: =IF(SUM('B26'!C9:AM13)>0,"Có","Không") -> Không

Sheet B01
A1: KIỂM TRA ĐẢNG VIÊN THEO ĐIỀU 30 ĐIỀU LỆ ĐẢNG | X1: Biểu 01
U2: (ĐVT: Đảng viên)
A3: TT | B3: Đảng viên được kiểm tra | C3: Tổng số đảng viên được kiểm tra | D3: Cấp kiểm tra | M3: Nội dung kiểm tra | U3: Kết luận
D4: BCHTW, BCT, Ban Bí thư | E4: Các CQ tham mưu của TW | F4: Tỉnh ủy, BTV tỉnh uỷ và tương đương | G4: Các CQ tham mưu, của cấp ủy tỉnh và tương đương | H4: Huyện ủy, BTV HU và tương đương | I4: Các CQ tham mưu, của cấp ủy huyện và tương đương | J4: Đảng ủy cơ sở, BTV Đảng ủy cơ sở | K4: Đảng ủy bộ phận | L4: Chi bộ | M4: Việc thực hiện những điều đảng viên không được làm | N4: Tiêu chuẩn đảng viên, tiêu chuẩn cấp ủy viên | O4: Việc thực hiện nhiệm vụ đảng viên, nhiệm vụ cấp ủy viên | P4: Việc chấp hành nghị quyết, chỉ thị, quy định, kết luận của Đảng; chính sách, pháp luật của Nhà nước | R4: Tư tưởng chính trị, đạo đức, lối sống, trách nhiệm nêu gương | S4: Kê khai tài sản, thu nhập cá nhân | T4: Khác | U4: Thực hiện tốt | V4: Thực hiện chưa tốt | W4: Trong đó
Q5: Việc chấp hành quy chế làm việc, nguyên tắc tập trung dân chủ, chế độ công tác | W5: Có vi phạm, khuyết điểm, chưa đến mức phải kỷ luật | X5: Phải thi hành kỷ luật | Y5: Đã thi hành kỷ luật
A6: 1 | B6: 2 | C6: 3 | D6: 4 | E6: 5 | F6: 6 | G6: 7 | H6: 8 | I6: 9 | J6: 10 | K6: 11 | L6: 12 | M6: 13 | N6: 14 | O6: 15 | P6: 16 | Q6: 17 | R6: 18 | S6: 19 | T6: 20 | U6: 21 | V6: 22 | W6: 23 | X6: 24 | Y6: 25
A7: I | B7: Cấp quản lý đảng viên | C7: =SUM(C8:C11) -> 0 | D7: =SUM(D8:D11) -> 0 | E7: =SUM(E8:E11) -> 0 | F7: =SUM(F8:F11) -> 0 | G7: =SUM(G8:G11) -> 0 | H7: =SUM(H8:H11) -> 0 | I7: =SUM(I8:I11) -> 0 | J7: =SUM(J8:J11) -> 0 | ... Y7: =SUM(Y8:Y11) -> 0 | Z7: =IF(AND(M7<=C7,N7<=C7,O7<=C7,P7<=C7,Q7<=C7,R7<=C7,S7<=C7,T7<=C7),"Đúng","Sai") -> Đúng | AA7: =IF(C7=U7+V7,"Đúng","Sai") -> Đúng | AB7: =IF(V7=W7+X7,"Đúng","Sai") -> Đúng | AC7: =IF(Y7<=X7,"Đúng","Sai") -> Đúng
B8: Trung ương | C8: =SUM(D8:L8) -> 0 | Z8: =IF(AND(M8<=C8,N8<=C8,O8<=C8,P8<=C8,Q8<=C8,R8<=C8,S8<=C8,T8<=C8),"Đúng","Sai") -> Đúng | AA8: =IF(C8=U8+V8,"Đúng","Sai") -> Đúng | AB8: =IF(V8=W8+X8,"Đúng","Sai") -> Đúng | AC8: =IF(Y8<=X8,"Đúng","Sai") -> Đúng
B9: Cấp tỉnh và tương đương | C9: =SUM(D9:L9) -> 0 | Z9: =IF(AND(M9<=C9,N9<=C9,O9<=C9,P9<=C9,Q9<=C9,R9<=C9,S9<=C9,T9<=C9),"Đúng","Sai") -> Đúng | AA9: =IF(C9=U9+V9,"Đúng","Sai") -> Đúng | AB9: =IF(V9=W9+X9,"Đúng","Sai") -> Đúng | AC9: =IF(Y9<=X9,"Đúng","Sai") -> Đúng
B10: Cấp huyện và tương đương | C10: =SUM(D10:L10) -> 0 | Z10: =IF(AND(M10<=C10,N10<=C10,O10<=C10,P10<=C10,Q10<=C10,R10<=C10,S10<=C10,T10<=C10),"Đúng","Sai") -> Đúng | AA10: =IF(C10=U10+V10,"Đúng","Sai") -> Đúng | AB10: =IF(V10=W10+X10,"Đúng","Sai") -> Đúng | AC10: =IF(Y10<=X10,"Đúng","Sai") -> Đúng
B11: Cấp cơ sở | C11: =SUM(D11:L11) -> 0 | Z11: =IF(AND(M11<=C11,N11<=C11,O11<=C11,P11<=C11,Q11<=C11,R11<=C11,S11<=C11,T11<=C11),"Đúng","Sai") -> Đúng | AA11: =IF(C11=U11+V11,"Đúng","Sai") -> Đúng | AB11: =IF(V11=W11+X11,"Đúng","Sai") -> Đúng | AC11: =IF(Y11<=X11,"Đúng","Sai") -> Đúng
A12: II | B12: Là cấp uỷ viên các cấp | C12: =SUM(C13:C18) -> 0 | D12: =SUM(D13:D18) -> 0 | E12: =SUM(E13:E18) -> 0 | F12: =SUM(F13:F18) -> 0 | G12: =SUM(G13:G18) -> 0 | H12: =SUM(H13:H18) -> 0 | I12: =SUM(I13:I18) -> 0 | J12: =SUM(J13:J18) -> 0 | ... Y12: =SUM(Y13:Y18) -> 0 | Z12: =IF(AND(M12<=C12,N12<=C12,O12<=C12,P12<=C12,Q12<=C12,R12<=C12,S12<=C12,T12<=C12),"Đúng","Sai") -> Đúng | AA12: =IF(C12=U12+V12,"Đúng","Sai") -> Đúng | AB12: =IF(V12=W12+X12,"Đúng","Sai") -> Đúng | AC12: =IF(Y12<=X12,"Đúng","Sai") -> Đúng
B13: Uỷ viên Trung ương | C13: =SUM(D13:L13) -> 0 | Z13: =IF(AND(M13<=C13,N13<=C13,O13<=C13,P13<=C13,Q13<=C13,R13<=C13,S13<=C13,T13<=C13),"Đúng","Sai") -> Đúng | AA13: =IF(C13=U13+V13,"Đúng","Sai") -> Đúng | AB13: =IF(V13=W13+X13,"Đúng","Sai") -> Đúng | AC13: =IF(Y13<=X13,"Đúng","Sai") -> Đúng
B14: Tỉnh ủy viên và tương đương | C14: =SUM(D14:L14) -> 0 | Z14: =IF(AND(M14<=C14,N14<=C14,O14<=C14,P14<=C14,Q14<=C14,R14<=C14,S14<=C14,T14<=C14),"Đúng","Sai") -> Đúng | AA14: =IF(C14=U14+V14,"Đúng","Sai") -> Đúng | AB14: =IF(V14=W14+X14,"Đúng","Sai") -> Đúng | AC14: =IF(Y14<=X14,"Đúng","Sai") -> Đúng
B15: Huyện ủy viên và tương đương | C15: =SUM(D15:L15) -> 0 | Z15: =IF(AND(M15<=C15,N15<=C15,O15<=C15,P15<=C15,Q15<=C15,R15<=C15,S15<=C15,T15<=C15),"Đúng","Sai") -> Đúng | AA15: =IF(C15=U15+V15,"Đúng","Sai") -> Đúng | AB15: =IF(V15=W15+X15,"Đúng","Sai") -> Đúng | AC15: =IF(Y15<=X15,"Đúng","Sai") -> Đúng
B16: Đảng ủy viên | C16: =SUM(D16:L16) -> 0 | Z16: =IF(AND(M16<=C16,N16<=C16,O16<=C16,P16<=C16,Q16<=C16,R16<=C16,S16<=C16,T16<=C16),"Đúng","Sai") -> Đúng | AA16: =IF(C16=U16+V16,"Đúng","Sai") -> Đúng | AB16: =IF(V16=W16+X16,"Đúng","Sai") -> Đúng | AC16: =IF(Y16<=X16,"Đúng","Sai") -> Đúng
B17: Đảng ủy viên đảng ủy bộ phận | C17: =SUM(D17:L17) -> 0 | Z17: =IF(AND(M17<=C17,N17<=C17,O17<=C17,P17<=C17,Q17<=C17,R17<=C17,S17<=C17,T17<=C17),"Đúng","Sai") -> Đúng | AA17: =IF(C17=U17+V17,"Đúng","Sai") -> Đúng | AB17: =IF(V17=W17+X17,"Đúng","Sai") -> Đúng | AC17: =IF(Y17<=X17,"Đúng","Sai") -> Đúng
B18: Chi ủy viên | C18: =SUM(D18:L18) -> 0 | Z18: =IF(AND(M18<=C18,N18<=C18,O18<=C18,P18<=C18,Q18<=C18,R18<=C18,S18<=C18,T18<=C18),"Đúng","Sai") -> Đúng | AA18: =IF(C18=U18+V18,"Đúng","Sai") -> Đúng | AB18: =IF(V18=W18+X18,"Đúng","Sai") -> Đúng | AC18: =IF(Y18<=X18,"Đúng","Sai") -> Đúng
A19: III | B19: Đảng viên ở các lĩnh vực | C19: =SUM(C20:C26) -> 0 | D19: =SUM(D20:D26) -> 0 | E19: =SUM(E20:E26) -> 0 | F19: =SUM(F20:F26) -> 0 | G19: =SUM(G20:G26) -> 0 | H19: =SUM(H20:H26) -> 0 | I19: =SUM(I20:I26) -> 0 | J19: =SUM(J20:J26) -> 0 | ... Y19: =SUM(Y20:Y26) -> 0 | Z19: =IF(AND(M19<=C19,N19<=C19,O19<=C19,P19<=C19,Q19<=C19,R19<=C19,S19<=C19,T19<=C19),"Đúng","Sai") -> Đúng | AA19: =IF(C19=U19+V19,"Đúng","Sai") -> Đúng | AB19: =IF(V19=W19+X19,"Đúng","Sai") -> Đúng | AC19: =IF(Y19<=X19,"Đúng","Sai") -> Đúng
B20: Đảng | C20: =SUM(D20:L20) -> 0 | Z20: =IF(AND(M20<=C20,N20<=C20,O20<=C20,P20<=C20,Q20<=C20,R20<=C20,S20<=C20,T20<=C20),"Đúng","Sai") -> Đúng | AA20: =IF(C20=U20+V20,"Đúng","Sai") -> Đúng | AB20: =IF(V20=W20+X20,"Đúng","Sai") -> Đúng | AC20: =IF(Y20<=X20,"Đúng","Sai") -> Đúng
B21: Hành chính, Nhà nước | C21: =SUM(D21:L21) -> 0 | Z21: =IF(AND(M21<=C21,N21<=C21,O21<=C21,P21<=C21,Q21<=C21,R21<=C21,S21<=C21,T21<=C21),"Đúng","Sai") -> Đúng | AA21: =IF(C21=U21+V21,"Đúng","Sai") -> Đúng | AB21: =IF(V21=W21+X21,"Đúng","Sai") -> Đúng | AC21: =IF(Y21<=X21,"Đúng","Sai") -> Đúng
B22: Đoàn thể | C22: =SUM(D22:L22) -> 0 | Z22: =IF(AND(M22<=C22,N22<=C22,O22<=C22,P22<=C22,Q22<=C22,R22<=C22,S22<=C22,T22<=C22),"Đúng","Sai") -> Đúng | AA22: =IF(C22=U22+V22,"Đúng","Sai") -> Đúng | AB22: =IF(V22=W22+X22,"Đúng","Sai") -> Đúng | AC22: =IF(Y22<=X22,"Đúng","Sai") -> Đúng
B23: Lực lượng vũ trang | C23: =SUM(D23:L23) -> 0 | Z23: =IF(AND(M23<=C23,N23<=C23,O23<=C23,P23<=C23,Q23<=C23,R23<=C23,S23<=C23,T23<=C23),"Đúng","Sai") -> Đúng | AA23: =IF(C23=U23+V23,"Đúng","Sai") -> Đúng | AB23: =IF(V23=W23+X23,"Đúng","Sai") -> Đúng | AC23: =IF(Y23<=X23,"Đúng","Sai") -> Đúng
B24: Sự nghiệp công lập | C24: =SUM(D24:L24) -> 0 | Z24: =IF(AND(M24<=C24,N24<=C24,O24<=C24,P24<=C24,Q24<=C24,R24<=C24,S24<=C24,T24<=C24),"Đúng","Sai") -> Đúng | AA24: =IF(C24=U24+V24,"Đúng","Sai") -> Đúng | AB24: =IF(V24=W24+X24,"Đúng","Sai") -> Đúng | AC24: =IF(Y24<=X24,"Đúng","Sai") -> Đúng
B25: Sản xuất kinh doanh, dịch vụ | C25: =SUM(D25:L25) -> 0 | Z25: =IF(AND(M25<=C25,N25<=C25,O25<=C25,P25<=C25,Q25<=C25,R25<=C25,S25<=C25,T25<=C25),"Đúng","Sai") -> Đúng | AA25: =IF(C25=U25+V25,"Đúng","Sai") -> Đúng | AB25: =IF(V25=W25+X25,"Đúng","Sai") -> Đúng | AC25: =IF(Y25<=X25,"Đúng","Sai") -> Đúng
B26: Các lĩnh vực khác | C26: =SUM(D26:L26) -> 0 | Z26: =IF(AND(M26<=C26,N26<=C26,O26<=C26,P26<=C26,Q26<=C26,R26<=C26,S26<=C26,T26<=C26),"Đúng","Sai") -> Đúng | AA26: =IF(C26=U26+V26,"Đúng","Sai") -> Đúng | AB26: =IF(V26=W26+X26,"Đúng","Sai") -> Đúng | AC26: =IF(Y26<=X26,"Đúng","Sai") -> Đúng
A27: IV | B27: Kết luận | C27: =C28+C29 -> 0 | D27: =D28+D29 -> 0 | E27: =E28+E29 -> 0 | F27: =F28+F29 -> 0 | G27: =G28+G29 -> 0 | H27: =H28+H29 -> 0 | I27: =I28+I29 -> 0 | J27: =J28+J29 -> 0 | ... T27: =T28+T29 -> 0
B28: Thực hiện tốt | C28: =SUM(D28:L28) -> 0
B29: Thực hiện chưa tốt | C29: =SUM(D29:L29) -> 0
B30: Có vi phạm, khuyết điểm chưa đến mức phải kỷ luật | C30: =SUM(D30:L30) -> 0
B31: Phải thi hành kỷ luật | C31: =SUM(D31:L31) -> 0
B32: Đã thi hành kỷ luật | C32: =SUM(D32:L32) -> 0
C34: =IF(AND(C7=C19,C7=C27), "Đúng", "Sai") -> Đúng | D34: =IF(AND(D7=D19,D7=D27), "Đúng", "Sai") -> Đúng | E34: =IF(AND(E7=E19,E7=E27), "Đúng", "Sai") -> Đúng | F34: =IF(AND(F7=F19,F7=F27), "Đúng", "Sai") -> Đúng | G34: =IF(AND(G7=G19,G7=G27), "Đúng", "Sai") -> Đúng | H34: =IF(AND(H7=H19,H7=H27), "Đúng", "Sai") -> Đúng | I34: =IF(AND(I7=I19,I7=I27), "Đúng", "Sai") -> Đúng | J34: =IF(AND(J7=J19,J7=J27), "Đúng", "Sai") -> Đúng | ... T34: =IF(AND(T7=T19,T7=T27), "Đúng", "Sai") -> Đúng | U34: =IF(U7=U19, "Đúng", "Sai") -> Đúng | V34: =IF(V7=V19, "Đúng", "Sai") -> Đúng | W34: =IF(W7=W19, "Đúng", "Sai") -> Đúng | X34: =IF(X7=X19, "Đúng", "Sai") -> Đúng | Y34: =IF(Y7=Y19, "Đúng", "Sai") -> Đúng
C35: =IF(C29=C30+C31,"Đúng","Sai") -> Đúng | D35: =IF(D29=D30+D31,"Đúng","Sai") -> Đúng | E35: =IF(E29=E30+E31,"Đúng","Sai") -> Đúng | F35: =IF(F29=F30+F31,"Đúng","Sai") -> Đúng | G35: =IF(G29=G30+G31,"Đúng","Sai") -> Đúng | H35: =IF(H29=H30+H31,"Đúng","Sai") -> Đúng | I35: =IF(I29=I30+I31,"Đúng","Sai") -> Đúng | J35: =IF(J29=J30+J31,"Đúng","Sai") -> Đúng | ... T35: =IF(T29=T30+T31,"Đúng","Sai") -> Đúng
C36: =IF(C32<=C31,"Đúng","Sai") -> Đúng | D36: =IF(D32<=D31,"Đúng","Sai") -> Đúng | E36: =IF(E32<=E31,"Đúng","Sai") -> Đúng | F36: =IF(F32<=F31,"Đúng","Sai") -> Đúng | G36: =IF(G32<=G31,"Đúng","Sai") -> Đúng | H36: =IF(H32<=H31,"Đúng","Sai") -> Đúng | I36: =IF(I32<=I31,"Đúng","Sai") -> Đúng | J36: =IF(J32<=J31,"Đúng","Sai") -> Đúng | ... T36: =IF(T32<=T31,"Đúng","Sai") -> Đúng
C37: =IF(C28=U19, "Đúng", "Sai") -> Đúng
C38: =IF(C29=V19, "Đúng", "Sai") -> Đúng
C39: =IF(C30=W19, "Đúng", "Sai") -> Đúng
C40: =IF(C31=X19, "Đúng", "Sai") -> Đúng
C41: =IF(C32=Y19, "Đúng", "Sai") -> Đúng

Sheet B02
A1: KIỂM TRA TỔ CHỨC ĐẢNG CẤP DƯỚI THEO ĐIỀU 30 ĐIỀU LỆ ĐẢNG | W1: Biểu 02
U2: (ĐVT: Tổ chức đảng)
A3: TT | B3: Tổ chức đảng được kiểm tra | C3: Tổng số tổ chức đảng được kiểm tra | D3: Cấp kiểm tra | L3: Nội dung kiểm tra | U3: Kết luận
D4: BCH Trung ương, BCT, BBT | E4: Các CQ tham mưu, của Trung ương | F4: Tỉnh ủy, BTV Tỉnh uỷ và tương đương | G4: Các CQ tham mưu, của cấp ủy tỉnh và tương đương | H4: Huyện ủy, BTV HU và tương đương | I4: Các CQ tham mưu của cấp ủy huyện và tương đương | J4: Đảng ủy cơ sở, BTV Đảng ủy cơ sở | K4: Đảng uỷ bộ phận | L4: Việc chấp hành Cương lĩnh chính trị, Điều lệ Đảng, chủ trương, nghị quyết, chỉ thị, quy định, quyết định, quy chế, kết luận, hướng dẫn của Đảng | M4: Việc chấp hành chính sách, pháp luật của Nhà nước | N4: Việc chấp hành các nguyên tắc tổ chức và hoạt động của Đảng, giữ gìn đoàn kết nội bộ, quy chế làm việc, chế độ công tác, thực hiện dân chủ trong Đảng | O4: Việc lãnh đạo, chỉ đạo thực hành tiết kiệm; phòng, chống tham nhũng, lãng phí, tiêu cực; quản lý, rèn luyện phẩm chất, đạo đức, lối sống của đảng viên | P4: Việc lãnh đạo, chỉ đạo và tổ chức thực hiện cải cách hành chính, cải cách tư pháp | Q4: Việc lãnh đạo, chỉ đạo các cơ quan bảo vệ pháp luật trong công tác điều tra, truy tố, xét xử, thi hành án | R4: Công tác cán bộ | S4: Giải quyết khiếu nại, tố cáo | T4: Khác | U4: Thực hiện tốt | V4: Thực hiện chưa tốt | W4: Trong đó
W5: Có vi phạm, khuyết điểm chưa đến mức phải kỷ luật | X5: Phải thi hành kỷ luật | Y5: Đã thi hành kỷ luật
A6: 1 | B6: 2 | C6: 3 | D6: 4 | E6: 5 | F6: 6 | G6: 7 | H6: 8 | I6: 9 | J6: 10 | K6: 11 | L6: 12 | M6: 13 | N6: 14 | O6: 15 | P6: 16 | Q6: 17 | R6: 18 | S6: 19 | T6: 20 | U6: 21 | V6: 22 | W6: 23 | X6: 24 | Y6: 25
A7: I | B7: Tổ chức đảng được kiểm tra | C7: =SUM(C8:C18) -> 0 | D7: =SUM(D8:D18) -> 0 | E7: =SUM(E8:E18) -> 0 | F7: =SUM(F8:F18) -> 0 | G7: =SUM(G8:G18) -> 0 | H7: =SUM(H8:H18) -> 0 | I7: =SUM(I8:I18) -> 0 | J7: =SUM(J8:J18) -> 0 | ... Y7: =SUM(Y8:Y18) -> 0 | Z7: =IF(AND(L7<=C7,M7<=C7,N7<=C7,O7<=C7,P7<=C7,Q7<=C7,R7<=C7,S7<=C7,T7<=C7), "Đúng", "Sai") -> Đúng | AA7: =IF(C7=U7+V7, "Đúng", "Sai") -> Đúng | AB7: =IF(V7=W7+X7, "Đúng", "Sai") -> Đúng | AC7: =IF(Y7<=X7,"Đúng","Sai") -> Đúng
B8: BCS đảng, đảng đoàn ở Trung ương | C8: =SUM(D8:K8) -> 0 | Z8: =IF(AND(L8<=C8,M8<=C8,N8<=C8,O8<=C8,P8<=C8,Q8<=C8,R8<=C8,S8<=C8,T8<=C8), "Đúng", "Sai") -> Đúng | AA8: =IF(C8=U8+V8, "Đúng", "Sai") -> Đúng | AB8: =IF(V8=W8+X8, "Đúng", "Sai") -> Đúng | AC8: =IF(Y8<=X8,"Đúng","Sai") -> Đúng
B9: Các CQ tham mưu của Trung ương | C9: =SUM(D9:K9) -> 0 | Z9: =IF(AND(L9<=C9,M9<=C9,N9<=C9,O9<=C9,P9<=C9,Q9<=C9,R9<=C9,S9<=C9,T9<=C9), "Đúng", "Sai") -> Đúng | AA9: =IF(C9=U9+V9, "Đúng", "Sai") -> Đúng | AB9: =IF(V9=W9+X9, "Đúng", "Sai") -> Đúng | AC9: =IF(Y9<=X9,"Đúng","Sai") -> Đúng
B10: Tỉnh uỷ, BTV,thuờng trực tỉnh uỷ và tương đương | C10: =SUM(D10:K10) -> 0 | Z10: =IF(AND(L10<=C10,M10<=C10,N10<=C10,O10<=C10,P10<=C10,Q10<=C10,R10<=C10,S10<=C10,T10<=C10), "Đúng", "Sai") -> Đúng | AA10: =IF(C10=U10+V10, "Đúng", "Sai") -> Đúng | AB10: =IF(V10=W10+X10, "Đúng", "Sai") -> Đúng | AC10: =IF(Y10<=X10,"Đúng","Sai") -> Đúng
B11: BCS đảng, đảng đoàn cấp tỉnh và tương đương | C11: =SUM(D11:K11) -> 0 | Z11: =IF(AND(L11<=C11,M11<=C11,N11<=C11,O11<=C11,P11<=C11,Q11<=C11,R11<=C11,S11<=C11,T11<=C11), "Đúng", "Sai") -> Đúng | AA11: =IF(C11=U11+V11, "Đúng", "Sai") -> Đúng | AB11: =IF(V11=W11+X11, "Đúng", "Sai") -> Đúng | AC11: =IF(Y11<=X11,"Đúng","Sai") -> Đúng
B12: Các CQ tham mưu của cấp ủy tỉnh và tương đương | C12: =SUM(D12:K12) -> 0 | Z12: =IF(AND(L12<=C12,M12<=C12,N12<=C12,O12<=C12,P12<=C12,Q12<=C12,R12<=C12,S12<=C12,T12<=C12), "Đúng", "Sai") -> Đúng | AA12: =IF(C12=U12+V12, "Đúng", "Sai") -> Đúng | AB12: =IF(V12=W12+X12, "Đúng", "Sai") -> Đúng | AC12: =IF(Y12<=X12,"Đúng","Sai") -> Đúng
B13: Huyện ủy,BTV huyện uỷ, thường trực huyện ủy và tương đương | C13: =SUM(D13:K13) -> 0 | Z13: =IF(AND(L13<=C13,M13<=C13,N13<=C13,O13<=C13,P13<=C13,Q13<=C13,R13<=C13,S13<=C13,T13<=C13), "Đúng", "Sai") -> Đúng | AA13: =IF(C13=U13+V13, "Đúng", "Sai") -> Đúng | AB13: =IF(V13=W13+X13, "Đúng", "Sai") -> Đúng | AC13: =IF(Y13<=X13,"Đúng","Sai") -> Đúng
B14: Các CQ tham mưu của cấp ủy huyện và tương đương | C14: =SUM(D14:K14) -> 0 | Z14: =IF(AND(L14<=C14,M14<=C14,N14<=C14,O14<=C14,P14<=C14,Q14<=C14,R14<=C14,S14<=C14,T14<=C14), "Đúng", "Sai") -> Đúng | AA14: =IF(C14=U14+V14, "Đúng", "Sai") -> Đúng | AB14: =IF(V14=W14+X14, "Đúng", "Sai") -> Đúng | AC14: =IF(Y14<=X14,"Đúng","Sai") -> Đúng
B15: Đảng ủy cơ sở, BTV Đảng ủy cơ sở | C15: =SUM(D15:K15) -> 0 | Z15: =IF(AND(L15<=C15,M15<=C15,N15<=C15,O15<=C15,P15<=C15,Q15<=C15,R15<=C15,S15<=C15,T15<=C15), "Đúng", "Sai") -> Đúng | AA15: =IF(C15=U15+V15, "Đúng", "Sai") -> Đúng | AB15: =IF(V15=W15+X15, "Đúng", "Sai") -> Đúng | AC15: =IF(Y15<=X15,"Đúng","Sai") -> Đúng
B16: Đảng uỷ bộ phận | C16: =SUM(D16:K16) -> 0 | Z16: =IF(AND(L16<=C16,M16<=C16,N16<=C16,O16<=C16,P16<=C16,Q16<=C16,R16<=C16,S16<=C16,T16<=C16), "Đúng", "Sai") -> Đúng | AA16: =IF(C16=U16+V16, "Đúng", "Sai") -> Đúng | AB16: =IF(V16=W16+X16, "Đúng", "Sai") -> Đúng | AC16: =IF(Y16<=X16,"Đúng","Sai") -> Đúng
B17: Chi bộ, Chi ủy | C17: =SUM(D17:K17) -> 0 | Z17: =IF(AND(L17<=C17,M17<=C17,N17<=C17,O17<=C17,P17<=C17,Q17<=C17,R17<=C17,S17<=C17,T17<=C17), "Đúng", "Sai") -> Đúng | AA17: =IF(C17=U17+V17, "Đúng", "Sai") -> Đúng | AB17: =IF(V17=W17+X17, "Đúng", "Sai") -> Đúng | AC17: =IF(Y17<=X17,"Đúng","Sai") -> Đúng
B18: Khác (ban chỉ đạo, tiểu ban, hội đồng...) | C18: =SUM(D18:K18) -> 0 | Z18: =IF(AND(L18<=C18,M18<=C18,N18<=C18,O18<=C18,P18<=C18,Q18<=C18,R18<=C18,S18<=C18,T18<=C18), "Đúng", "Sai") -> Đúng | AA18: =IF(C18=U18+V18, "Đúng", "Sai") -> Đúng | AB18: =IF(V18=W18+X18, "Đúng", "Sai") -> Đúng | AC18: =IF(Y18<=X18,"Đúng","Sai") -> Đúng
A19: II | B19: Kết luận | C19: =C20+C21 -> 0 | D19: =D20+D21 -> 0 | E19: =E20+E21 -> 0 | F19: =F20+F21 -> 0 | G19: =G20+G21 -> 0 | H19: =H20+H21 -> 0 | I19: =I20+I21 -> 0 | J19: =J20+J21 -> 0 | ... T19: =T20+T21 -> 0
B20: Thực hiện tốt | C20: =SUM(D20:K20) -> 0
B21: Thực hiện chưa tốt | C21: =SUM(D21:K21) -> 0
B22: Có vi phạm, khuyết điểm chưa đến mức phải kỷ luật | C22: =SUM(D22:K22) -> 0
B23: Phải thi hành kỷ luật | C23: =SUM(D23:K23) -> 0
B24: Đã thi hành kỷ luật | C24: =SUM(D24:K24) -> 0
C26: =IF(C19=C7, "Đúng", "Sai") -> Đúng | D26: =IF(D19=D7, "Đúng", "Sai") -> Đúng | E26: =IF(E19=E7, "Đúng", "Sai") -> Đúng | F26: =IF(F19=F7, "Đúng", "Sai") -> Đúng | G26: =IF(G19=G7, "Đúng", "Sai") -> Đúng | H26: =IF(H19=H7, "Đúng", "Sai") -> Đúng | I26: =IF(I19=I7, "Đúng", "Sai") -> Đúng | J26: =IF(J19=J7, "Đúng", "Sai") -> Đúng | ... T26: =IF(T19=T7, "Đúng", "Sai") -> Đúng
C27: =IF(C21=C22+C23, "Đúng", "Sai") -> Đúng | D27: =IF(D21=D22+D23, "Đúng", "Sai") -> Đúng | E27: =IF(E21=E22+E23, "Đúng", "Sai") -> Đúng | F27: =IF(F21=F22+F23, "Đúng", "Sai") -> Đúng | G27: =IF(G21=G22+G23, "Đúng", "Sai") -> Đúng | H27: =IF(H21=H22+H23, "Đúng", "Sai") -> Đúng | I27: =IF(I21=I22+I23, "Đúng", "Sai") -> Đúng | J27: =IF(J21=J22+J23, "Đúng", "Sai") -> Đúng | ... T27: =IF(T21=T22+T23, "Đúng", "Sai") -> Đúng
C28: =IF(C24<=C23,"Đúng","Sai") -> Đúng | D28: =IF(D24<=D23,"Đúng","Sai") -> Đúng | E28: =IF(E24<=E23,"Đúng","Sai") -> Đúng | F28: =IF(F24<=F23,"Đúng","Sai") -> Đúng | G28: =IF(G24<=G23,"Đúng","Sai") -> Đúng | H28: =IF(H24<=H23,"Đúng","Sai") -> Đúng | I28: =IF(I24<=I23,"Đúng","Sai") -> Đúng | J28: =IF(J24<=J23,"Đúng","Sai") -> Đúng | ... T28: =IF(T24<=T23,"Đúng","Sai") -> Đúng
C29: =IF(C20=U7, "Đúng", "Sai") -> Đúng
C30: =IF(C21=V7, "Đúng", "Sai") -> Đúng
C31: =IF(C22=W7, "Đúng", "Sai") -> Đúng
C32: =IF(C23=X7, "Đúng", "Sai") -> Đúng
C33: =IF(C24=Y7, "Đúng", "Sai") -> Đúng

Sheet B03
A1: KIỂM TRA ĐẢNG VIÊN KHI CÓ DẤU HIỆU VI PHẠM CỦA CẤP ỦY, BAN THƯỜNG VỤ CẤP ỦY VÀ CHI BỘ | S1: Biểu 03
A3: TT | B3: Đảng viên được kiểm tra | C3: Tổng số đảng viên được kiểm tra | D3: Cấp kiểm tra | J3: Nội dung kiểm tra | R3: Kết luận
D4: BCHTW, Bộ Chính trị, Ban Bí thư | E4: Tỉnh ủy, BTV tỉnh ủy và tương đương | F4: Huyện ủy, BTV HU và tương đương | G4: Đảng ủy cơ sở, BTV đảng ủy cơ sở | H4: Đảng uy bộ phận | I4: Chi bộ | J4: Việc thực hiện những điều đảng viên không được làm | K4: Tiêu chuẩn đảng viên, tiêu chuẩn cấp ủy viên | L4: Việc thực hiện nhiệm vụ đảng viên, cấp ủy viên | M4: Việc chấp hành nghị quyết, chỉ thị, quy định, kết luận của Đảng; chính sách, pháp luật của Nhà nước | N4: Việc chấp hành quy chế làm việc, nguyên tắc tập trung dân chủ, chế độ công tác | O4: Tư tưởng chính trị, đạo đức, lối sống, trách nhiệm nêu gương | P4: Kê khai tài sản, thu nhập cá nhân | Q4: Khác | R4: Số có vi phạm | S4: Trong đó
N5: Việc chấp hành nghị quyết, chỉ thị, quy định của Đảng, pháp luật của Nhà nước | S5: Phải thi hành kỷ luật | T5: Đã thi hành kỷ luật
A6: 1 | B6: 2 | C6: 3 | D6: 4 | E6: 5 | F6: 6 | G6: 7 | H6: 8 | I6: 9 | J6: 10 | K6: 11 | L6: 12 | M6: 13 | N6: 14 | O6: 15 | P6: 16 | Q6: 17 | R6: 18 | S6: 19 | T6: 20
A7: I | B7: Cấp quản lý đảng viên | C7: =SUM(C8:C11) -> 0 | D7: =SUM(D8:D11) -> 0 | E7: =SUM(E8:E11) -> 0 | F7: =SUM(F8:F11) -> 0 | G7: =SUM(G8:G11) -> 0 | H7: =SUM(H8:H11) -> 0 | I7: =SUM(I8:I11) -> 0 | J7: =SUM(J8:J11) -> 0 | ... T7: =SUM(T8:T11) -> 0 | U7: =IF(AND(J7<=C7,K7<=C7,L7<=C7,M7<=C7,N7<=C7,O7<=C7,P7<=C7,Q7<=C7,R7<=C7),"Đúng","Sai") -> Đúng | V7: =IF(AND(T7<=S7,S7<=R7),"Đúng","Sai") -> Đúng
B8: Trung ương | C8: =SUM(D8:I8) -> 0 | U8: =IF(AND(J8<=C8,K8<=C8,L8<=C8,M8<=C8,N8<=C8,O8<=C8,P8<=C8,Q8<=C8,R8<=C8),"Đúng","Sai") -> Đúng | V8: =IF(AND(T8<=S8,S8<=R8),"Đúng","Sai") -> Đúng
B9: Cấp tỉnh và tương đương | C9: =SUM(D9:I9) -> 0 | U9: =IF(AND(J9<=C9,K9<=C9,L9<=C9,M9<=C9,N9<=C9,O9<=C9,P9<=C9,Q9<=C9,R9<=C9),"Đúng","Sai") -> Đúng | V9: =IF(AND(T9<=S9,S9<=R9),"Đúng","Sai") -> Đúng
B10: Cấp huyện và tương đương | C10: =SUM(D10:I10) -> 0 | U10: =IF(AND(J10<=C10,K10<=C10,L10<=C10,M10<=C10,N10<=C10,O10<=C10,P10<=C10,Q10<=C10,R10<=C10),"Đúng","Sai") -> Đúng | V10: =IF(AND(T10<=S10,S10<=R10),"Đúng","Sai") -> Đúng
B11: Cấp cơ sở | C11: =SUM(D11:I11) -> 0 | U11: =IF(AND(J11<=C11,K11<=C11,L11<=C11,M11<=C11,N11<=C11,O11<=C11,P11<=C11,Q11<=C11,R11<=C11),"Đúng","Sai") -> Đúng | V11: =IF(AND(T11<=S11,S11<=R11),"Đúng","Sai") -> Đúng
A12: II | B12: Là cấp uỷ viên các cấp | C12: =SUM(C13:C18) -> 0 | D12: =SUM(D13:D18) -> 0 | E12: =SUM(E13:E18) -> 0 | F12: =SUM(F13:F18) -> 0 | G12: =SUM(G13:G18) -> 0 | H12: =SUM(H13:H18) -> 0 | I12: =SUM(I13:I18) -> 0 | J12: =SUM(J13:J18) -> 0 | ... T12: =SUM(T13:T18) -> 0 | U12: =IF(AND(J12<=C12,K12<=C12,L12<=C12,M12<=C12,N12<=C12,O12<=C12,P12<=C12,Q12<=C12,R12<=C12),"Đúng","Sai") -> Đúng | V12: =IF(AND(T12<=S12,S12<=R12),"Đúng","Sai") -> Đúng
B13: Uỷ viên Trung ương | C13: =SUM(D13:I13) -> 0 | U13: =IF(AND(J13<=C13,K13<=C13,L13<=C13,M13<=C13,N13<=C13,O13<=C13,P13<=C13,Q13<=C13,R13<=C13),"Đúng","Sai") -> Đúng | V13: =IF(AND(T13<=S13,S13<=R13),"Đúng","Sai") -> Đúng
B14: Tỉnh uỷ viên và tương đương | C14: =SUM(D14:I14) -> 0 | U14: =IF(AND(J14<=C14,K14<=C14,L14<=C14,M14<=C14,N14<=C14,O14<=C14,P14<=C14,Q14<=C14,R14<=C14),"Đúng","Sai") -> Đúng | V14: =IF(AND(T14<=S14,S14<=R14),"Đúng","Sai") -> Đúng
B15: Huyện uỷ viên và tương đương | C15: =SUM(D15:I15) -> 0 | U15: =IF(AND(J15<=C15,K15<=C15,L15<=C15,M15<=C15,N15<=C15,O15<=C15,P15<=C15,Q15<=C15,R15<=C15),"Đúng","Sai") -> Đúng | V15: =IF(AND(T15<=S15,S15<=R15),"Đúng","Sai") -> Đúng
B16: Đảng uỷ viên | C16: =SUM(D16:I16) -> 0 | U16: =IF(AND(J16<=C16,K16<=C16,L16<=C16,M16<=C16,N16<=C16,O16<=C16,P16<=C16,Q16<=C16,R16<=C16),"Đúng","Sai") -> Đúng | V16: =IF(AND(T16<=S16,S16<=R16),"Đúng","Sai") -> Đúng
B17: Đảng ủy viên đảng ủy bộ phận | C17: =SUM(D17:I17) -> 0 | U17: =IF(AND(J17<=C17,K17<=C17,L17<=C17,M17<=C17,N17<=C17,O17<=C17,P17<=C17,Q17<=C17,R17<=C17),"Đúng","Sai") -> Đúng | V17: =IF(AND(T17<=S17,S17<=R17),"Đúng","Sai") -> Đúng
B18: Chi uỷ viên | C18: =SUM(D18:I18) -> 0 | U18: =IF(AND(J18<=C18,K18<=C18,L18<=C18,M18<=C18,N18<=C18,O18<=C18,P18<=C18,Q18<=C18,R18<=C18),"Đúng","Sai") -> Đúng | V18: =IF(AND(T18<=S18,S18<=R18),"Đúng","Sai") -> Đúng
A19: III | B19: Đảng viên ở các lĩnh vực | C19: =SUM(C20:C26) -> 0 | D19: =SUM(D20:D26) -> 0 | E19: =SUM(E20:E26) -> 0 | F19: =SUM(F20:F26) -> 0 | G19: =SUM(G20:G26) -> 0 | H19: =SUM(H20:H26) -> 0 | I19: =SUM(I20:I26) -> 0 | J19: =SUM(J20:J26) -> 0 | ... T19: =SUM(T20:T26) -> 0 | U19: =IF(AND(J19<=C19,K19<=C19,L19<=C19,M19<=C19,N19<=C19,O19<=C19,P19<=C19,Q19<=C19,R19<=C19),"Đúng","Sai") -> Đúng | V19: =IF(AND(T19<=S19,S19<=R19),"Đúng","Sai") -> Đúng
B20: Đảng | C20: =SUM(D20:I20) -> 0 | U20: =IF(AND(J20<=C20,K20<=C20,L20<=C20,M20<=C20,N20<=C20,O20<=C20,P20<=C20,Q20<=C20,R20<=C20),"Đúng","Sai") -> Đúng | V20: =IF(AND(T20<=S20,S20<=R20),"Đúng","Sai") -> Đúng
B21: Hành chính, Nhà nước | C21: =SUM(D21:I21) -> 0 | U21: =IF(AND(J21<=C21,K21<=C21,L21<=C21,M21<=C21,N21<=C21,O21<=C21,P21<=C21,Q21<=C21,R21<=C21),"Đúng","Sai") -> Đúng | V21: =IF(AND(T21<=S21,S21<=R21),"Đúng","Sai") -> Đúng
B22: Đoàn thể | C22: =SUM(D22:I22) -> 0 | U22: =IF(AND(J22<=C22,K22<=C22,L22<=C22,M22<=C22,N22<=C22,O22<=C22,P22<=C22,Q22<=C22,R22<=C22),"Đúng","Sai") -> Đúng | V22: =IF(AND(T22<=S22,S22<=R22),"Đúng","Sai") -> Đúng
B23: Lực lượng vũ trang | C23: =SUM(D23:I23) -> 0 | U23: =IF(AND(J23<=C23,K23<=C23,L23<=C23,M23<=C23,N23<=C23,O23<=C23,P23<=C23,Q23<=C23,R23<=C23),"Đúng","Sai") -> Đúng | V23: =IF(AND(T23<=S23,S23<=R23),"Đúng","Sai") -> Đúng
B24: Sự nghiệp công lập | C24: =SUM(D24:I24) -> 0 | U24: =IF(AND(J24<=C24,K24<=C24,L24<=C24,M24<=C24,N24<=C24,O24<=C24,P24<=C24,Q24<=C24,R24<=C24),"Đúng","Sai") -> Đúng | V24: =IF(AND(T24<=S24,S24<=R24),"Đúng","Sai") -> Đúng
B25: Sản xuất kinh doanh, dịch vụ | C25: =SUM(D25:I25) -> 0 | U25: =IF(AND(J25<=C25,K25<=C25,L25<=C25,M25<=C25,N25<=C25,O25<=C25,P25<=C25,Q25<=C25,R25<=C25),"Đúng","Sai") -> Đúng | V25: =IF(AND(T25<=S25,S25<=R25),"Đúng","Sai") -> Đúng
B26: Lĩnh vực khác | C26: =SUM(D26:I26) -> 0 | U26: =IF(AND(J26<=C26,K26<=C26,L26<=C26,M26<=C26,N26<=C26,O26<=C26,P26<=C26,Q26<=C26,R26<=C26),"Đúng","Sai") -> Đúng | V26: =IF(AND(T26<=S26,S26<=R26),"Đúng","Sai") -> Đúng
A27: IV | B27: Kết luận
B28: Số có vi phạm | C28: =SUM(D28:I28) -> 0
B29: Phải thi hành kỷ luật | C29: =SUM(D29:I29) -> 0
B30: Đã thi hành kỷ luật | C30: =SUM(D30:I30) -> 0
C32: =IF(C7=C19, "Đúng", "Sai") -> Đúng | D32: =IF(D7=D19, "Đúng", "Sai") -> Đúng | E32: =IF(E7=E19, "Đúng", "Sai") -> Đúng | F32: =IF(F7=F19, "Đúng", "Sai") -> Đúng | G32: =IF(G7=G19, "Đúng", "Sai") -> Đúng | H32: =IF(H7=H19, "Đúng", "Sai") -> Đúng | I32: =IF(I7=I19, "Đúng", "Sai") -> Đúng | J32: =IF(J7=J19, "Đúng", "Sai") -> Đúng | ... T32: =IF(T7=T19, "Đúng", "Sai") -> Đúng
C33: =IF(AND(C30<=C29,C29<=C28,C28<=C7),"Đúng","Sai") -> Đúng | D33: =IF(AND(D30<=D29,D29<=D28,D28<=D7),"Đúng","Sai") -> Đúng | E33: =IF(AND(E30<=E29,E29<=E28,E28<=E7),"Đúng","Sai") -> Đúng | F33: =IF(AND(F30<=F29,F29<=F28,F28<=F7),"Đúng","Sai") -> Đúng | G33: =IF(AND(G30<=G29,G29<=G28,G28<=G7),"Đúng","Sai") -> Đúng | H33: =IF(AND(H30<=H29,H29<=H28,H28<=H7),"Đúng","Sai") -> Đúng | I33: =IF(AND(I30<=I29,I29<=I28,I28<=I7),"Đúng","Sai") -> Đúng | J33: =IF(AND(J30<=J29,J29<=J28,J28<=J7),"Đúng","Sai") -> Đúng | ... Q33: =IF(AND(Q30<=Q29,Q29<=Q28,Q28<=Q7),"Đúng","Sai") -> Đúng
C34: =IF(R7=C28, "Đúng", "Sai") -> Đúng
C35: =IF(S7=C29, "Đúng", "Sai") -> Đúng
C36: =IF(T7=C30, "Đúng", "Sai") -> Đúng

Sheet B04
A1: KIỂM TRA TỔ CHỨC ĐẢNG KHI CÓ DẤU HIỆU VI PHẠM CỦA CẤP ỦY, BAN THƯỜNG VỤ CẤP ỦY | R1: Biểu 04
A3: TT | B3: Tổ chức đảng được kiểm tra | C3: Tổng số tổ chức đảng được kiểm tra | D3: Cấp kiểm tra | H3: Nội dung kiểm tra | Q3: Kết luận
D4: BCHTW, Bộ Chính trị, Ban Bí thư | E4: Tỉnh ủy, BTV tỉnh ủy và tương đương | F4: Huyện ủy, BTV HU và tương đương | G4: Đảng ủy cơ sở, BTV đảng ủy cơ sở | H4: Việc chấp hành Cương lĩnh chính trị, Điều lệ Đảng, chủ trương, nghị quyết, chỉ thị, quy định, quyết định, quy chế, kết luận, hướng dẫn của Đảng | I4: Việc chấp hành chính sách, pháp luật của Nhà nước | J4: Việc chấp hành các nguyên tắc tổ chức và hoạt động của Đảng, giữ gìn đoàn kết nội bộ, quy chế làm việc, chế độ công tác, thực hiện dân chủ trong Đảng | K4: Việc lãnh đạo, chỉ đạo thực hành tiết kiệm; phòng, chống tham nhũng, lãng phí; quản lý, tèn luyện phẩm chất, đạo đức, lối sống của đảng viên | L4: Việc lãnh đạo, chỉ đạo và tổ chức thực hiện cải cách hành chính, cải cách tư pháp | M4: Việc lãnh đạo, chỉ đạo các cơ quan bảo vệ pháp luật trong công tác điều tra, truy tố, xét xử, thi hành án | N4: Công tác cán bộ | O4: Giải quyết khiếu nại, tố cáo | P4: Khác | Q4: Số có vi phạm | R4: Trong đó
R5: Phải thi hành kỷ luật | S5: Đã thi hành kỷ luật
A6: 1 | B6: 2 | C6: 3 | D6: 4 | E6: 5 | F6: 6 | G6: 7 | H6: 8 | I6: 9 | J6: 10 | K6: 11 | L6: 12 | M6: 13 | N6: 14 | O6: 15 | P6: 16 | Q6: 17 | R6: 18 | S6: 19
A7: I | B7: Tổ chức đảng được kiểm tra | C7: =SUM(C8:C18) -> 0 | D7: =SUM(D8:D18) -> 0 | E7: =SUM(E8:E18) -> 0 | F7: =SUM(F8:F18) -> 0 | G7: =SUM(G8:G18) -> 0 | H7: =SUM(H8:H18) -> 0 | I7: =SUM(I8:I18) -> 0 | J7: =SUM(J8:J18) -> 0 | ... S7: =SUM(S8:S18) -> 0 | T7: =IF(AND(H7<=C7,I7<=C7,J7<=C7,K7<=C7,L7<=C7,M7<=C7,N7<=C7,O7<=C7,P7<=C7,Q7<=C7),"Đúng","Sai") -> Đúng | U7: =IF(AND(S7<=R7,R7<=Q7),"Đúng","Sai") -> Đúng
B8: BCS đảng, đảng đoàn ở TW | C8: =SUM(D8:G8) -> 0 | T8: =IF(AND(H8<=C8,I8<=C8,J8<=C8,K8<=C8,L8<=C8,M8<=C8,N8<=C8,O8<=C8,P8<=C8,Q8<=C8),"Đúng","Sai") -> Đúng | U8: =IF(AND(S8<=R8,R8<=Q8),"Đúng","Sai") -> Đúng
B9: Các CQ tham mưu của Trung ương | C9: =SUM(D9:G9) -> 0 | T9: =IF(AND(H9<=C9,I9<=C9,J9<=C9,K9<=C9,L9<=C9,M9<=C9,N9<=C9,O9<=C9,P9<=C9,Q9<=C9),"Đúng","Sai") -> Đúng | U9: =IF(AND(S9<=R9,R9<=Q9),"Đúng","Sai") -> Đúng
B10: Tỉnh ủy, BTV, Thường trực tỉnh ủy và tương đương | C10: =SUM(D10:G10) -> 0 | T10: =IF(AND(H10<=C10,I10<=C10,J10<=C10,K10<=C10,L10<=C10,M10<=C10,N10<=C10,O10<=C10,P10<=C10,Q10<=C10),"Đúng","Sai") -> Đúng | U10: =IF(AND(S10<=R10,R10<=Q10),"Đúng","Sai") -> Đúng
B11: BCS đảng, đảng đoàn cấp tỉnh và tương đương | C11: =SUM(D11:G11) -> 0 | T11: =IF(AND(H11<=C11,I11<=C11,J11<=C11,K11<=C11,L11<=C11,M11<=C11,N11<=C11,O11<=C11,P11<=C11,Q11<=C11),"Đúng","Sai") -> Đúng | U11: =IF(AND(S11<=R11,R11<=Q11),"Đúng","Sai") -> Đúng
B12: Các CQ tham mưu của cấp ủy tỉnh và tương đương | C12: =SUM(D12:G12) -> 0 | T12: =IF(AND(H12<=C12,I12<=C12,J12<=C12,K12<=C12,L12<=C12,M12<=C12,N12<=C12,O12<=C12,P12<=C12,Q12<=C12),"Đúng","Sai") -> Đúng | U12: =IF(AND(S12<=R12,R12<=Q12),"Đúng","Sai") -> Đúng
B13: Huyện ủy, BTV, Thường trực huyện ủy và tương đương | C13: =SUM(D13:G13) -> 0 | T13: =IF(AND(H13<=C13,I13<=C13,J13<=C13,K13<=C13,L13<=C13,M13<=C13,N13<=C13,O13<=C13,P13<=C13,Q13<=C13),"Đúng","Sai") -> Đúng | U13: =IF(AND(S13<=R13,R13<=Q13),"Đúng","Sai") -> Đúng
B14: Các CQ tham mưu của cấp ủy huyện và tương đương | C14: =SUM(D14:G14) -> 0 | T14: =IF(AND(H14<=C14,I14<=C14,J14<=C14,K14<=C14,L14<=C14,M14<=C14,N14<=C14,O14<=C14,P14<=C14,Q14<=C14),"Đúng","Sai") -> Đúng | U14: =IF(AND(S14<=R14,R14<=Q14),"Đúng","Sai") -> Đúng
B15: Đảng ủy cơ sở, BTV đảng ủy cơ sở | C15: =SUM(D15:G15) -> 0 | T15: =IF(AND(H15<=C15,I15<=C15,J15<=C15,K15<=C15,L15<=C15,M15<=C15,N15<=C15,O15<=C15,P15<=C15,Q15<=C15),"Đúng","Sai") -> Đúng | U15: =IF(AND(S15<=R15,R15<=Q15),"Đúng","Sai") -> Đúng
B16: Đảng ủy bộ phận | C16: =SUM(D16:G16) -> 0 | T16: =IF(AND(H16<=C16,I16<=C16,J16<=C16,K16<=C16,L16<=C16,M16<=C16,N16<=C16,O16<=C16,P16<=C16,Q16<=C16),"Đúng","Sai") -> Đúng | U16: =IF(AND(S16<=R16,R16<=Q16),"Đúng","Sai") -> Đúng
B17: Chi bộ, Chi ủy | C17: =SUM(D17:G17) -> 0 | T17: =IF(AND(H17<=C17,I17<=C17,J17<=C17,K17<=C17,L17<=C17,M17<=C17,N17<=C17,O17<=C17,P17<=C17,Q17<=C17),"Đúng","Sai") -> Đúng | U17: =IF(AND(S17<=R17,R17<=Q17),"Đúng","Sai") -> Đúng
B18: Khác (ban chỉ đạo, tiểu ban, hội đồng, tổ đảng,...) | C18: =SUM(D18:G18) -> 0 | T18: =IF(AND(H18<=C18,I18<=C18,J18<=C18,K18<=C18,L18<=C18,M18<=C18,N18<=C18,O18<=C18,P18<=C18,Q18<=C18),"Đúng","Sai") -> Đúng | U18: =IF(AND(S18<=R18,R18<=Q18),"Đúng","Sai") -> Đúng
A19: II | B19: Kết luận
B20: Số có vi phạm | C20: =SUM(D20:G20) -> 0
B21: Phải thi hành kỷ luật | C21: =SUM(D21:G21) -> 0
B22: Đã thi hành kỷ luật | C22: =SUM(D22:G22) -> 0
C23: =IF(AND(C22<=C21,C21<=C20,C20<=C7),"Đúng","Sai") -> Đúng | D23: =IF(AND(D22<=D21,D21<=D20,D20<=D7),"Đúng","Sai") -> Đúng | E23: =IF(AND(E22<=E21,E21<=E20,E20<=E7),"Đúng","Sai") -> Đúng | F23: =IF(AND(F22<=F21,F21<=F20,F20<=F7),"Đúng","Sai") -> Đúng | G23: =IF(AND(G22<=G21,G21<=G20,G20<=G7),"Đúng","Sai") -> Đúng | H23: =IF(AND(H22<=H21,H21<=H20,H20<=H7),"Đúng","Sai") -> Đúng | I23: =IF(AND(I22<=I21,I21<=I20,I20<=I7),"Đúng","Sai") -> Đúng | J23: =IF(AND(J22<=J21,J21<=J20,J20<=J7),"Đúng","Sai") -> Đúng | ... P23: =IF(AND(P22<=P21,P21<=P20,P20<=P7),"Đúng","Sai") -> Đúng
C24: =IF(Q7=C20, "Đúng", "Sai") -> Đúng
C25: =IF(R7=C21, "Đúng", "Sai") -> Đúng
C26: =IF(S7=C22, "Đúng", "Sai") -> Đúng

Sheet B05
A1: GIÁM SÁT ĐẢNG VIÊN THEO ĐIỀU 30 ĐIỀU LỆ ĐẢNG | V1: Biểu 05
A2: (Giám sát theo chuyên đề) | V2: (ĐVT: đảng viên)
A3: TT | B3: Đảng viên được giám sát | C3: Tổng số đảng viên được giám sát | D3: Cấp giám sát | M3: Nội dung | U3: Kết quả
D4: BCH TW, Bộ Chính trị, Ban Bí thư | E4: Các CQ tham mưu của Trung ương | F4: Tỉnh ủy, BTV tỉnh uỷ và tương đương | G4: Các CQ tham mưu của cấp ủy tỉnh và tương đương | H4: Huyện ủy, BTV HU và tương đương | I4: Các CQ tham mưu của cấp ủy huyện và tương đương | J4: Đảng ủy cơ sở, BTV đảng ủy cơ sở | K4: Đảng ủy bộ phận | L4: Chi bộ | M4: Việc thực hiện những điều đảng viên không được làm | N4: Tiêu chuẩn đảng viên, tiêu chuẩn cấp ủy viên | O4: Việc thực hiện nhiệm vụ đảng viên, nhiệm vụ cấp ủy viên | P4: Việc chấp hành nghị quyết, chỉ thị, quy định, kết luận của Đảng; chính sách, pháp luật của Nhà nước | Q4: Việc chấp hành quy chế làm việc, nguyên tắc tập trung dân chủ, chế độ công tác | R4: Tư tưởng chính trị, giữ gìn đạo đức, lối sống, trách nhiệm nêu gương | S4: Kê khai tài sản, thu nhập cá nhân | T4: Khác | U4: Số đảng viên thực hiện tốt | V4: Số đảng viên có vi phạm, khuyết điểm | W4: Số đảng viên chuyển kiểm tra khi có dấu hiệu vi phạm
A5: 1 | B5: 2 | C5: 3 | D5: 4 | E5: 5 | F5: 6 | G5: 7 | H5: 8 | I5: 9 | J5: 10 | K5: 11 | L5: 12 | M5: 13 | N5: 14 | O5: 15 | P5: 16 | Q5: 17 | R5: 18 | S5: 19 | T5: 20 | U5: 21 | V5: 22 | W5: 23
A6: I | B6: Cấp quản lý đảng viên | C6: =SUM(C7:C10) -> 0 | D6: =SUM(D7:D10) -> 0 | E6: =SUM(E7:E10) -> 0 | F6: =SUM(F7:F10) -> 0 | G6: =SUM(G7:G10) -> 0 | H6: =SUM(H7:H10) -> 0 | I6: =SUM(I7:I10) -> 0 | J6: =SUM(J7:J10) -> 0 | ... W6: =SUM(W7:W10) -> 0 | X6: =IF(AND(M6<=C6,N6<=C6,O6<=C6,P6<=C6,Q6<=C6,R6<=C6,S6<=C6,T6<=C6),"Đúng","Sai") -> Đúng | Y6: =IF(C6=U6+V6,"Đúng","Sai") -> Đúng | Z6: =IF(W6<=V6,"Đúng","Sai") -> Đúng
B7: Trung ương | C7: =SUM(D7:L7) -> 0 | X7: =IF(AND(M7<=C7,N7<=C7,O7<=C7,P7<=C7,Q7<=C7,R7<=C7,S7<=C7,T7<=C7),"Đúng","Sai") -> Đúng | Y7: =IF(C7=U7+V7,"Đúng","Sai") -> Đúng | Z7: =IF(W7<=V7,"Đúng","Sai") -> Đúng
B8: Cấp tỉnh và tương đương | C8: =SUM(D8:L8) -> 0 | X8: =IF(AND(M8<=C8,N8<=C8,O8<=C8,P8<=C8,Q8<=C8,R8<=C8,S8<=C8,T8<=C8),"Đúng","Sai") -> Đúng | Y8: =IF(C8=U8+V8,"Đúng","Sai") -> Đúng | Z8: =IF(W8<=V8,"Đúng","Sai") -> Đúng
B9: Cấp huyện và tương đương | C9: =SUM(D9:L9) -> 0 | X9: =IF(AND(M9<=C9,N9<=C9,O9<=C9,P9<=C9,Q9<=C9,R9<=C9,S9<=C9,T9<=C9),"Đúng","Sai") -> Đúng | Y9: =IF(C9=U9+V9,"Đúng","Sai") -> Đúng | Z9: =IF(W9<=V9,"Đúng","Sai") -> Đúng
B10: Cấp cơ sở | C10: =SUM(D10:L10) -> 0 | X10: =IF(AND(M10<=C10,N10<=C10,O10<=C10,P10<=C10,Q10<=C10,R10<=C10,S10<=C10,T10<=C10),"Đúng","Sai") -> Đúng | Y10: =IF(C10=U10+V10,"Đúng","Sai") -> Đúng | Z10: =IF(W10<=V10,"Đúng","Sai") -> Đúng
A11: II | B11: Cấp ủy viên các cấp | C11: =C12+C13+C16+C19+C20+C21 -> 0 | D11: =D12+D13+D16+D19+D20+D21 -> 0 | E11: =E12+E13+E16+E19+E20+E21 -> 0 | F11: =F12+F13+F16+F19+F20+F21 -> 0 | G11: =G12+G13+G16+G19+G20+G21 -> 0 | H11: =H12+H13+H16+H19+H20+H21 -> 0 | I11: =I12+I13+I16+I19+I20+I21 -> 0 | J11: =J12+J13+J16+J19+J20+J21 -> 0 | ... W11: =W12+W13+W16+W19+W20+W21 -> 0 | X11: =IF(AND(M11<=C11,N11<=C11,O11<=C11,P11<=C11,Q11<=C11,R11<=C11,S11<=C11,T11<=C11),"Đúng","Sai") -> Đúng | Y11: =IF(C11=U11+V11,"Đúng","Sai") -> Đúng | Z11: =IF(W11<=V11,"Đúng","Sai") -> Đúng
B12: Uỷ viên Trung ương | C12: =SUM(D12:L12) -> 0 | X12: =IF(AND(M12<=C12,N12<=C12,O12<=C12,P12<=C12,Q12<=C12,R12<=C12,S12<=C12,T12<=C12),"Đúng","Sai") -> Đúng | Y12: =IF(C12=U12+V12,"Đúng","Sai") -> Đúng | Z12: =IF(W12<=V12,"Đúng","Sai") -> Đúng
B13: Tỉnh ủy viên và tương đương | C13: =SUM(D13:L13) -> 0 | X13: =IF(AND(M13<=C13,N13<=C13,O13<=C13,P13<=C13,Q13<=C13,R13<=C13,S13<=C13,T13<=C13),"Đúng","Sai") -> Đúng | Y13: =IF(C13=U13+V13,"Đúng","Sai") -> Đúng | Z13: =IF(W13<=V13,"Đúng","Sai") -> Đúng
B14: Trong đó: Bí thư | C14: =SUM(D14:L14) -> 0 | X14: =IF(AND(M14<=C14,N14<=C14,O14<=C14,P14<=C14,Q14<=C14,R14<=C14,S14<=C14,T14<=C14),"Đúng","Sai") -> Đúng | Y14: =IF(C14=U14+V14,"Đúng","Sai") -> Đúng | Z14: =IF(W14<=V14,"Đúng","Sai") -> Đúng
B15: Phó Bí thư | C15: =SUM(D15:L15) -> 0 | X15: =IF(AND(M15<=C15,N15<=C15,O15<=C15,P15<=C15,Q15<=C15,R15<=C15,S15<=C15,T15<=C15),"Đúng","Sai") -> Đúng | Y15: =IF(C15=U15+V15,"Đúng","Sai") -> Đúng | Z15: =IF(W15<=V15,"Đúng","Sai") -> Đúng
B16: Huyện ủy viên và tương đương | C16: =SUM(D16:L16) -> 0 | X16: =IF(AND(M16<=C16,N16<=C16,O16<=C16,P16<=C16,Q16<=C16,R16<=C16,S16<=C16,T16<=C16),"Đúng","Sai") -> Đúng | Y16: =IF(C16=U16+V16,"Đúng","Sai") -> Đúng | Z16: =IF(W16<=V16,"Đúng","Sai") -> Đúng
B17: Trong đó: Bí thư | C17: =SUM(D17:L17) -> 0 | X17: =IF(AND(M17<=C17,N17<=C17,O17<=C17,P17<=C17,Q17<=C17,R17<=C17,S17<=C17,T17<=C17),"Đúng","Sai") -> Đúng | Y17: =IF(C17=U17+V17,"Đúng","Sai") -> Đúng | Z17: =IF(W17<=V17,"Đúng","Sai") -> Đúng
B18: Phó Bí thư | C18: =SUM(D18:L18) -> 0 | X18: =IF(AND(M18<=C18,N18<=C18,O18<=C18,P18<=C18,Q18<=C18,R18<=C18,S18<=C18,T18<=C18),"Đúng","Sai") -> Đúng | Y18: =IF(C18=U18+V18,"Đúng","Sai") -> Đúng | Z18: =IF(W18<=V18,"Đúng","Sai") -> Đúng
B19: Đảng uỷ viên | C19: =SUM(D19:L19) -> 0 | X19: =IF(AND(M19<=C19,N19<=C19,O19<=C19,P19<=C19,Q19<=C19,R19<=C19,S19<=C19,T19<=C19),"Đúng","Sai") -> Đúng | Y19: =IF(C19=U19+V19,"Đúng","Sai") -> Đúng | Z19: =IF(W19<=V19,"Đúng","Sai") -> Đúng
B20: Đảng ủy viên đảng ủy bộ phận | C20: =SUM(D20:L20) -> 0 | X20: =IF(AND(M20<=C20,N20<=C20,O20<=C20,P20<=C20,Q20<=C20,R20<=C20,S20<=C20,T20<=C20),"Đúng","Sai") -> Đúng | Y20: =IF(C20=U20+V20,"Đúng","Sai") -> Đúng | Z20: =IF(W20<=V20,"Đúng","Sai") -> Đúng
B21: Chi uỷ viên | C21: =SUM(D21:L21) -> 0 | X21: =IF(AND(M21<=C21,N21<=C21,O21<=C21,P21<=C21,Q21<=C21,R21<=C21,S21<=C21,T21<=C21),"Đúng","Sai") -> Đúng | Y21: =IF(C21=U21+V21,"Đúng","Sai") -> Đúng | Z21: =IF(W21<=V21,"Đúng","Sai") -> Đúng
A22: III | B22: Đảng viên ở các lĩnh vực | C22: =SUM(C23:C29) -> 0 | D22: =SUM(D23:D29) -> 0 | E22: =SUM(E23:E29) -> 0 | F22: =SUM(F23:F29) -> 0 | G22: =SUM(G23:G29) -> 0 | H22: =SUM(H23:H29) -> 0 | I22: =SUM(I23:I29) -> 0 | J22: =SUM(J23:J29) -> 0 | ... W22: =SUM(W23:W29) -> 0 | X22: =IF(AND(M22<=C22,N22<=C22,O22<=C22,P22<=C22,Q22<=C22,R22<=C22,S22<=C22,T22<=C22),"Đúng","Sai") -> Đúng | Y22: =IF(C22=U22+V22,"Đúng","Sai") -> Đúng | Z22: =IF(W22<=V22,"Đúng","Sai") -> Đúng
B23: Đảng | C23: =SUM(D23:L23) -> 0 | X23: =IF(AND(M23<=C23,N23<=C23,O23<=C23,P23<=C23,Q23<=C23,R23<=C23,S23<=C23,T23<=C23),"Đúng","Sai") -> Đúng | Y23: =IF(C23=U23+V23,"Đúng","Sai") -> Đúng | Z23: =IF(W23<=V23,"Đúng","Sai") -> Đúng
B24: Hành chính, Nhà nước | C24: =SUM(D24:L24) -> 0 | X24: =IF(AND(M24<=C24,N24<=C24,O24<=C24,P24<=C24,Q24<=C24,R24<=C24,S24<=C24,T24<=C24),"Đúng","Sai") -> Đúng | Y24: =IF(C24=U24+V24,"Đúng","Sai") -> Đúng | Z24: =IF(W24<=V24,"Đúng","Sai") -> Đúng
B25: Đoàn thể | C25: =SUM(D25:L25) -> 0 | X25: =IF(AND(M25<=C25,N25<=C25,O25<=C25,P25<=C25,Q25<=C25,R25<=C25,S25<=C25,T25<=C25),"Đúng","Sai") -> Đúng | Y25: =IF(C25=U25+V25,"Đúng","Sai") -> Đúng | Z25: =IF(W25<=V25,"Đúng","Sai") -> Đúng
B26: Lực lượng vũ trang | C26: =SUM(D26:L26) -> 0 | X26: =IF(AND(M26<=C26,N26<=C26,O26<=C26,P26<=C26,Q26<=C26,R26<=C26,S26<=C26,T26<=C26),"Đúng","Sai") -> Đúng | Y26: =IF(C26=U26+V26,"Đúng","Sai") -> Đúng | Z26: =IF(W26<=V26,"Đúng","Sai") -> Đúng
B27: Sự nghiệp công lập | C27: =SUM(D27:L27) -> 0 | X27: =IF(AND(M27<=C27,N27<=C27,O27<=C27,P27<=C27,Q27<=C27,R27<=C27,S27<=C27,T27<=C27),"Đúng","Sai") -> Đúng | Y27: =IF(C27=U27+V27,"Đúng","Sai") -> Đúng | Z27: =IF(W27<=V27,"Đúng","Sai") -> Đúng
B28: Sản xuất kinh doanh, dịch vụ | C28: =SUM(D28:L28) -> 0 | X28: =IF(AND(M28<=C28,N28<=C28,O28<=C28,P28<=C28,Q28<=C28,R28<=C28,S28<=C28,T28<=C28),"Đúng","Sai") -> Đúng | Y28: =IF(C28=U28+V28,"Đúng","Sai") -> Đúng | Z28: =IF(W28<=V28,"Đúng","Sai") -> Đúng
B29: Các lĩnh vực khác | C29: =SUM(D29:L29) -> 0 | X29: =IF(AND(M29<=C29,N29<=C29,O29<=C29,P29<=C29,Q29<=C29,R29<=C29,S29<=C29,T29<=C29),"Đúng","Sai") -> Đúng | Y29: =IF(C29=U29+V29,"Đúng","Sai") -> Đúng | Z29: =IF(W29<=V29,"Đúng","Sai") -> Đúng
C31: =IF(C6=C22, "Đúng", "Sai") -> Đúng | D31: =IF(D6=D22, "Đúng", "Sai") -> Đúng | E31: =IF(E6=E22, "Đúng", "Sai") -> Đúng | F31: =IF(F6=F22, "Đúng", "Sai") -> Đúng | G31: =IF(G6=G22, "Đúng", "Sai") -> Đúng | H31: =IF(H6=H22, "Đúng", "Sai") -> Đúng | I31: =IF(I6=I22, "Đúng", "Sai") -> Đúng | J31: =IF(J6=J22, "Đúng", "Sai") -> Đúng | ... W31: =IF(W6=W22, "Đúng", "Sai") -> Đúng

Sheet B06
A1: GIÁM SÁT TỔ CHỨC ĐẢNG THEO ĐIỀU 30 ĐIỀU LỆ ĐẢNG | W1: Biểu 06
A2: (Giám sát theo chuyên đề) | T2: (ĐVT: Tổ chức đảng)
A3: TT | B3: Tổ chức đảng được giám sát | C3: Tổng số tổ chức đảng được giám sát | D3: Cấp giám sát | L3: Nội dung | V3: Kết quả
D4: BCH Trung ương, Bộ Chính trị, BBT | E4: Các CQ tham mưu của Trung ương | F4: Tỉnh uỷ, BTV tỉnh uỷ và tương đương | G4: Các CQ tham mưu của cấp ủy tỉnh và tương đương | H4: Huyện uỷ, BTV HU và tương đương | I4: Các CQ tham mưu của cấp ủy huyện và tương đương | J4: Đảng ủy cơ sở, BTV Đảng ủy cơ sở | K4: Đảng ủy bộ phận | L4: Việc chấp hành Cương lĩnh chính trị, Điều lệ Đảng, chủ trương, nghị quyết, chỉ thị, quy định, quyết định, quy chế, kết luận, hướng dẫn của Đảng | M4: Việc chấp hành chính sách, pháp luật của Nhà nước | N4: Việc chấp hành các nguyên tắc tổ chức và hoạt động của Đảng, giữ gìn đoàn kết nội bộ, quy chế làm việc, chế độ công tác, thực hiện dân chủ trong Đảng | O4: Việc lãnh đạo, chỉ đạo thực hành tiết kiệm; phòng, chống tham nhũng, lãng phí; quản lý, rèn luyện phẩm chất, đạo đức, lối sống của đảng viên | P4: Việc lãnh đạo, chỉ đạo và tổ chức thực hiện cải cách hành chính, cải cách tư pháp | Q4: Việc lãnh đạo, chỉ đạo các cơ quan bảo vệ pháp luật trong công tác điều tra, truy tố, xét xử, thi hành án | R4: Việc thực hiện chức năng, nhiệm vụ, quyền hạn thuộc lĩnh vực phụ trách và những nội dung do cấp ủy giao | S4: Công tác cán bộ | T4: Giải quyết khiếu nại, tố cáo | U4: Khác | V4: Số tổ chức đảng thực hiện tốt | W4: Số tổ chức đảng có vi phạm, khuyết điểm | X4: Số tổ chức đảng chuyển kiểm tra khi có dấu hiệu vi phạm
A5: 1 | B5: 2 | C5: 3 | D5: 4 | E5: 5 | F5: 6 | G5: 7 | H5: 8 | I5: 9 | J5: 10 | K5: 11 | L5: 12 | M5: 13 | N5: 14 | O5: 15 | P5: 16 | Q5: 17 | R5: 18 | S5: 19 | T5: 20 | U5: 21 | V5: 22 | W5: 23 | X5: 24
B6: BCS đảng, đảng đoàn ở Trung ương | C6: =SUM(D6:K6) -> 0 | Y6: =IF(AND(L6<=C6,M6<=C6,N6<=C6,O6<=C6,P6<=C6,Q6<=C6,R6<=C6,S6<=C6,T6<=C6,U6<=C6),"Đúng","Sai") -> Đúng | Z6: =IF(C6=V6+W6,"Đúng","Sai") -> Đúng | AA6: =IF(X6<=W6,"Đúng","Sai") -> Đúng
B7: Các CQ tham mưu của Trung ương | C7: =SUM(D7:K7) -> 0 | Y7: =IF(AND(L7<=C7,M7<=C7,N7<=C7,O7<=C7,P7<=C7,Q7<=C7,R7<=C7,S7<=C7,T7<=C7,U7<=C7),"Đúng","Sai") -> Đúng | Z7: =IF(C7=V7+W7,"Đúng","Sai") -> Đúng | AA7: =IF(X7<=W7,"Đúng","Sai") -> Đúng
B8: Tỉnh ủy, BTV, thường trực tỉnh ủy và tương đương | C8: =SUM(D8:K8) -> 0 | Y8: =IF(AND(L8<=C8,M8<=C8,N8<=C8,O8<=C8,P8<=C8,Q8<=C8,R8<=C8,S8<=C8,T8<=C8,U8<=C8),"Đúng","Sai") -> Đúng | Z8: =IF(C8=V8+W8,"Đúng","Sai") -> Đúng | AA8: =IF(X8<=W8,"Đúng","Sai") -> Đúng
B9: BCS đảng, đảng đoàn cấp tỉnh và tương đương | C9: =SUM(D9:K9) -> 0 | Y9: =IF(AND(L9<=C9,M9<=C9,N9<=C9,O9<=C9,P9<=C9,Q9<=C9,R9<=C9,S9<=C9,T9<=C9,U9<=C9),"Đúng","Sai") -> Đúng | Z9: =IF(C9=V9+W9,"Đúng","Sai") -> Đúng | AA9: =IF(X9<=W9,"Đúng","Sai") -> Đúng
B10: Các CQ tham mưu của cấp ủy tỉnh và tương đương | C10: =SUM(D10:K10) -> 0 | Y10: =IF(AND(L10<=C10,M10<=C10,N10<=C10,O10<=C10,P10<=C10,Q10<=C10,R10<=C10,S10<=C10,T10<=C10,U10<=C10),"Đúng","Sai") -> Đúng | Z10: =IF(C10=V10+W10,"Đúng","Sai") -> Đúng | AA10: =IF(X10<=W10,"Đúng","Sai") -> Đúng
B11: Huyện ủy, BTV, thường trực huyện ủy và tương đương | C11: =SUM(D11:K11) -> 0 | Y11: =IF(AND(L11<=C11,M11<=C11,N11<=C11,O11<=C11,P11<=C11,Q11<=C11,R11<=C11,S11<=C11,T11<=C11,U11<=C11),"Đúng","Sai") -> Đúng | Z11: =IF(C11=V11+W11,"Đúng","Sai") -> Đúng | AA11: =IF(X11<=W11,"Đúng","Sai") -> Đúng
B12: Các CQ tham mưu của cấp ủy huyện và tương đương | C12: =SUM(D12:K12) -> 0 | Y12: =IF(AND(L12<=C12,M12<=C12,N12<=C12,O12<=C12,P12<=C12,Q12<=C12,R12<=C12,S12<=C12,T12<=C12,U12<=C12),"Đúng","Sai") -> Đúng | Z12: =IF(C12=V12+W12,"Đúng","Sai") -> Đúng | AA12: =IF(X12<=W12,"Đúng","Sai") -> Đúng
B13: Đảng ủy cơ sở, BTV Đảng ủy cơ sở | C13: =SUM(D13:K13) -> 0 | Y13: =IF(AND(L13<=C13,M13<=C13,N13<=C13,O13<=C13,P13<=C13,Q13<=C13,R13<=C13,S13<=C13,T13<=C13,U13<=C13),"Đúng","Sai") -> Đúng | Z13: =IF(C13=V13+W13,"Đúng","Sai") -> Đúng | AA13: =IF(X13<=W13,"Đúng","Sai") -> Đúng
B14: Đảng ủy bộ phận | C14: =SUM(D14:K14) -> 0 | Y14: =IF(AND(L14<=C14,M14<=C14,N14<=C14,O14<=C14,P14<=C14,Q14<=C14,R14<=C14,S14<=C14,T14<=C14,U14<=C14),"Đúng","Sai") -> Đúng | Z14: =IF(C14=V14+W14,"Đúng","Sai") -> Đúng | AA14: =IF(X14<=W14,"Đúng","Sai") -> Đúng
B15: Chi bộ, Chi ủy | C15: =SUM(D15:K15) -> 0 | Y15: =IF(AND(L15<=C15,M15<=C15,N15<=C15,O15<=C15,P15<=C15,Q15<=C15,R15<=C15,S15<=C15,T15<=C15,U15<=C15),"Đúng","Sai") -> Đúng | Z15: =IF(C15=V15+W15,"Đúng","Sai") -> Đúng | AA15: =IF(X15<=W15,"Đúng","Sai") -> Đúng
B16: Khác (Ban Chỉ đạo, tiểu ban, hội đồng, tổ đảng...) | C16: =SUM(D16:K16) -> 0 | Y16: =IF(AND(L16<=C16,M16<=C16,N16<=C16,O16<=C16,P16<=C16,Q16<=C16,R16<=C16,S16<=C16,T16<=C16,U16<=C16),"Đúng","Sai") -> Đúng | Z16: =IF(C16=V16+W16,"Đúng","Sai") -> Đúng | AA16: =IF(X16<=W16,"Đúng","Sai") -> Đúng
A17: I | B17: Cộng | C17: =SUM(C6:C16) -> 0 | D17: =SUM(D6:D16) -> 0 | E17: =SUM(E6:E16) -> 0 | F17: =SUM(F6:F16) -> 0 | G17: =SUM(G6:G16) -> 0 | H17: =SUM(H6:H16) -> 0 | I17: =SUM(I6:I16) -> 0 | J17: =SUM(J6:J16) -> 0 | ... X17: =SUM(X6:X16) -> 0 | Y17: =IF(AND(L17<=C17,M17<=C17,N17<=C17,O17<=C17,P17<=C17,Q17<=C17,R17<=C17,S17<=C17,T17<=C17,U17<=C17),"Đúng","Sai") -> Đúng | Z17: =IF(C17=V17+W17,"Đúng","Sai") -> Đúng | AA17: =IF(X17<=W17,"Đúng","Sai") -> Đúng

Sheet B07
A1: THI HÀNH KỶ LUẬT ĐẢNG VIÊN CỦA CẤP ỦY CÁC CẤP VÀ CHI BỘ | Y1: Biểu 07
Y2: (ĐVT: lượt đảng viên)
A3: TT | B3: Đảng viên bị thi hành kỷ luật | C3: Tổng số đảng viên bị THKL | D3: Hình thức kỷ luật | H3: Đình chỉ sinh hoạt đảng | I3: Đình chỉ sinh hoạt cấp ủy viên | J3: Xóa tên, cho rút | K3: Cấp thi hành kỷ luật | P3: Nội dung vi phạm | Y3: Xử lý pháp luật | AB3: Xử lý hành chính
D4: Khiển trách | E4: Cảnh cáo | F4: Cách chức | G4: Khai trừ | K4: BCHTW, Bộ Chính trị, Ban Bí thư | L4: Tỉnh uỷ, BTV tỉnh uỷ và tương đương | M4: Huyện uỷ, BTV HU và tương đương | N4: Đảng uỷ cơ sở , BTV đảng ủy cơ sở | O4: Chi bộ | P4: Những điều đảng viên không được làm | Q4: Tiêu chuẩn đảng viên, tiêu chuẩn cấp ủy viên | R4: Việc thực hiện nhiệm vụ đảng viên, cấp ủy viên | S4: Việc chấp hành nghị quyết, chỉ thị, quy định, kết luận của Đảng; chính sách, pháp luật của Nhà nước | T4: Việc chấp hành quy chế làm việc, nguyên tắc tập trung dân chủ, chế độ công tác | U4: Tư tưởng chính trị, đạo đức, lối sống, trách nhiệm nêu gương | V4: Tham nhũng, tiêu cực, lãng phí | W4: Kê khai tài sản, thu nhập cá nhân | X4: Khác | Y4: Số lượng | Z4: Trong đó
Z5: Bị phạt tù (kể cả án treo) | AA5: Hình thức khác
A6: 1 | B6: 2 | C6: 3 | D6: 4 | E6: 5 | F6: 6 | G6: 7 | H6: 8 | I6: 9 | J6: 10 | K6: 11 | L6: 12 | M6: 13 | N6: 14 | O6: 15 | P6: 16 | Q6: 17 | R6: 18 | S6: 19 | T6: 20 | U6: 21 | V6: 22 | W6: 23 | X6: 24 | Y6: 25 | Z6: 26 | AA6: 27 | AB6: 28
A7: I | B7: Cấp quản lý đảng viên | C7: =SUM(C8:C11) -> 0 | D7: =SUM(D8:D11) -> 0 | E7: =SUM(E8:E11) -> 0 | F7: =SUM(F8:F11) -> 0 | G7: =SUM(G8:G11) -> 0 | H7: =SUM(H8:H11) -> 0 | I7: =SUM(I8:I11) -> 0 | J7: =SUM(J8:J11) -> 0 | ... AB7: =SUM(AB8:AB11) -> 0 | AC7: =IF(C7=(SUM(K7:O7)),"Đúng","Sai") -> Đúng | AD7: =IF(AND(P7<=C7,Q7<=C7,R7<=C7,S7<=C7,T7<=C7,U7<=C7,V7<=C7,X7<=C7,W7<=C7),"Đúng","Sai") -> Đúng | AE7: =IF(Y7=Z7+AA7,"Đúng","Sai") -> Đúng
B8: Trung ương | C8: =SUM(D8:G8) -> 0 | AC8: =IF(C8=(SUM(K8:O8)),"Đúng","Sai") -> Đúng | AD8: =IF(AND(P8<=C8,Q8<=C8,R8<=C8,S8<=C8,T8<=C8,U8<=C8,V8<=C8,X8<=C8,W8<=C8),"Đúng","Sai") -> Đúng | AE8: =IF(Y8=Z8+AA8,"Đúng","Sai") -> Đúng
B9: Cấp tỉnh và tương đương | C9: =SUM(D9:G9) -> 0 | AC9: =IF(C9=(SUM(K9:O9)),"Đúng","Sai") -> Đúng | AD9: =IF(AND(P9<=C9,Q9<=C9,R9<=C9,S9<=C9,T9<=C9,U9<=C9,V9<=C9,X9<=C9,W9<=C9),"Đúng","Sai") -> Đúng | AE9: =IF(Y9=Z9+AA9,"Đúng","Sai") -> Đúng
B10: Cấp huyện và tương đương | C10: =SUM(D10:G10) -> 0 | AC10: =IF(C10=(SUM(K10:O10)),"Đúng","Sai") -> Đúng | AD10: =IF(AND(P10<=C10,Q10<=C10,R10<=C10,S10<=C10,T10<=C10,U10<=C10,V10<=C10,X10<=C10,W10<=C10),"Đúng","Sai") -> Đúng | AE10: =IF(Y10=Z10+AA10,"Đúng","Sai") -> Đúng
B11: Cấp cơ sở | C11: =SUM(D11:G11) -> 0 | AC11: =IF(C11=(SUM(K11:O11)),"Đúng","Sai") -> Đúng | AD11: =IF(AND(P11<=C11,Q11<=C11,R11<=C11,S11<=C11,T11<=C11,U11<=C11,V11<=C11,X11<=C11,W11<=C11),"Đúng","Sai") -> Đúng | AE11: =IF(Y11=Z11+AA11,"Đúng","Sai") -> Đúng
A12: II | B12: Là cấp uỷ viên các cấp | C12: =SUM(C13:C18) -> 0 | D12: =SUM(D13:D18) -> 0 | E12: =SUM(E13:E18) -> 0 | F12: =SUM(F13:F18) -> 0 | G12: =SUM(G13:G18) -> 0 | H12: =SUM(H13:H18) -> 0 | I12: =SUM(I13:I18) -> 0 | J12: =SUM(J13:J18) -> 0 | ... AB12: =SUM(AB13:AB18) -> 0 | AC12: =IF(C12=(SUM(K12:O12)),"Đúng","Sai") -> Đúng | AD12: =IF(AND(P12<=C12,Q12<=C12,R12<=C12,S12<=C12,T12<=C12,U12<=C12,V12<=C12,X12<=C12,W12<=C12),"Đúng","Sai") -> Đúng | AE12: =IF(Y12=Z12+AA12,"Đúng","Sai") -> Đúng
B13: Uỷ viên Trung ương | C13: =SUM(D13:G13) -> 0 | AC13: =IF(C13=(SUM(K13:O13)),"Đúng","Sai") -> Đúng | AD13: =IF(AND(P13<=C13,Q13<=C13,R13<=C13,S13<=C13,T13<=C13,U13<=C13,V13<=C13,X13<=C13,W13<=C13),"Đúng","Sai") -> Đúng | AE13: =IF(Y13=Z13+AA13,"Đúng","Sai") -> Đúng
B14: Tỉnh ủy viên và tương đương | C14: =SUM(D14:G14) -> 0 | AC14: =IF(C14=(SUM(K14:O14)),"Đúng","Sai") -> Đúng | AD14: =IF(AND(P14<=C14,Q14<=C14,R14<=C14,S14<=C14,T14<=C14,U14<=C14,V14<=C14,X14<=C14,W14<=C14),"Đúng","Sai") -> Đúng | AE14: =IF(Y14=Z14+AA14,"Đúng","Sai") -> Đúng
B15: Huyện ủy viên và tương đương | C15: =SUM(D15:G15) -> 0 | AC15: =IF(C15=(SUM(K15:O15)),"Đúng","Sai") -> Đúng | AD15: =IF(AND(P15<=C15,Q15<=C15,R15<=C15,S15<=C15,T15<=C15,U15<=C15,V15<=C15,X15<=C15,W15<=C15),"Đúng","Sai") -> Đúng | AE15: =IF(Y15=Z15+AA15,"Đúng","Sai") -> Đúng
B16: Đảng ủy viên | C16: =SUM(D16:G16) -> 0 | AC16: =IF(C16=(SUM(K16:O16)),"Đúng","Sai") -> Đúng | AD16: =IF(AND(P16<=C16,Q16<=C16,R16<=C16,S16<=C16,T16<=C16,U16<=C16,V16<=C16,X16<=C16,W16<=C16),"Đúng","Sai") -> Đúng | AE16: =IF(Y16=Z16+AA16,"Đúng","Sai") -> Đúng
B17: Đảng ủy viên đảng ủy bộ phận | C17: =SUM(D17:G17) -> 0 | AC17: =IF(C17=(SUM(K17:O17)),"Đúng","Sai") -> Đúng | AD17: =IF(AND(P17<=C17,Q17<=C17,R17<=C17,S17<=C17,T17<=C17,U17<=C17,V17<=C17,X17<=C17,W17<=C17),"Đúng","Sai") -> Đúng | AE17: =IF(Y17=Z17+AA17,"Đúng","Sai") -> Đúng
B18: Chi ủy viên | C18: =SUM(D18:G18) -> 0 | AC18: =IF(C18=(SUM(K18:O18)),"Đúng","Sai") -> Đúng | AD18: =IF(AND(P18<=C18,Q18<=C18,R18<=C18,S18<=C18,T18<=C18,U18<=C18,V18<=C18,X18<=C18,W18<=C18),"Đúng","Sai") -> Đúng | AE18: =IF(Y18=Z18+AA18,"Đúng","Sai") -> Đúng
A19: III | B19: Đảng viên ở các lĩnh vực | C19: =SUM(C20:C26) -> 0 | D19: =SUM(D20:D26) -> 0 | E19: =SUM(E20:E26) -> 0 | F19: =SUM(F20:F26) -> 0 | G19: =SUM(G20:G26) -> 0 | H19: =SUM(H20:H26) -> 0 | I19: =SUM(I20:I26) -> 0 | J19: =SUM(J20:J26) -> 0 | ... AB19: =SUM(AB20:AB26) -> 0 | AC19: =IF(C19=(SUM(K19:O19)),"Đúng","Sai") -> Đúng | AD19: =IF(AND(P19<=C19,Q19<=C19,R19<=C19,S19<=C19,T19<=C19,U19<=C19,V19<=C19,X19<=C19,W19<=C19),"Đúng","Sai") -> Đúng | AE19: =IF(Y19=Z19+AA19,"Đúng","Sai") -> Đúng
B20: Đảng | C20: =SUM(D20:G20) -> 0 | AC20: =IF(C20=(SUM(K20:O20)),"Đúng","Sai") -> Đúng | AD20: =IF(AND(P20<=C20,Q20<=C20,R20<=C20,S20<=C20,T20<=C20,U20<=C20,V20<=C20,X20<=C20,W20<=C20),"Đúng","Sai") -> Đúng | AE20: =IF(Y20=Z20+AA20,"Đúng","Sai") -> Đúng
B21: Hành chính, Nhà nước | C21: =SUM(D21:G21) -> 0 | AC21: =IF(C21=(SUM(K21:O21)),"Đúng","Sai") -> Đúng | AD21: =IF(AND(P21<=C21,Q21<=C21,R21<=C21,S21<=C21,T21<=C21,U21<=C21,V21<=C21,X21<=C21,W21<=C21),"Đúng","Sai") -> Đúng | AE21: =IF(Y21=Z21+AA21,"Đúng","Sai") -> Đúng
B22: Đoàn thể | C22: =SUM(D22:G22) -> 0 | AC22: =IF(C22=(SUM(K22:O22)),"Đúng","Sai") -> Đúng | AD22: =IF(AND(P22<=C22,Q22<=C22,R22<=C22,S22<=C22,T22<=C22,U22<=C22,V22<=C22,X22<=C22,W22<=C22),"Đúng","Sai") -> Đúng | AE22: =IF(Y22=Z22+AA22,"Đúng","Sai") -> Đúng
B23: Lực lượng vũ trang | C23: =SUM(D23:G23) -> 0 | AC23: =IF(C23=(SUM(K23:O23)),"Đúng","Sai") -> Đúng | AD23: =IF(AND(P23<=C23,Q23<=C23,R23<=C23,S23<=C23,T23<=C23,U23<=C23,V23<=C23,X23<=C23,W23<=C23),"Đúng","Sai") -> Đúng | AE23: =IF(Y23=Z23+AA23,"Đúng","Sai") -> Đúng
B24: Sự nghiệp công lập | C24: =SUM(D24:G24) -> 0 | AC24: =IF(C24=(SUM(K24:O24)),"Đúng","Sai") -> Đúng | AD24: =IF(AND(P24<=C24,Q24<=C24,R24<=C24,S24<=C24,T24<=C24,U24<=C24,V24<=C24,X24<=C24,W24<=C24),"Đúng","Sai") -> Đúng | AE24: =IF(Y24=Z24+AA24,"Đúng","Sai") -> Đúng
B25: SXKD, dịch vụ | C25: =SUM(D25:G25) -> 0 | AC25: =IF(C25=(SUM(K25:O25)),"Đúng","Sai") -> Đúng | AD25: =IF(AND(P25<=C25,Q25<=C25,R25<=C25,S25<=C25,T25<=C25,U25<=C25,V25<=C25,X25<=C25,W25<=C25),"Đúng","Sai") -> Đúng | AE25: =IF(Y25=Z25+AA25,"Đúng","Sai") -> Đúng
B26: Lĩnh vực khác | C26: =SUM(D26:G26) -> 0 | AC26: =IF(C26=(SUM(K26:O26)),"Đúng","Sai") -> Đúng | AD26: =IF(AND(P26<=C26,Q26<=C26,R26<=C26,S26<=C26,T26<=C26,U26<=C26,V26<=C26,X26<=C26,W26<=C26),"Đúng","Sai") -> Đúng | AE26: =IF(Y26=Z26+AA26,"Đúng","Sai") -> Đúng
A27: IV | B27: Đảng viên bị THKT từ nhiệm vụ | C27: =SUM(C28:C31) -> 0 | D27: =SUM(D28:D31) -> 0 | E27: =SUM(E28:E31) -> 0 | F27: =SUM(F28:F31) -> 0 | G27: =SUM(G28:G31) -> 0 | H27: =SUM(H28:H31) -> 0 | I27: =SUM(I28:I31) -> 0 | J27: =SUM(J28:J31) -> 0 | ... AB27: =SUM(AB28:AB31) -> 0 | AC27: =IF(C27=(SUM(K27:O27)),"Đúng","Sai") -> Đúng | AD27: =IF(AND(P27<=C27,Q27<=C27,R27<=C27,S27<=C27,T27<=C27,U27<=C27,V27<=C27,X27<=C27,W27<=C27),"Đúng","Sai") -> Đúng | AE27: =IF(Y27=Z27+AA27,"Đúng","Sai") -> Đúng
B28: Kiểm tra theo Điều 30 của ĐLĐ | C28: =SUM(D28:G28) -> 0 | AC28: =IF(C28=(SUM(K28:O28)),"Đúng","Sai") -> Đúng | AD28: =IF(AND(P28<=C28,Q28<=C28,R28<=C28,S28<=C28,T28<=C28,U28<=C28,V28<=C28,X28<=C28,W28<=C28),"Đúng","Sai") -> Đúng | AE28: =IF(Y28=Z28+AA28,"Đúng","Sai") -> Đúng
B29: Kiểm tra khi có DHVP của BTV cấp ủy và chi bộ | C29: =SUM(D29:G29) -> 0 | AC29: =IF(C29=(SUM(K29:O29)),"Đúng","Sai") -> Đúng | AD29: =IF(AND(P29<=C29,Q29<=C29,R29<=C29,S29<=C29,T29<=C29,U29<=C29,V29<=C29,X29<=C29,W29<=C29),"Đúng","Sai") -> Đúng | AE29: =IF(Y29=Z29+AA29,"Đúng","Sai") -> Đúng
B30: Giải quyết tố cáo của cấp ủy các cấp | C30: =SUM(D30:G30) -> 0 | AC30: =IF(C30=(SUM(K30:O30)),"Đúng","Sai") -> Đúng | AD30: =IF(AND(P30<=C30,Q30<=C30,R30<=C30,S30<=C30,T30<=C30,U30<=C30,V30<=C30,X30<=C30,W30<=C30),"Đúng","Sai") -> Đúng | AE30: =IF(Y30=Z30+AA30,"Đúng","Sai") -> Đúng
B31: Khác (từ đề nghị của TCĐ, UBKT cấp dưới, từ chỉ đạo của cấp trên giao...) | C31: =SUM(D31:G31) -> 0 | AC31: =IF(C31=(SUM(K31:O31)),"Đúng","Sai") -> Đúng | AD31: =IF(AND(P31<=C31,Q31<=C31,R31<=C31,S31<=C31,T31<=C31,U31<=C31,V31<=C31,X31<=C31,W31<=C31),"Đúng","Sai") -> Đúng | AE31: =IF(Y31=Z31+AA31,"Đúng","Sai") -> Đúng
A32: V | B32: Số liệu lấy thêm: | C32: 1 - Tổng số đảng viên của đảng bộ | O32: 2 - Số đảng viên là người dân tộc thiểu số bị thi hành kỷ luật
C34: =IF(AND(C7=C27,C7=C19), "Đúng","Sai") -> Đúng | D34: =IF(AND(D7=D27,D7=D19), "Đúng","Sai") -> Đúng | E34: =IF(AND(E7=E27,E7=E19), "Đúng","Sai") -> Đúng | F34: =IF(AND(F7=F27,F7=F19), "Đúng","Sai") -> Đúng | G34: =IF(AND(G7=G27,G7=G19), "Đúng","Sai") -> Đúng | H34: =IF(AND(H7=H27,H7=H19), "Đúng","Sai") -> Đúng | I34: =IF(AND(I7=I27,I7=I19), "Đúng","Sai") -> Đúng | J34: =IF(AND(J7=J27,J7=J19), "Đúng","Sai") -> Đúng | ... AB34: =IF(AND(AB7=AB27,AB7=AB19), "Đúng","Sai") -> Đúng

Sheet B08
A1: THI HÀNH KỶ LUẬT TỔ CHỨC ĐẢNG CỦA CẤP ỦY CÁC CẤP | R1: Biểu 08
Q2: (ĐVT: Tổ chức đảng)
A3: TT | B3: Tổ chức đảng bị thi hành kỷ luật | C3: Tổng số tổ chức đảng bị thi hành kỷ luật | D3: Hình thức kỷ luật | G3: Cấp thi hành kỷ luật | K3: Nội dung vi phạm
D4: Khiển trách | E4: Cảnh cáo | F4: Giải tán | G4: BCHTW, Bộ Chính trị, Ban Bí thư | H4: Tỉnh uỷ, BTV tỉnh uỷ và tương đương | I4: Huyện uỷ, BTV huyện uỷ và tương đương | J4: Đảng uỷ cơ sở, BTV Đảng uỷ cơ sở | K4: Việc chấp hành Cương lĩnh chính trị, Điều lệ Đảng, chủ trương, nghị quyết, chỉ thị, quy định, quyết định, quy chế, kết luận, hướng dẫn của Đảng | L4: Việc chấp hành chính sách, pháp luật của Nhà nước | M4: Việc chấp hành các nguyên tắc tổ chức và hoạt động của Đảng, giữ gìn đoàn kết nội bộ, quy chế làm việc, chế độ công tác, thực hiện dân chủ trong Đảng | N4: Việc lãnh đạo, chỉ đạo thực hành tiết kiệm; phòng, chống tham nhũng, lãng phí; quản lý, tèn luyện phẩm chất, đạo đức, lối sống của đảng viên | O4: Việc lãnh đạo, chỉ đạo và tổ chức thực hiện cải cách hành chính, cải cách tư pháp | P4: Việc lãnh đạo, chỉ đạo các cơ quan bảo vệ pháp luật trong công tác điều tra, truy tố, xét xử, thi hành án | Q4: Công tác cán bộ | R4: Giải quyết khiếu nại, tố cáo | S4: Khác
A5: 1 | B5: 2 | C5: 3 | D5: 4 | E5: 5 | F5: 6 | G5: 7 | H5: 8 | I5: 9 | J5: 10 | K5: 11 | L5: 12 | M5: 13 | N5: 14 | O5: 15 | P5: 16 | Q5: 17 | R5: 18 | S5: 19
A6: I | B6: Tổ chức đảng bị THKL | C6: =SUM(C7:C17) -> 0 | D6: =SUM(D7:D17) -> 0 | E6: =SUM(E7:E17) -> 0 | F6: =SUM(F7:F17) -> 0 | G6: =SUM(G7:G17) -> 0 | H6: =SUM(H7:H17) -> 0 | I6: =SUM(I7:I17) -> 0 | J6: =SUM(J7:J17) -> 0 | ... S6: =SUM(S7:S17) -> 0 | T6: =IF((C6=SUM(G6:J6)),"Đúng","Sai") -> Đúng | U6: =IF(AND(K6<=C6,L6<=C6,M6<=C6,N6<=C6,O6<=C6,P6<=C6,Q6<=C6,R6<=C6,S6<=C6),"Đúng","Sai") -> Đúng
B7: BCS đảng, đảng đoàn ở Trung ương | C7: =SUM(D7:F7) -> 0 | T7: =IF((C7=SUM(G7:J7)),"Đúng","Sai") -> Đúng | U7: =IF(AND(K7<=C7,L7<=C7,M7<=C7,N7<=C7,O7<=C7,P7<=C7,Q7<=C7,R7<=C7,S7<=C7),"Đúng","Sai") -> Đúng
B8: Các CQ tham mưu của Trung ương | C8: =SUM(D8:F8) -> 0 | T8: =IF((C8=SUM(G8:J8)),"Đúng","Sai") -> Đúng | U8: =IF(AND(K8<=C8,L8<=C8,M8<=C8,N8<=C8,O8<=C8,P8<=C8,Q8<=C8,R8<=C8,S8<=C8),"Đúng","Sai") -> Đúng
B9: Tỉnh uỷ, BTV, Thường trực tỉnh uỷ và tương đương | C9: =SUM(D9:F9) -> 0 | T9: =IF((C9=SUM(G9:J9)),"Đúng","Sai") -> Đúng | U9: =IF(AND(K9<=C9,L9<=C9,M9<=C9,N9<=C9,O9<=C9,P9<=C9,Q9<=C9,R9<=C9,S9<=C9),"Đúng","Sai") -> Đúng
B10: BCS đảng, đảng đoàn cấp tỉnh và tương đương | C10: =SUM(D10:F10) -> 0 | T10: =IF((C10=SUM(G10:J10)),"Đúng","Sai") -> Đúng | U10: =IF(AND(K10<=C10,L10<=C10,M10<=C10,N10<=C10,O10<=C10,P10<=C10,Q10<=C10,R10<=C10,S10<=C10),"Đúng","Sai") -> Đúng
B11: Các CQ tham mưu của cấp ủy tỉnh và tương đương | C11: =SUM(D11:F11) -> 0 | T11: =IF((C11=SUM(G11:J11)),"Đúng","Sai") -> Đúng | U11: =IF(AND(K11<=C11,L11<=C11,M11<=C11,N11<=C11,O11<=C11,P11<=C11,Q11<=C11,R11<=C11,S11<=C11),"Đúng","Sai") -> Đúng
B12: Huyện uỷ, BTV, Thường trực huyện uỷ và tương đương | C12: =SUM(D12:F12) -> 0 | T12: =IF((C12=SUM(G12:J12)),"Đúng","Sai") -> Đúng | U12: =IF(AND(K12<=C12,L12<=C12,M12<=C12,N12<=C12,O12<=C12,P12<=C12,Q12<=C12,R12<=C12,S12<=C12),"Đúng","Sai") -> Đúng
B13: Các CQ tham mưu của cấp ủy huyện và tương đương | C13: =SUM(D13:F13) -> 0 | T13: =IF((C13=SUM(G13:J13)),"Đúng","Sai") -> Đúng | U13: =IF(AND(K13<=C13,L13<=C13,M13<=C13,N13<=C13,O13<=C13,P13<=C13,Q13<=C13,R13<=C13,S13<=C13),"Đúng","Sai") -> Đúng
B14: Đảng uỷ cơ sở, BTV đảng ủy cơ sở | C14: =SUM(D14:F14) -> 0 | T14: =IF((C14=SUM(G14:J14)),"Đúng","Sai") -> Đúng | U14: =IF(AND(K14<=C14,L14<=C14,M14<=C14,N14<=C14,O14<=C14,P14<=C14,Q14<=C14,R14<=C14,S14<=C14),"Đúng","Sai") -> Đúng
B15: Đảng uỷ bộ phận | C15: =SUM(D15:F15) -> 0 | T15: =IF((C15=SUM(G15:J15)),"Đúng","Sai") -> Đúng | U15: =IF(AND(K15<=C15,L15<=C15,M15<=C15,N15<=C15,O15<=C15,P15<=C15,Q15<=C15,R15<=C15,S15<=C15),"Đúng","Sai") -> Đúng
B16: Chi bộ, Chi ủy | C16: =SUM(D16:F16) -> 0 | T16: =IF((C16=SUM(G16:J16)),"Đúng","Sai") -> Đúng | U16: =IF(AND(K16<=C16,L16<=C16,M16<=C16,N16<=C16,O16<=C16,P16<=C16,Q16<=C16,R16<=C16,S16<=C16),"Đúng","Sai") -> Đúng
B17: Khác (ban chỉ đạo, tiểu ban, hội đồng,..) | C17: =SUM(D17:F17) -> 0 | T17: =IF((C17=SUM(G17:J17)),"Đúng","Sai") -> Đúng | U17: =IF(AND(K17<=C17,L17<=C17,M17<=C17,N17<=C17,O17<=C17,P17<=C17,Q17<=C17,R17<=C17,S17<=C17),"Đúng","Sai") -> Đúng
A18: II | B18: Bị THKT từ nhiệm vụ | C18: =SUM(C19:C22) -> 0 | D18: =SUM(D19:D22) -> 0 | E18: =SUM(E19:E22) -> 0 | F18: =SUM(F19:F22) -> 0 | G18: =SUM(G19:G22) -> 0 | H18: =SUM(H19:H22) -> 0 | I18: =SUM(I19:I22) -> 0 | J18: =SUM(J19:J22) -> 0 | ... S18: =SUM(S19:S22) -> 0 | T18: =IF((C18=SUM(G18:J18)),"Đúng","Sai") -> Đúng | U18: =IF(AND(K18<=C18,L18<=C18,M18<=C18,N18<=C18,O18<=C18,P18<=C18,Q18<=C18,R18<=C18,S18<=C18),"Đúng","Sai") -> Đúng
B19: Kiểm tra theo Điều 30 của ĐLĐ | C19: =SUM(D19:F19) -> 0 | T19: =IF((C19=SUM(G19:J19)),"Đúng","Sai") -> Đúng | U19: =IF(AND(K19<=C19,L19<=C19,M19<=C19,N19<=C19,O19<=C19,P19<=C19,Q19<=C19,R19<=C19,S19<=C19),"Đúng","Sai") -> Đúng
B20: Kiểm tra khi có DHVP của BTV cấp ủy và chi bộ | C20: =SUM(D20:F20) -> 0 | T20: =IF((C20=SUM(G20:J20)),"Đúng","Sai") -> Đúng | U20: =IF(AND(K20<=C20,L20<=C20,M20<=C20,N20<=C20,O20<=C20,P20<=C20,Q20<=C20,R20<=C20,S20<=C20),"Đúng","Sai") -> Đúng
B21: Giải quyết tố cáo của cấp ủy các cấp | C21: =SUM(D21:F21) -> 0 | T21: =IF((C21=SUM(G21:J21)),"Đúng","Sai") -> Đúng | U21: =IF(AND(K21<=C21,L21<=C21,M21<=C21,N21<=C21,O21<=C21,P21<=C21,Q21<=C21,R21<=C21,S21<=C21),"Đúng","Sai") -> Đúng
B22: Khác (từ đề nghị của TCĐ, UBKT cấp dưới, từ chỉ đạo của cấp trên giao...) | C22: =SUM(D22:F22) -> 0 | T22: =IF((C22=SUM(G22:J22)),"Đúng","Sai") -> Đúng | U22: =IF(AND(K22<=C22,L22<=C22,M22<=C22,N22<=C22,O22<=C22,P22<=C22,Q22<=C22,R22<=C22,S22<=C22),"Đúng","Sai") -> Đúng
C24: =IF(C6=C18,"Đúng","Sai") -> Đúng | D24: =IF(D6=D18,"Đúng","Sai") -> Đúng | E24: =IF(E6=E18,"Đúng","Sai") -> Đúng | F24: =IF(F6=F18,"Đúng","Sai") -> Đúng | G24: =IF(G6=G18,"Đúng","Sai") -> Đúng | H24: =IF(H6=H18,"Đúng","Sai") -> Đúng | I24: =IF(I6=I18,"Đúng","Sai") -> Đúng | J24: =IF(J6=J18,"Đúng","Sai") -> Đúng | ... S24: =IF(S6=S18,"Đúng","Sai") -> Đúng

Sheet B09
A1: GIẢI QUYẾT KHIẾU NẠI KỶ LUẬT ĐẢNG VIÊN CỦA CẤP ỦY CÁC CẤP | T1: Biểu 09
T2: (ĐVT: Đảng viên)
A3: TT | B3: Đảng viên khiếu nại kỷ luật đảng | C3: Đã giải quyết xong | D3: Cấp giải quyết khiếu nại | K3: Nội dung khiếu nại | N3: Kết luận
D4: BCHTW, Bộ Chính trị, Ban Bí thư | E4: Tỉnh ủy và tương đương | F4: BTV tỉnh uỷ và tương đương | G4: Huyện ủy và tương đương | H4: BTV huyện uỷ và tương đương | I4: Đảng uỷ cơ sở | J4: BTV đảng uỷ cơ sở | K4: Nội dung vi phạm | L4: Hình thức kỷ luật | M4: Nguyên tắc, thủ tục, quy trình, thẩm quyền | N4: Cho rút đơn, không xem xét giải quyết | O4: Giữ nguyên hình thức kỷ luật | P4: Thay đổi hình thức kỷ luật | Q4: Trong đó | T4: Nguyên nhân thay đổi hình thức kỷ luật
Q5: Tăng hình thức kỷ luật | R5: Giảm hình thức kỷ luật | S5: Xoá kỷ luật | T5: Vận dụng phương hướng, phương châm THKL | U5: Thẩm tra, xác minh | V5: Khác
A6: 1 | B6: 2 | C6: 3 | D6: 4 | E6: 5 | F6: 6 | G6: 7 | H6: 8 | I6: 9 | J6: 10 | K6: 11 | L6: 12 | M6: 13 | N6: 14 | O6: 15 | P6: 16 | Q6: 17 | R6: 18 | S6: 19 | T6: 20 | U6: 21 | V6: 22
A7: I | B7: Cấp quản lý đảng viên | C7: =SUM(C8:C11) -> 0 | D7: =SUM(D8:D11) -> 0 | E7: =SUM(E8:E11) -> 0 | F7: =SUM(F8:F11) -> 0 | G7: =SUM(G8:G11) -> 0 | H7: =SUM(H8:H11) -> 0 | I7: =SUM(I8:I11) -> 0 | J7: =SUM(J8:J11) -> 0 | ... V7: =SUM(V8:V11) -> 0 | W7: =IF(AND(K7<=C7,L7<=C7,M7<=C7),"Đúng","Sai") -> Đúng | X7: =IF(C7=N7+O7+P7,"Đúng","Sai") -> Đúng | Y7: =IF(P7=Q7+R7+S7,"Đúng","Sai") -> Đúng
B8: Trung ương | C8: =SUM(D8:J8) -> 0 | W8: =IF(AND(K8<=C8,L8<=C8,M8<=C8),"Đúng","Sai") -> Đúng | X8: =IF(C8=N8+O8+P8,"Đúng","Sai") -> Đúng | Y8: =IF(P8=Q8+R8+S8,"Đúng","Sai") -> Đúng
B9: Cấp tỉnh và tương đương | C9: =SUM(D9:J9) -> 0 | W9: =IF(AND(K9<=C9,L9<=C9,M9<=C9),"Đúng","Sai") -> Đúng | X9: =IF(C9=N9+O9+P9,"Đúng","Sai") -> Đúng | Y9: =IF(P9=Q9+R9+S9,"Đúng","Sai") -> Đúng
B10: Cấp huyện và tương đương | C10: =SUM(D10:J10) -> 0 | W10: =IF(AND(K10<=C10,L10<=C10,M10<=C10),"Đúng","Sai") -> Đúng | X10: =IF(C10=N10+O10+P10,"Đúng","Sai") -> Đúng | Y10: =IF(P10=Q10+R10+S10,"Đúng","Sai") -> Đúng
B11: Cấp cơ sở | C11: =SUM(D11:J11) -> 0 | W11: =IF(AND(K11<=C11,L11<=C11,M11<=C11),"Đúng","Sai") -> Đúng | X11: =IF(C11=N11+O11+P11,"Đúng","Sai") -> Đúng | Y11: =IF(P11=Q11+R11+S11,"Đúng","Sai") -> Đúng
A12: II | B12: Cấp quyết định kỷ luật | C12: =SUM(C13:C24) -> 0 | D12: =SUM(D13:D24) -> 0 | E12: =SUM(E13:E24) -> 0 | F12: =SUM(F13:F24) -> 0 | G12: =SUM(G13:G24) -> 0 | H12: =SUM(H13:H24) -> 0 | I12: =SUM(I13:I24) -> 0 | J12: =SUM(J13:J24) -> 0 | ... V12: =SUM(V13:V24) -> 0 | W12: =IF(AND(K12<=C12,L12<=C12,M12<=C12),"Đúng","Sai") -> Đúng | X12: =IF(C12=N12+O12+P12,"Đúng","Sai") -> Đúng | Y12: =IF(P12=Q12+R12+S12,"Đúng","Sai") -> Đúng
B13: BCHTW, Bộ Chính trị, BBT | C13: =SUM(D13:J13) -> 0 | W13: =IF(AND(K13<=C13,L13<=C13,M13<=C13),"Đúng","Sai") -> Đúng | X13: =IF(C13=N13+O13+P13,"Đúng","Sai") -> Đúng | Y13: =IF(P13=Q13+R13+S13,"Đúng","Sai") -> Đúng
B14: UBKT Trung ương | C14: =SUM(D14:J14) -> 0 | W14: =IF(AND(K14<=C14,L14<=C14,M14<=C14),"Đúng","Sai") -> Đúng | X14: =IF(C14=N14+O14+P14,"Đúng","Sai") -> Đúng | Y14: =IF(P14=Q14+R14+S14,"Đúng","Sai") -> Đúng
B15: Tỉnh ủy và tương đương | C15: =SUM(D15:J15) -> 0 | W15: =IF(AND(K15<=C15,L15<=C15,M15<=C15),"Đúng","Sai") -> Đúng | X15: =IF(C15=N15+O15+P15,"Đúng","Sai") -> Đúng | Y15: =IF(P15=Q15+R15+S15,"Đúng","Sai") -> Đúng
B16: BTV tỉnh ủy và tương đương | C16: =SUM(D16:J16) -> 0 | W16: =IF(AND(K16<=C16,L16<=C16,M16<=C16),"Đúng","Sai") -> Đúng | X16: =IF(C16=N16+O16+P16,"Đúng","Sai") -> Đúng | Y16: =IF(P16=Q16+R16+S16,"Đúng","Sai") -> Đúng
B17: UBKT tỉnh uỷ và tương đương | C17: =SUM(D17:J17) -> 0 | W17: =IF(AND(K17<=C17,L17<=C17,M17<=C17),"Đúng","Sai") -> Đúng | X17: =IF(C17=N17+O17+P17,"Đúng","Sai") -> Đúng | Y17: =IF(P17=Q17+R17+S17,"Đúng","Sai") -> Đúng
B18: Huyện ủy và tương đương | C18: =SUM(D18:J18) -> 0 | W18: =IF(AND(K18<=C18,L18<=C18,M18<=C18),"Đúng","Sai") -> Đúng | X18: =IF(C18=N18+O18+P18,"Đúng","Sai") -> Đúng | Y18: =IF(P18=Q18+R18+S18,"Đúng","Sai") -> Đúng
B19: BTV huyện ủy và tương đương | C19: =SUM(D19:J19) -> 0 | W19: =IF(AND(K19<=C19,L19<=C19,M19<=C19),"Đúng","Sai") -> Đúng | X19: =IF(C19=N19+O19+P19,"Đúng","Sai") -> Đúng | Y19: =IF(P19=Q19+R19+S19,"Đúng","Sai") -> Đúng
B20: UBKT huyện ủy và tương đương | C20: =SUM(D20:J20) -> 0 | W20: =IF(AND(K20<=C20,L20<=C20,M20<=C20),"Đúng","Sai") -> Đúng | X20: =IF(C20=N20+O20+P20,"Đúng","Sai") -> Đúng | Y20: =IF(P20=Q20+R20+S20,"Đúng","Sai") -> Đúng
B21: Đảng ủy cơ sở | C21: =SUM(D21:J21) -> 0 | W21: =IF(AND(K21<=C21,L21<=C21,M21<=C21),"Đúng","Sai") -> Đúng | X21: =IF(C21=N21+O21+P21,"Đúng","Sai") -> Đúng | Y21: =IF(P21=Q21+R21+S21,"Đúng","Sai") -> Đúng
B22: BTV đảng ủy cơ sở | C22: =SUM(D22:J22) -> 0 | W22: =IF(AND(K22<=C22,L22<=C22,M22<=C22),"Đúng","Sai") -> Đúng | X22: =IF(C22=N22+O22+P22,"Đúng","Sai") -> Đúng | Y22: =IF(P22=Q22+R22+S22,"Đúng","Sai") -> Đúng
B23: UBKT đảng ủy cơ sở | C23: =SUM(D23:J23) -> 0 | W23: =IF(AND(K23<=C23,L23<=C23,M23<=C23),"Đúng","Sai") -> Đúng | X23: =IF(C23=N23+O23+P23,"Đúng","Sai") -> Đúng | Y23: =IF(P23=Q23+R23+S23,"Đúng","Sai") -> Đúng
B24: Chi bộ | C24: =SUM(D24:J24) -> 0 | W24: =IF(AND(K24<=C24,L24<=C24,M24<=C24),"Đúng","Sai") -> Đúng | X24: =IF(C24=N24+O24+P24,"Đúng","Sai") -> Đúng | Y24: =IF(P24=Q24+R24+S24,"Đúng","Sai") -> Đúng
B25: GQ đúng thời gian quy định | C25: =SUM(D25:J25) -> 0
C28: =IF(C7=C12, "Đúng","Sai") -> Đúng | D28: =IF(D7=D12, "Đúng","Sai") -> Đúng | E28: =IF(E7=E12, "Đúng","Sai") -> Đúng | F28: =IF(F7=F12, "Đúng","Sai") -> Đúng | G28: =IF(G7=G12, "Đúng","Sai") -> Đúng | H28: =IF(H7=H12, "Đúng","Sai") -> Đúng | I28: =IF(I7=I12, "Đúng","Sai") -> Đúng | J28: =IF(J7=J12, "Đúng","Sai") -> Đúng | ... V28: =IF(V7=V12, "Đúng","Sai") -> Đúng
C29: =IF(C25<=C7, "Đúng","Sai") -> Đúng | D29: =IF(D25<=D7, "Đúng","Sai") -> Đúng | E29: =IF(E25<=E7, "Đúng","Sai") -> Đúng | F29: =IF(F25<=F7, "Đúng","Sai") -> Đúng | G29: =IF(G25<=G7, "Đúng","Sai") -> Đúng | H29: =IF(H25<=H7, "Đúng","Sai") -> Đúng | I29: =IF(I25<=I7, "Đúng","Sai") -> Đúng | J29: =IF(J25<=J7, "Đúng","Sai") -> Đúng

Sheet B10
A1: GIẢI QUYẾT KHIẾU NẠI KỶ LUẬT TỔ CHỨC ĐẢNG CỦA CẤP ỦY CÁC CẤP | V1: Biểu 10
V2: (ĐVT: Tổ chức đảng)
A3: TT | B3: Tổ chức đảng khiếu nại kỷ luật đảng | C3: Đã giải quyết xong | D3: Cấp giải quyết khiếu nại | M3: Nội dung khiếu nại | P3: Kết luận
D4: Ban Chấp hành Trung ương | E4: Bộ Chính trị | F4: Ban Bí thư | G4: Tỉnh ủy và tương đương | H4: BTV tỉnh uỷ và tương đương | I4: Huyện ủy và tương đương | J4: BTV huyện uỷ và tương đương | K4: Đảng ủy cơ sở | L4: BTV Đảng ủy cơ sở | M4: Nội dung vi phạm | N4: Hình thức kỷ luật | O4: Nguyên tắc, thủ tục, quy trình, thẩm quyền | P4: Cho rút đơn, không xem xét giải quyết | Q4: Giữ nguyên hình thức kỷ luật | R4: Thay đổi hình thức kỷ luật | S4: Trong đó | V4: Nguyên nhân thay đổi hình thức kỷ luật
S5: Tăng hình thức kỷ luật | T5: Giảm hình thức kỷ luật | U5: Xoá kỷ luật | V5: Vận dụng phương hướng, phương châm THKL | W5: Thẩm tra, xác minh | X5: Khác
A6: 1 | B6: 2 | C6: 3 | D6: 4 | E6: 5 | F6: 6 | G6: 7 | H6: 8 | I6: 9 | J6: 10 | K6: 11 | L6: 12 | M6: 13 | N6: 14 | O6: 15 | P6: 16 | Q6: 17 | R6: 18 | S6: 19 | T6: 20 | U6: 21 | V6: 22 | W6: 23 | X6: 24
A7: I | B7: Tổ chức đảng khiếu nại | C7: =SUM(C8:C20) -> 0 | D7: =SUM(D8:D20) -> 0 | E7: =SUM(E8:E20) -> 0 | F7: =SUM(F8:F20) -> 0 | G7: =SUM(G8:G20) -> 0 | H7: =SUM(H8:H20) -> 0 | I7: =SUM(I8:I20) -> 0 | J7: =SUM(J8:J20) -> 0 | ... X7: =SUM(X8:X20) -> 0 | Y7: =IF(AND(M7<=C7,N7<=C7,O7<=C7),"Đúng","Sai") -> Đúng | Z7: =IF(C7=P7+Q7+R7,"Đúng","Sai") -> Đúng | AA7: =IF(R7=S7+T7+U7,"Đúng","Sai") -> Đúng
B8: BCS đảng, đảng đoàn ở Trung ương | C8: =SUM(D8:L8) -> 0 | Y8: =IF(AND(M8<=C8,N8<=C8,O8<=C8),"Đúng","Sai") -> Đúng | Z8: =IF(C8=P8+Q8+R8,"Đúng","Sai") -> Đúng | AA8: =IF(R8=S8+T8+U8,"Đúng","Sai") -> Đúng
B9: Các CQ tham mưu của Trung ương | C9: =SUM(D9:L9) -> 0 | Y9: =IF(AND(M9<=C9,N9<=C9,O9<=C9),"Đúng","Sai") -> Đúng | Z9: =IF(C9=P9+Q9+R9,"Đúng","Sai") -> Đúng | AA9: =IF(R9=S9+T9+U9,"Đúng","Sai") -> Đúng
B10: Tỉnh uỷ và tương đương | C10: =SUM(D10:L10) -> 0 | Y10: =IF(AND(M10<=C10,N10<=C10,O10<=C10),"Đúng","Sai") -> Đúng | Z10: =IF(C10=P10+Q10+R10,"Đúng","Sai") -> Đúng | AA10: =IF(R10=S10+T10+U10,"Đúng","Sai") -> Đúng
B11: Ban Thường vụ, Thường trực tỉnh uỷ và tương đương | C11: =SUM(D11:L11) -> 0 | Y11: =IF(AND(M11<=C11,N11<=C11,O11<=C11),"Đúng","Sai") -> Đúng | Z11: =IF(C11=P11+Q11+R11,"Đúng","Sai") -> Đúng | AA11: =IF(R11=S11+T11+U11,"Đúng","Sai") -> Đúng
B12: BCS đảng, đảng đoàn cấp tỉnh và tương đương | C12: =SUM(D12:L12) -> 0 | Y12: =IF(AND(M12<=C12,N12<=C12,O12<=C12),"Đúng","Sai") -> Đúng | Z12: =IF(C12=P12+Q12+R12,"Đúng","Sai") -> Đúng | AA12: =IF(R12=S12+T12+U12,"Đúng","Sai") -> Đúng
B13: Các CQ tham mưu của cấp ủy tỉnh và tương đương | C13: =SUM(D13:L13) -> 0 | Y13: =IF(AND(M13<=C13,N13<=C13,O13<=C13),"Đúng","Sai") -> Đúng | Z13: =IF(C13=P13+Q13+R13,"Đúng","Sai") -> Đúng | AA13: =IF(R13=S13+T13+U13,"Đúng","Sai") -> Đúng
B14: Huyện uỷ và tương đương | C14: =SUM(D14:L14) -> 0 | Y14: =IF(AND(M14<=C14,N14<=C14,O14<=C14),"Đúng","Sai") -> Đúng | Z14: =IF(C14=P14+Q14+R14,"Đúng","Sai") -> Đúng | AA14: =IF(R14=S14+T14+U14,"Đúng","Sai") -> Đúng
B15: Ban Thường vụ, Thường trực huyện uỷ và tương đương | C15: =SUM(D15:L15) -> 0 | Y15: =IF(AND(M15<=C15,N15<=C15,O15<=C15),"Đúng","Sai") -> Đúng | Z15: =IF(C15=P15+Q15+R15,"Đúng","Sai") -> Đúng | AA15: =IF(R15=S15+T15+U15,"Đúng","Sai") -> Đúng
B16: Các CQ tham mưu của cấp ủy huyện và tương đương | C16: =SUM(D16:L16) -> 0 | Y16: =IF(AND(M16<=C16,N16<=C16,O16<=C16),"Đúng","Sai") -> Đúng | Z16: =IF(C16=P16+Q16+R16,"Đúng","Sai") -> Đúng | AA16: =IF(R16=S16+T16+U16,"Đúng","Sai") -> Đúng
B17: Đảng uỷ cơ sở, BTV đảng ủy cơ sở | C17: =SUM(D17:L17) -> 0 | Y17: =IF(AND(M17<=C17,N17<=C17,O17<=C17),"Đúng","Sai") -> Đúng | Z17: =IF(C17=P17+Q17+R17,"Đúng","Sai") -> Đúng | AA17: =IF(R17=S17+T17+U17,"Đúng","Sai") -> Đúng
B18: Đảng uỷ bộ phận | C18: =SUM(D18:L18) -> 0 | Y18: =IF(AND(M18<=C18,N18<=C18,O18<=C18),"Đúng","Sai") -> Đúng | Z18: =IF(C18=P18+Q18+R18,"Đúng","Sai") -> Đúng | AA18: =IF(R18=S18+T18+U18,"Đúng","Sai") -> Đúng
B19: Chi bộ, Chi ủy | C19: =SUM(D19:L19) -> 0 | Y19: =IF(AND(M19<=C19,N19<=C19,O19<=C19),"Đúng","Sai") -> Đúng | Z19: =IF(C19=P19+Q19+R19,"Đúng","Sai") -> Đúng | AA19: =IF(R19=S19+T19+U19,"Đúng","Sai") -> Đúng
B20: Khác (ban chỉ đạo, tiểu ban, hội đồng, tổ đảng,...) | C20: =SUM(D20:L20) -> 0 | Y20: =IF(AND(M20<=C20,N20<=C20,O20<=C20),"Đúng","Sai") -> Đúng | Z20: =IF(C20=P20+Q20+R20,"Đúng","Sai") -> Đúng | AA20: =IF(R20=S20+T20+U20,"Đúng","Sai") -> Đúng
B21: GQ đúng thời gian quy định | C21: =SUM(D21:L21) -> 0
C23: =IF(C21<=C7,"Đúng","Sai") -> Đúng | D23: =IF(D21<=D7,"Đúng","Sai") -> Đúng | E23: =IF(E21<=E7,"Đúng","Sai") -> Đúng | F23: =IF(F21<=F7,"Đúng","Sai") -> Đúng | G23: =IF(G21<=G7,"Đúng","Sai") -> Đúng | H23: =IF(H21<=H7,"Đúng","Sai") -> Đúng | I23: =IF(I21<=I7,"Đúng","Sai") -> Đúng | J23: =IF(J21<=J7,"Đúng","Sai") -> Đúng | ... L23: =IF(L21<=L7,"Đúng","Sai") -> Đúng

Sheet B11
A1: KIỂM TRA ĐẢNG VIÊN KHI CÓ DẤU HIỆU VI PHẠM CỦA ỦY BAN KIỂM TRA CÁC CẤP | R1: Biểu 11
A3: TT | B3: Đảng viên được kiểm tra | C3: Tổng số đảng viên được kiểm tra | D3: Cấp kiểm tra | H3: Nội dung kiểm tra | Q3: Kết luận
D4: UBKT Trung ương | E4: UBKT tỉnh uỷ và tương đương | F4: UBKT huyện uỷ và tương đương | G4: UBKT đảng uỷ cơ sở | H4: Những điều đảng viên không được làm | I4: Tiêu chuẩn đảng viên, tiêu chuẩn cấp ủy viên | J4: Việc thực hiện nhiệm vụ đảng viên, cấp ủy viên | K4: Việc chấp hành nghị quyết, chỉ thị, quy định, kết luận của Đảng; chính sách, pháp luật của Nhà nước | L4: Việc chấp hành quy chế làm việc, nguyên tắc tập trung dân chủ, chế độ công tác | M4: Tư tưởng chính trị, đạo đức, lối sống, trách nhiệm nêu gương | N4: Tham nhũng, cố ý làm trái | O4: Kê khai tài sản, thu nhập cá nhân | P4: Khác | Q4: Có vi phạm | R4: Trong đó
R5: Phải thi hành kỷ luật | S5: Đã thi hành kỷ luật
A6: 1 | B6: 2 | C6: 3 | D6: 4 | E6: 5 | F6: 6 | G6: 7 | H6: 8 | I6: 9 | J6: 10 | K6: 11 | L6: 12 | M6: 13 | N6: 14 | O6: 15 | P6: 16 | Q6: 17 | R6: 18 | S6: 19
A7: I | B7: Cấp quản lý đảng viên | C7: =SUM(C8:C11) -> 0 | D7: =SUM(D8:D11) -> 0 | E7: =SUM(E8:E11) -> 0 | F7: =SUM(F8:F11) -> 0 | G7: =SUM(G8:G11) -> 0 | H7: =SUM(H8:H11) -> 0 | I7: =SUM(I8:I11) -> 0 | J7: =SUM(J8:J11) -> 0 | ... S7: =SUM(S8:S11) -> 0 | T7: =IF(AND(H7<=C7,I7<=C7,J7<=C7,K7<=C7,L7<=C7,M7<=C7,N7<=C7,O7<=C7,P7<=C7),"Đúng","Sai") -> Đúng | U7: =IF(AND(S7<=R7,R7<=Q7,Q7<=C7),"Đúng","Sai") -> Đúng
B8: Trung ương | C8: =SUM(D8:G8) -> 0 | T8: =IF(AND(H8<=C8,I8<=C8,J8<=C8,K8<=C8,L8<=C8,M8<=C8,N8<=C8,O8<=C8,P8<=C8),"Đúng","Sai") -> Đúng | U8: =IF(AND(S8<=R8,R8<=Q8,Q8<=C8),"Đúng","Sai") -> Đúng
B9: Cấp tỉnh và tương đương | C9: =SUM(D9:G9) -> 0 | T9: =IF(AND(H9<=C9,I9<=C9,J9<=C9,K9<=C9,L9<=C9,M9<=C9,N9<=C9,O9<=C9,P9<=C9),"Đúng","Sai") -> Đúng | U9: =IF(AND(S9<=R9,R9<=Q9,Q9<=C9),"Đúng","Sai") -> Đúng
B10: Cấp huyện và tương đương | C10: =SUM(D10:G10) -> 0 | T10: =IF(AND(H10<=C10,I10<=C10,J10<=C10,K10<=C10,L10<=C10,M10<=C10,N10<=C10,O10<=C10,P10<=C10),"Đúng","Sai") -> Đúng | U10: =IF(AND(S10<=R10,R10<=Q10,Q10<=C10),"Đúng","Sai") -> Đúng
B11: Cấp cơ sở | C11: =SUM(D11:G11) -> 0 | T11: =IF(AND(H11<=C11,I11<=C11,J11<=C11,K11<=C11,L11<=C11,M11<=C11,N11<=C11,O11<=C11,P11<=C11),"Đúng","Sai") -> Đúng | U11: =IF(AND(S11<=R11,R11<=Q11,Q11<=C11),"Đúng","Sai") -> Đúng
A12: II | B12: Là cấp uỷ viên các cấp | C12: =SUM(C13:C18) -> 0 | D12: =SUM(D13:D18) -> 0 | E12: =SUM(E13:E18) -> 0 | F12: =SUM(F13:F18) -> 0 | G12: =SUM(G13:G18) -> 0 | H12: =SUM(H13:H18) -> 0 | I12: =SUM(I13:I18) -> 0 | J12: =SUM(J13:J18) -> 0 | ... S12: =SUM(S13:S18) -> 0 | T12: =IF(AND(H12<=C12,I12<=C12,J12<=C12,K12<=C12,L12<=C12,M12<=C12,N12<=C12,O12<=C12,P12<=C12),"Đúng","Sai") -> Đúng | U12: =IF(AND(S12<=R12,R12<=Q12,Q12<=C12),"Đúng","Sai") -> Đúng
B13: Uỷ viên Trung ương | C13: =SUM(D13:G13) -> 0 | T13: =IF(AND(H13<=C13,I13<=C13,J13<=C13,K13<=C13,L13<=C13,M13<=C13,N13<=C13,O13<=C13,P13<=C13),"Đúng","Sai") -> Đúng | U13: =IF(AND(S13<=R13,R13<=Q13,Q13<=C13),"Đúng","Sai") -> Đúng
B14: Tỉnh uỷ viên và tương đương | C14: =SUM(D14:G14) -> 0 | T14: =IF(AND(H14<=C14,I14<=C14,J14<=C14,K14<=C14,L14<=C14,M14<=C14,N14<=C14,O14<=C14,P14<=C14),"Đúng","Sai") -> Đúng | U14: =IF(AND(S14<=R14,R14<=Q14,Q14<=C14),"Đúng","Sai") -> Đúng
B15: Huyện uỷ viên và tương đương | C15: =SUM(D15:G15) -> 0 | T15: =IF(AND(H15<=C15,I15<=C15,J15<=C15,K15<=C15,L15<=C15,M15<=C15,N15<=C15,O15<=C15,P15<=C15),"Đúng","Sai") -> Đúng | U15: =IF(AND(S15<=R15,R15<=Q15,Q15<=C15),"Đúng","Sai") -> Đúng
B16: Đảng uỷ viên | C16: =SUM(D16:G16) -> 0 | T16: =IF(AND(H16<=C16,I16<=C16,J16<=C16,K16<=C16,L16<=C16,M16<=C16,N16<=C16,O16<=C16,P16<=C16),"Đúng","Sai") -> Đúng | U16: =IF(AND(S16<=R16,R16<=Q16,Q16<=C16),"Đúng","Sai") -> Đúng
B17: Đảng ủy viên đảng ủy bộ phận | C17: =SUM(D17:G17) -> 0 | T17: =IF(AND(H17<=C17,I17<=C17,J17<=C17,K17<=C17,L17<=C17,M17<=C17,N17<=C17,O17<=C17,P17<=C17),"Đúng","Sai") -> Đúng | U17: =IF(AND(S17<=R17,R17<=Q17,Q17<=C17),"Đúng","Sai") -> Đúng
B18: Chi uỷ viên | C18: =SUM(D18:G18) -> 0 | T18: =IF(AND(H18<=C18,I18<=C18,J18<=C18,K18<=C18,L18<=C18,M18<=C18,N18<=C18,O18<=C18,P18<=C18),"Đúng","Sai") -> Đúng | U18: =IF(AND(S18<=R18,R18<=Q18,Q18<=C18),"Đúng","Sai") -> Đúng
A19: III | B19: Đảng viên ở các lĩnh vực | C19: =SUM(C20:C26) -> 0 | D19: =SUM(D20:D26) -> 0 | E19: =SUM(E20:E26) -> 0 | F19: =SUM(F20:F26) -> 0 | G19: =SUM(G20:G26) -> 0 | H19: =SUM(H20:H26) -> 0 | I19: =SUM(I20:I26) -> 0 | J19: =SUM(J20:J26) -> 0 | ... S19: =SUM(S20:S26) -> 0 | T19: =IF(AND(H19<=C19,I19<=C19,J19<=C19,K19<=C19,L19<=C19,M19<=C19,N19<=C19,O19<=C19,P19<=C19),"Đúng","Sai") -> Đúng | U19: =IF(AND(S19<=R19,R19<=Q19,Q19<=C19),"Đúng","Sai") -> Đúng
B20: Đảng | C20: =SUM(D20:G20) -> 0 | T20: =IF(AND(H20<=C20,I20<=C20,J20<=C20,K20<=C20,L20<=C20,M20<=C20,N20<=C20,O20<=C20,P20<=C20),"Đúng","Sai") -> Đúng | U20: =IF(AND(S20<=R20,R20<=Q20,Q20<=C20),"Đúng","Sai") -> Đúng
B21: Hành chính, Nhà nước | C21: =SUM(D21:G21) -> 0 | T21: =IF(AND(H21<=C21,I21<=C21,J21<=C21,K21<=C21,L21<=C21,M21<=C21,N21<=C21,O21<=C21,P21<=C21),"Đúng","Sai") -> Đúng | U21: =IF(AND(S21<=R21,R21<=Q21,Q21<=C21),"Đúng","Sai") -> Đúng
B22: Đoàn thể | C22: =SUM(D22:G22) -> 0 | T22: =IF(AND(H22<=C22,I22<=C22,J22<=C22,K22<=C22,L22<=C22,M22<=C22,N22<=C22,O22<=C22,P22<=C22),"Đúng","Sai") -> Đúng | U22: =IF(AND(S22<=R22,R22<=Q22,Q22<=C22),"Đúng","Sai") -> Đúng
B23: Lực lượng vũ trang | C23: =SUM(D23:G23) -> 0 | T23: =IF(AND(H23<=C23,I23<=C23,J23<=C23,K23<=C23,L23<=C23,M23<=C23,N23<=C23,O23<=C23,P23<=C23),"Đúng","Sai") -> Đúng | U23: =IF(AND(S23<=R23,R23<=Q23,Q23<=C23),"Đúng","Sai") -> Đúng
B24: Sự nghiệp công lập | C24: =SUM(D24:G24) -> 0 | T24: =IF(AND(H24<=C24,I24<=C24,J24<=C24,K24<=C24,L24<=C24,M24<=C24,N24<=C24,O24<=C24,P24<=C24),"Đúng","Sai") -> Đúng | U24: =IF(AND(S24<=R24,R24<=Q24,Q24<=C24),"Đúng","Sai") -> Đúng
B25: Sản xuất kinh doanh, dịch vụ | C25: =SUM(D25:G25) -> 0 | T25: =IF(AND(H25<=C25,I25<=C25,J25<=C25,K25<=C25,L25<=C25,M25<=C25,N25<=C25,O25<=C25,P25<=C25),"Đúng","Sai") -> Đúng | U25: =IF(AND(S25<=R25,R25<=Q25,Q25<=C25),"Đúng","Sai") -> Đúng
B26: Lĩnh vực khác | C26: =SUM(D26:G26) -> 0 | T26: =IF(AND(H26<=C26,I26<=C26,J26<=C26,K26<=C26,L26<=C26,M26<=C26,N26<=C26,O26<=C26,P26<=C26),"Đúng","Sai") -> Đúng | U26: =IF(AND(S26<=R26,R26<=Q26,Q26<=C26),"Đúng","Sai") -> Đúng
A27: IV | B27: Kết luận
B28: Có vi phạm | C28: =SUM(D28:G28) -> 0 | T28: =IF(AND(H28<=C28,I28<=C28,J28<=C28,K28<=C28,L28<=C28,M28<=C28,N28<=C28,O28<=C28,P28<=C28),"Đúng","Sai") -> Đúng
B29: Phải thi hành kỷ luật | C29: =SUM(D29:G29) -> 0 | T29: =IF(AND(H29<=C29,I29<=C29,J29<=C29,K29<=C29,L29<=C29,M29<=C29,N29<=C29,O29<=C29,P29<=C29),"Đúng","Sai") -> Đúng
B30: Đã thi hành kỷ luật | C30: =SUM(D30:G30) -> 0 | T30: =IF(AND(H30<=C30,I30<=C30,J30<=C30,K30<=C30,L30<=C30,M30<=C30,N30<=C30,O30<=C30,P30<=C30),"Đúng","Sai") -> Đúng
C32: =IF(C7=C19, "Đúng","Sai") -> Đúng | D32: =IF(D7=D19, "Đúng","Sai") -> Đúng | E32: =IF(E7=E19, "Đúng","Sai") -> Đúng | F32: =IF(F7=F19, "Đúng","Sai") -> Đúng | G32: =IF(G7=G19, "Đúng","Sai") -> Đúng | H32: =IF(H7=H19, "Đúng","Sai") -> Đúng | I32: =IF(I7=I19, "Đúng","Sai") -> Đúng | J32: =IF(J7=J19, "Đúng","Sai") -> Đúng | ... S32: =IF(S7=S19, "Đúng","Sai") -> Đúng
C33: =IF(AND(C30<=C29,C29<=C28,C28<=C7),"Đúng","Sai") -> Đúng | D33: =IF(AND(D30<=D29,D29<=D28,D28<=D7),"Đúng","Sai") -> Đúng | E33: =IF(AND(E30<=E29,E29<=E28,E28<=E7),"Đúng","Sai") -> Đúng | F33: =IF(AND(F30<=F29,F29<=F28,F28<=F7),"Đúng","Sai") -> Đúng | G33: =IF(AND(G30<=G29,G29<=G28,G28<=G7),"Đúng","Sai") -> Đúng | H33: =IF(AND(H30<=H29,H29<=H28,H28<=H7),"Đúng","Sai") -> Đúng | I33: =IF(AND(I30<=I29,I29<=I28,I28<=I7),"Đúng","Sai") -> Đúng | J33: =IF(AND(J30<=J29,J29<=J28,J28<=J7),"Đúng","Sai") -> Đúng | ... P33: =IF(AND(P30<=P29,P29<=P28,P28<=P7),"Đúng","Sai") -> Đúng
C34: =IF(C28=Q19,"Đúng","Sai") -> Đúng
C35: =IF(C29=R19,"Đúng","Sai") -> Đúng
C36: =IF(C30=S19,"Đúng","Sai") -> Đúng

Sheet B12
A1: KIỂM TRA TỔ CHỨC ĐẢNG KHI CÓ DẤU HIỆU VI PHẠM CỦA ỦY BAN KIỂM TRA CÁC CẤP | P1: Biểu 12
A3: TT | B3: Tổ chức đảng được kiểm tra | C3: Tổng số tổ chức đảng được kiểm tra | D3: Cấp kiểm tra | H3: Nội dung kiểm tra | O3: Kết luận
D4: UBKT Trung ương | E4: UBKT tỉnh uỷ và tương đương | F4: UBKT huyện uỷ và tương đương | G4: UBKT đảng uỷ cơ sở | H4: Việc chấp hành Cương lĩnh chính trị, Điều lệ Đảng, chủ trương, nghị quyết, chỉ thị, quy định, quyết định, quy chế, kết luận của Đảng | I4: Việc chấp hành chính sách, pháp luật của Nhà nước | J4: Việc chấp hành các nguyên tắc, tổ chức và hoạt động của của Đảng, giữ gìn đoàn kết nội bộ, quy chế làm việc, chế độ công tác, thực hiện dân chủ trong Đảng | K4: Việc thực hành tiết kiệm, phòng, chống tham nhũng, lãng phí, tiêu cực | L4: Quản lý, rèn luyện phẩm chất, đạo đức, lối sống của cán bộ, đảng viên | M4: Công tác cán bộ | N4: Khác | O4: Tổ chức đảng có vi phạm | P4: Trong đó
P5: Phải thi hành kỷ luật | Q5: Đã thi hành kỷ luật
A6: 1 | B6: 2 | C6: 3 | D6: 4 | E6: 5 | F6: 6 | G6: 7 | H6: 8 | I6: 9 | J6: 10 | K6: 11 | L6: 12 | M6: 13 | N6: 14 | O6: 15 | P6: 16 | Q6: 17
A7: I | B7: Tổ chức đảng được kiểm tra | C7: =SUM(C8:C18) -> 0 | D7: =SUM(D8:D18) -> 0 | E7: =SUM(E8:E18) -> 0 | F7: =SUM(F8:F18) -> 0 | G7: =SUM(G8:G18) -> 0 | H7: =SUM(H8:H18) -> 0 | I7: =SUM(I8:I18) -> 0 | J7: =SUM(J8:J18) -> 0 | ... Q7: =SUM(Q8:Q18) -> 0 | R7: =IF(AND(H7<=C7,I7<=C7,J7<=C7,K7<=C7,L7<=C7,M7<=C7,N7<=C7),"Đúng","Sai") -> Đúng | S7: =IF(AND(Q7<=P7,P7<=O7,O7<=C7),"Đúng","Sai") -> Đúng
B8: BCS đảng, đảng đoàn ở TW | C8: =SUM(D8:G8) -> 0 | R8: =IF(AND(H8<=C8,I8<=C8,J8<=C8,K8<=C8,L8<=C8,M8<=C8,N8<=C8),"Đúng","Sai") -> Đúng | S8: =IF(AND(Q8<=P8,P8<=O8,O8<=C8),"Đúng","Sai") -> Đúng
B9: Các CQ tham mưu của Trung ương | C9: =SUM(D9:G9) -> 0 | R9: =IF(AND(H9<=C9,I9<=C9,J9<=C9,K9<=C9,L9<=C9,M9<=C9,N9<=C9),"Đúng","Sai") -> Đúng | S9: =IF(AND(Q9<=P9,P9<=O9,O9<=C9),"Đúng","Sai") -> Đúng
B10: Tỉnh ủy, BTV, Thường trực tỉnh ủy và tương đương | C10: =SUM(D10:G10) -> 0 | R10: =IF(AND(H10<=C10,I10<=C10,J10<=C10,K10<=C10,L10<=C10,M10<=C10,N10<=C10),"Đúng","Sai") -> Đúng | S10: =IF(AND(Q10<=P10,P10<=O10,O10<=C10),"Đúng","Sai") -> Đúng
B11: BCS đảng, đảng đoàn cấp tỉnh và tương đương | C11: =SUM(D11:G11) -> 0 | R11: =IF(AND(H11<=C11,I11<=C11,J11<=C11,K11<=C11,L11<=C11,M11<=C11,N11<=C11),"Đúng","Sai") -> Đúng | S11: =IF(AND(Q11<=P11,P11<=O11,O11<=C11),"Đúng","Sai") -> Đúng
B12: Các CQ tham mưu của cấp ủy tỉnh và tương đương | C12: =SUM(D12:G12) -> 0 | R12: =IF(AND(H12<=C12,I12<=C12,J12<=C12,K12<=C12,L12<=C12,M12<=C12,N12<=C12),"Đúng","Sai") -> Đúng | S12: =IF(AND(Q12<=P12,P12<=O12,O12<=C12),"Đúng","Sai") -> Đúng
B13: Huyện ủy, BTV, Thường trực huyện ủy và tương đương | C13: =SUM(D13:G13) -> 0 | R13: =IF(AND(H13<=C13,I13<=C13,J13<=C13,K13<=C13,L13<=C13,M13<=C13,N13<=C13),"Đúng","Sai") -> Đúng | S13: =IF(AND(Q13<=P13,P13<=O13,O13<=C13),"Đúng","Sai") -> Đúng
B14: Các CQ tham mưu của cấp ủy huyện và tương đương | C14: =SUM(D14:G14) -> 0 | R14: =IF(AND(H14<=C14,I14<=C14,J14<=C14,K14<=C14,L14<=C14,M14<=C14,N14<=C14),"Đúng","Sai") -> Đúng | S14: =IF(AND(Q14<=P14,P14<=O14,O14<=C14),"Đúng","Sai") -> Đúng
B15: Đảng ủy cơ sở, BTV đảng ủy cơ sở | C15: =SUM(D15:G15) -> 0 | R15: =IF(AND(H15<=C15,I15<=C15,J15<=C15,K15<=C15,L15<=C15,M15<=C15,N15<=C15),"Đúng","Sai") -> Đúng | S15: =IF(AND(Q15<=P15,P15<=O15,O15<=C15),"Đúng","Sai") -> Đúng
B16: Đảng ủy bộ phận | C16: =SUM(D16:G16) -> 0 | R16: =IF(AND(H16<=C16,I16<=C16,J16<=C16,K16<=C16,L16<=C16,M16<=C16,N16<=C16),"Đúng","Sai") -> Đúng | S16: =IF(AND(Q16<=P16,P16<=O16,O16<=C16),"Đúng","Sai") -> Đúng
B17: Chi bộ, Chi ủy | C17: =SUM(D17:G17) -> 0 | R17: =IF(AND(H17<=C17,I17<=C17,J17<=C17,K17<=C17,L17<=C17,M17<=C17,N17<=C17),"Đúng","Sai") -> Đúng | S17: =IF(AND(Q17<=P17,P17<=O17,O17<=C17),"Đúng","Sai") -> Đúng
B18: Khác (ban chỉ đạo, tiểu ban, hội đồng, tổ đảng,...) | C18: =SUM(D18:G18) -> 0 | R18: =IF(AND(H18<=C18,I18<=C18,J18<=C18,K18<=C18,L18<=C18,M18<=C18,N18<=C18),"Đúng","Sai") -> Đúng | S18: =IF(AND(Q18<=P18,P18<=O18,O18<=C18),"Đúng","Sai") -> Đúng
A19: II | B19: Kết luận
B20: Tổ chức đảng có vi phạm | C20: =SUM(D20:G20) -> 0 | R20: =IF(AND(H20<=C20,I20<=C20,J20<=C20,K20<=C20,L20<=C20,M20<=C20,N20<=C20),"Đúng","Sai") -> Đúng
B21: Phải thi hành kỷ luật | C21: =SUM(D21:G21) -> 0 | R21: =IF(AND(H21<=C21,I21<=C21,J21<=C21,K21<=C21,L21<=C21,M21<=C21,N21<=C21),"Đúng","Sai") -> Đúng
B22: Đã thi hành kỷ luật | C22: =SUM(D22:G22) -> 0 | R22: =IF(AND(H22<=C22,I22<=C22,J22<=C22,K22<=C22,L22<=C22,M22<=C22,N22<=C22),"Đúng","Sai") -> Đúng
C24: =IF(AND(C22<=C21,C21<=C20,C20<=C7),"Đúng","Sai") -> Đúng | D24: =IF(AND(D22<=D21,D21<=D20,D20<=D7),"Đúng","Sai") -> Đúng | E24: =IF(AND(E22<=E21,E21<=E20,E20<=E7),"Đúng","Sai") -> Đúng | F24: =IF(AND(F22<=F21,F21<=F20,F20<=F7),"Đúng","Sai") -> Đúng | G24: =IF(AND(G22<=G21,G21<=G20,G20<=G7),"Đúng","Sai") -> Đúng | H24: =IF(AND(H22<=H21,H21<=H20,H20<=H7),"Đúng","Sai") -> Đúng | I24: =IF(AND(I22<=I21,I21<=I20,I20<=I7),"Đúng","Sai") -> Đúng | J24: =IF(AND(J22<=J21,J21<=J20,J20<=J7),"Đúng","Sai") -> Đúng | ... N24: =IF(AND(N22<=N21,N21<=N20,N20<=N7),"Đúng","Sai") -> Đúng
C25: =IF(C20=O7,"Đúng","Sai") -> Đúng
C26: =IF(C21=P7,"Đúng","Sai") -> Đúng
C27: =IF(C22=Q7,"Đúng","Sai") -> Đúng

Sheet B13
A1: ỦY BAN KIỂM TRA CÁC CẤP KIỂM TRA TỔ CHỨC ĐẢNG, ỦY BAN KIỂM TRA CẤP DƯỚI THỰC HIỆN NHIỆM VỤ KIỂM TRA, GIÁM SÁT | O1: Biểu 13
J3: (ĐVT: Tổ chức đảng)
A4: TT | B4: Tổ chức đảng được kiểm tra | C4: Tổng số tổ chức đảng được kiểm tra | D4: Cấp kiểm tra | H4: Kết luận
D5: UBKT Trung ương | E5: UBKT tỉnh uỷ và tương đương | F5: UBKT huyện uỷ và tương đương | G5: UBKT đảng uỷ cơ sở | H5: Số không có chương trình, kế hoạch kiểm tra, giám sát | I5: Số chưa làm tốt công tác lãnh đạo, chỉ đạo thực hiện nhiệm vụ kiểm tra, giám sát | J5: Số chưa thực hiện nhiệm tốt nhiệm vụ kiểm tra, giám sát | K5: Số chưa làm tốt việc lãnh đạo, chỉ đạo, tổ chức hoạt động của UBKT | L5: Số chưa làm tốt việc lãnh đạo, chỉ đạo, xây dựng tổ chức bộ máy, đội ngũ cán bộ của cơ quan UBKT cấp dưới | M5: Số vụ việc bị cấp kiểm tra rút hồ sơ để kiểm tra trực tiếp | N5: Số số vụ việc bị cấp kiểm tra yêu cầu: kiểm điểm; kiểm tra; giám sát | O5: Số vụ việc bị cấp kiểm tra yêu cầu xem xét thi hành kỷ luật | P5: Số vụ việc bị cấp kiểm tra yêu cầu hoàn thành kiểm tra, giám sát
A6: 1 | B6: 2 | C6: 3 | D6: 4 | E6: 5 | F6: 6 | G6: 7 | H6: 8 | I6: 9 | J6: 10 | K6: 11 | L6: 12 | M6: 13 | N6: 14 | O6: 15 | P6: 16
B7: Tỉnh ủy, BTV tỉnh ủy và tương đương | C7: =SUM(D7:G7) -> 0 | Q7: =IF(AND(H7<=C7,I7<=C7,J7<=C7,K7<=C7,L7<=C7),"Đúng","Sai") -> Đúng
B8: UBKT tỉnh ủy và tương đương | C8: =SUM(D8:G8) -> 0 | Q8: =IF(AND(H8<=C8,I8<=C8,J8<=C8,K8<=C8,L8<=C8),"Đúng","Sai") -> Đúng
B9: Huyện ủy, BTV huyện ủy và tương đương | C9: =SUM(D9:G9) -> 0 | Q9: =IF(AND(H9<=C9,I9<=C9,J9<=C9,K9<=C9,L9<=C9),"Đúng","Sai") -> Đúng
B10: UBKT huyện ủy và tương đương | C10: =SUM(D10:G10) -> 0 | Q10: =IF(AND(H10<=C10,I10<=C10,J10<=C10,K10<=C10,L10<=C10),"Đúng","Sai") -> Đúng
B11: Đảng ủy cơ sở, BTV Đảng ủy cơ sở | C11: =SUM(D11:G11) -> 0 | Q11: =IF(AND(H11<=C11,I11<=C11,J11<=C11,K11<=C11,L11<=C11),"Đúng","Sai") -> Đúng
B12: UBKT đảng ủy cơ sở | C12: =SUM(D12:G12) -> 0 | Q12: =IF(AND(H12<=C12,I12<=C12,J12<=C12,K12<=C12,L12<=C12),"Đúng","Sai") -> Đúng
B13: Đảng ủy bộ phận | C13: =SUM(D13:G13) -> 0 | Q13: =IF(AND(H13<=C13,I13<=C13,J13<=C13,K13<=C13,L13<=C13),"Đúng","Sai") -> Đúng
B14: Chi bộ, Chi ủy | C14: =SUM(D14:G14) -> 0 | Q14: =IF(AND(H14<=C14,I14<=C14,J14<=C14,K14<=C14,L14<=C14),"Đúng","Sai") -> Đúng
A15: I | B15: Cộng | C15: =SUM(C7:C14) -> 0 | D15: =SUM(D7:D14) -> 0 | E15: =SUM(E7:E14) -> 0 | F15: =SUM(F7:F14) -> 0 | G15: =SUM(G7:G14) -> 0 | H15: =SUM(H7:H14) -> 0 | I15: =SUM(I7:I14) -> 0 | J15: =SUM(J7:J14) -> 0 | ... P15: =SUM(P7:P14) -> 0 | Q15: =IF(AND(H15<=C15,I15<=C15,J15<=C15,K15<=C15,L15<=C15),"Đúng","Sai") -> Đúng

Sheet B14
A1: ỦY BAN KIỂM TRA CÁC CẤP KIỂM TRA VIỆC THI HÀNH KỶ LUẬT CỦA TỔ CHỨC ĐẢNG CẤP DƯỚI | Z1: Biểu 14
A3: TT | B3: Tổ chức đảng được kiểm tra | C3: Tổng số tổ chức đảng được kiểm tra | D3: Cấp kiểm tra (tổ chức đảng) | H3: Số ĐV bị THKL trong mốc thời gian kiểm tra | J3: Đảng viên bị THKL do từng cấp quản lý | N3: Số TCĐ bị THKL trong mốc thời gian kiểm tra | P3: Kết luận | V3: Kiến nghị sau kiểm tra
D4: UBKT Trung ương | E4: UBKT tỉnh uỷ và tương đương | F4: UBKT huyện uỷ và tương ương | G4: UBKT đảng uỷ cơ sở | H4: Tổng số đảng viên | I4: Trong đó số ĐV có khiếu nại sau khi bị THKL | J4: Cấp tỉnh và tương đương | K4: Cấp huyện và tương đương | L4: Cấp cơ sở và tương đương | M4: Chi bộ | N4: Tổng số tổ chức đảng | O4: Trong đó số TCĐ có khiếu nại sau khi bị THKL | P4: Số tổ chức đảng làm tốt công tác THKL | Q4: Số tổ chức đảng chưa làm tốt công tác THKL | R4: Số bị THKL không đúng thẩm quyền, nguyên tắc, thủ tục | T4: Số bị THKL không đúng hình thức; vi phạm đến mức kỷ luật mà không THKL; bị oan, sai | V4: Tăng hình thức kỷ luật | X4: Giảm hình thức kỷ luật | Z4: Xóa kỷ luật
R5: Đảng viên | S5: TCĐ | T5: Đảng viên | U5: TCĐ | V5: Đảng viên | W5: TCĐ | X5: Đảng viên | Y5: TCĐ | Z5: Đảng viên | AA5: TCĐ
A6: 1 | B6: 2 | C6: 3 | D6: 4 | E6: 5 | F6: 6 | G6: 7 | H6: 8 | I6: 9 | J6: 10 | K6: 11 | L6: 12 | M6: 13 | N6: 14 | O6: 15 | P6: 16 | Q6: 17 | R6: 18 | S6: 19 | T6: 20 | U6: 21 | V6: 22 | W6: 23 | X6: 24 | Y6: 25 | Z6: 26 | AA6: 27
B7: Tỉnh ủy, BTV tỉnh ủy và tương đương | C7: =SUM(D7:G7) -> 0 | H7: =SUM(J7:M7) -> 0 | AB7: =IF(AND((R7+T7)<=I7,I7<=H7,O7<=N7,(S7+U7)<=O7,(V7+X7+Z7)<=I7,(W7+Y7+AA7)<=O7),"Đúng","Sai") -> Đúng | AC7: =IF(H7=J7+K7+L7+M7,"Đúng","Sai") -> Đúng | AD7: =IF(C7=P7+Q7,"Đúng","Sai") -> Đúng
B8: UBKT tỉnh ủy và tương đương | C8: =SUM(D8:G8) -> 0 | H8: =SUM(J8:M8) -> 0 | AB8: =IF(AND((R8+T8)<=I8,I8<=H8,O8<=N8,(S8+U8)<=O8,(V8+X8+Z8)<=I8,(W8+Y8+AA8)<=O8),"Đúng","Sai") -> Đúng | AC8: =IF(H8=J8+K8+L8+M8,"Đúng","Sai") -> Đúng | AD8: =IF(C8=P8+Q8,"Đúng","Sai") -> Đúng
B9: Huyện ủy, BTV huyện ủy và tương đương | C9: =SUM(D9:G9) -> 0 | H9: =SUM(J9:M9) -> 0 | AB9: =IF(AND((R9+T9)<=I9,I9<=H9,O9<=N9,(S9+U9)<=O9,(V9+X9+Z9)<=I9,(W9+Y9+AA9)<=O9),"Đúng","Sai") -> Đúng | AC9: =IF(H9=J9+K9+L9+M9,"Đúng","Sai") -> Đúng | AD9: =IF(C9=P9+Q9,"Đúng","Sai") -> Đúng
B10: UBKT huyện ủy và tương đương | C10: =SUM(D10:G10) -> 0 | H10: =SUM(J10:M10) -> 0 | AB10: =IF(AND((R10+T10)<=I10,I10<=H10,O10<=N10,(S10+U10)<=O10,(V10+X10+Z10)<=I10,(W10+Y10+AA10)<=O10),"Đúng","Sai") -> Đúng | AC10: =IF(H10=J10+K10+L10+M10,"Đúng","Sai") -> Đúng | AD10: =IF(C10=P10+Q10,"Đúng","Sai") -> Đúng
B11: Đảng ủy cơ sở, BTV Đảng ủy cơ sở | C11: =SUM(D11:G11) -> 0 | H11: =SUM(J11:M11) -> 0 | AB11: =IF(AND((R11+T11)<=I11,I11<=H11,O11<=N11,(S11+U11)<=O11,(V11+X11+Z11)<=I11,(W11+Y11+AA11)<=O11),"Đúng","Sai") -> Đúng | AC11: =IF(H11=J11+K11+L11+M11,"Đúng","Sai") -> Đúng | AD11: =IF(C11=P11+Q11,"Đúng","Sai") -> Đúng
B12: UBKT đảng ủy cơ sở | C12: =SUM(D12:G12) -> 0 | H12: =SUM(J12:M12) -> 0 | AB12: =IF(AND((R12+T12)<=I12,I12<=H12,O12<=N12,(S12+U12)<=O12,(V12+X12+Z12)<=I12,(W12+Y12+AA12)<=O12),"Đúng","Sai") -> Đúng | AC12: =IF(H12=J12+K12+L12+M12,"Đúng","Sai") -> Đúng | AD12: =IF(C12=P12+Q12,"Đúng","Sai") -> Đúng
B13: Chi bộ | C13: =SUM(D13:G13) -> 0 | H13: =SUM(J13:M13) -> 0 | AB13: =IF(AND((R13+T13)<=I13,I13<=H13,O13<=N13,(S13+U13)<=O13,(V13+X13+Z13)<=I13,(W13+Y13+AA13)<=O13),"Đúng","Sai") -> Đúng | AC13: =IF(H13=J13+K13+L13+M13,"Đúng","Sai") -> Đúng | AD13: =IF(C13=P13+Q13,"Đúng","Sai") -> Đúng
A14: I | B14: Cộng | C14: =SUM(C7:C13) -> 0 | D14: =SUM(D7:D13) -> 0 | E14: =SUM(E7:E13) -> 0 | F14: =SUM(F7:F13) -> 0 | G14: =SUM(G7:G13) -> 0 | H14: =SUM(H7:H13) -> 0 | I14: =SUM(I7:I13) -> 0 | J14: =SUM(J7:J13) -> 0 | ... AA14: =SUM(AA7:AA13) -> 0

Sheet B15
A1: GIÁM SÁT ĐẢNG VIÊN CỦA ỦY BAN KIỂM TRA CÁC CẤP | Q1: Biểu 15
A2: (Giám sát theo chuyên đề) | P2: (ĐVT: Đảng viên)
A3: TT | B3: Đảng viên được giám sát | C3: Tổng số đảng viên được giám sát | D3: Cấp giám sát | H3: Nội dung | P3: Kết quả
D4: UBKT Trung ương | E4: UBKT tỉnh uỷ và tương đương | F4: UBKT huyện uỷ và tương đương | G4: UBKT cấp cơ sở | H4: Việc chấp hành Cương lĩnh chính trị, Điều lệ Đảng, chủ trương, nghị quyết, chỉ thị, quy định, quyết định, quy chế, kết luận của Đảng, của cấp ủy cấp trên và cấp mình | I4: Việc chấp hành chính sách, pháp luật của Nhà nước | J4: Thực hiện các nguyên tắc tổ chức và hoạt động của Đảng, quy chế làm việc, chế độ công tác | K4: Tư tưởng chính trị, giữ gìn đạo đức, lối sống và và trách nhiệm nêu gương | L4: Về tiêu chuẩn đảng viên, tiêu chuẩn cấp ủy viên | M4: Về thực hiện nhiêm vụ đảng viên, nhiệm vụ cấp ủy viên | N4: Kê khai tài sản, thu nhập cá nhân | O4: Khác | P4: Số đảng viên thực hiện tốt | Q4: Số đảng viên có vi phạm, khuyết điểm | R4: Số đảng viên chuyển kiểm tra khi có dấu hiệu vi phạm
A5: 1 | B5: 2 | C5: 3 | D5: 4 | E5: 5 | F5: 6 | G5: 7 | H5: 8 | I5: 9 | J5: 10 | K5: 11 | L5: 12 | M5: 13 | N5: 14 | O5: 15 | P5: 16 | Q5: 17 | R5: 18
A6: I | B6: Cấp quản lý đảng viên | C6: =SUM(C7:C10) -> 0 | D6: =SUM(D7:D10) -> 0 | E6: =SUM(E7:E10) -> 0 | F6: =SUM(F7:F10) -> 0 | G6: =SUM(G7:G10) -> 0 | H6: =SUM(H7:H10) -> 0 | I6: =SUM(I7:I10) -> 0 | J6: =SUM(J7:J10) -> 0 | ... R6: =SUM(R7:R10) -> 0 | S6: =IF(AND(H6<=C6,I6<=C6,J6<=C6,K6<=C6,L6<=C6,M6<=C6,N6<=C6,O6<=C6),"Đúng","Sai") -> Đúng | T6: =IF(C6=P6+Q6,"Đúng","Sai") -> Đúng | U6: =IF(AND(R6<=Q6),"Đúng","Sai") -> Đúng
B7: Trung ương | C7: =SUM(D7:G7) -> 0 | S7: =IF(AND(H7<=C7,I7<=C7,J7<=C7,K7<=C7,L7<=C7,M7<=C7,N7<=C7,O7<=C7),"Đúng","Sai") -> Đúng | T7: =IF(C7=P7+Q7,"Đúng","Sai") -> Đúng | U7: =IF(AND(R7<=Q7),"Đúng","Sai") -> Đúng
B8: Cấp tỉnh và tương đương | C8: =SUM(D8:G8) -> 0 | S8: =IF(AND(H8<=C8,I8<=C8,J8<=C8,K8<=C8,L8<=C8,M8<=C8,N8<=C8,O8<=C8),"Đúng","Sai") -> Đúng | T8: =IF(C8=P8+Q8,"Đúng","Sai") -> Đúng | U8: =IF(AND(R8<=Q8),"Đúng","Sai") -> Đúng
B9: Cấp huyện và tương đương | C9: =SUM(D9:G9) -> 0 | S9: =IF(AND(H9<=C9,I9<=C9,J9<=C9,K9<=C9,L9<=C9,M9<=C9,N9<=C9,O9<=C9),"Đúng","Sai") -> Đúng | T9: =IF(C9=P9+Q9,"Đúng","Sai") -> Đúng | U9: =IF(AND(R9<=Q9),"Đúng","Sai") -> Đúng
B10: Cấp cơ sở | C10: =SUM(D10:G10) -> 0 | S10: =IF(AND(H10<=C10,I10<=C10,J10<=C10,K10<=C10,L10<=C10,M10<=C10,N10<=C10,O10<=C10),"Đúng","Sai") -> Đúng | T10: =IF(C10=P10+Q10,"Đúng","Sai") -> Đúng | U10: =IF(AND(R10<=Q10),"Đúng","Sai") -> Đúng
A11: II | B11: Cấp ủy viên các cấp | C11: =C12+C13+C16+C19+C20+C21 -> 0 | D11: =D12+D13+D16+D19+D20+D21 -> 0 | E11: =E12+E13+E16+E19+E20+E21 -> 0 | F11: =F12+F13+F16+F19+F20+F21 -> 0 | G11: =G12+G13+G16+G19+G20+G21 -> 0 | H11: =H12+H13+H16+H19+H20+H21 -> 0 | I11: =I12+I13+I16+I19+I20+I21 -> 0 | J11: =J12+J13+J16+J19+J20+J21 -> 0 | ... R11: =R12+R13+R16+R19+R20+R21 -> 0 | S11: =IF(AND(H11<=C11,I11<=C11,J11<=C11,K11<=C11,L11<=C11,M11<=C11,N11<=C11,O11<=C11),"Đúng","Sai") -> Đúng | T11: =IF(C11=P11+Q11,"Đúng","Sai") -> Đúng | U11: =IF(AND(R11<=Q11),"Đúng","Sai") -> Đúng
B12: Uỷ viên Trung ương | C12: =SUM(D12:G12) -> 0 | S12: =IF(AND(H12<=C12,I12<=C12,J12<=C12,K12<=C12,L12<=C12,M12<=C12,N12<=C12,O12<=C12),"Đúng","Sai") -> Đúng | T12: =IF(C12=P12+Q12,"Đúng","Sai") -> Đúng | U12: =IF(AND(R12<=Q12),"Đúng","Sai") -> Đúng
B13: Tỉnh ủy viên và tương đương | C13: =SUM(D13:G13) -> 0 | S13: =IF(AND(H13<=C13,I13<=C13,J13<=C13,K13<=C13,L13<=C13,M13<=C13,N13<=C13,O13<=C13),"Đúng","Sai") -> Đúng | T13: =IF(C13=P13+Q13,"Đúng","Sai") -> Đúng | U13: =IF(AND(R13<=Q13),"Đúng","Sai") -> Đúng
B14: Trong đó: Bí thư | C14: =SUM(D14:G14) -> 0 | S14: =IF(AND(H14<=C14,I14<=C14,J14<=C14,K14<=C14,L14<=C14,M14<=C14,N14<=C14,O14<=C14),"Đúng","Sai") -> Đúng | T14: =IF(C14=P14+Q14,"Đúng","Sai") -> Đúng | U14: =IF(AND(R14<=Q14),"Đúng","Sai") -> Đúng
B15: Phó Bí thư | C15: =SUM(D15:G15) -> 0 | S15: =IF(AND(H15<=C15,I15<=C15,J15<=C15,K15<=C15,L15<=C15,M15<=C15,N15<=C15,O15<=C15),"Đúng","Sai") -> Đúng | T15: =IF(C15=P15+Q15,"Đúng","Sai") -> Đúng | U15: =IF(AND(R15<=Q15),"Đúng","Sai") -> Đúng
B16: Huyện ủy viên và tương đương | C16: =SUM(D16:G16) -> 0 | S16: =IF(AND(H16<=C16,I16<=C16,J16<=C16,K16<=C16,L16<=C16,M16<=C16,N16<=C16,O16<=C16),"Đúng","Sai") -> Đúng | T16: =IF(C16=P16+Q16,"Đúng","Sai") -> Đúng | U16: =IF(AND(R16<=Q16),"Đúng","Sai") -> Đúng
B17: Trong đó: Bí thư | C17: =SUM(D17:G17) -> 0 | S17: =IF(AND(H17<=C17,I17<=C17,J17<=C17,K17<=C17,L17<=C17,M17<=C17,N17<=C17,O17<=C17),"Đúng","Sai") -> Đúng | T17: =IF(C17=P17+Q17,"Đúng","Sai") -> Đúng | U17: =IF(AND(R17<=Q17),"Đúng","Sai") -> Đúng
B18: Phó Bí thư | C18: =SUM(D18:G18) -> 0 | S18: =IF(AND(H18<=C18,I18<=C18,J18<=C18,K18<=C18,L18<=C18,M18<=C18,N18<=C18,O18<=C18),"Đúng","Sai") -> Đúng | T18: =IF(C18=P18+Q18,"Đúng","Sai") -> Đúng | U18: =IF(AND(R18<=Q18),"Đúng","Sai") -> Đúng
B19: Đảng uỷ viên | C19: =SUM(D19:G19) -> 0 | S19: =IF(AND(H19<=C19,I19<=C19,J19<=C19,K19<=C19,L19<=C19,M19<=C19,N19<=C19,O19<=C19),"Đúng","Sai") -> Đúng | T19: =IF(C19=P19+Q19,"Đúng","Sai") -> Đúng | U19: =IF(AND(R19<=Q19),"Đúng","Sai") -> Đúng
B20: Đảng ủy viên đảng ủy bộ phận | C20: =SUM(D20:G20) -> 0 | S20: =IF(AND(H20<=C20,I20<=C20,J20<=C20,K20<=C20,L20<=C20,M20<=C20,N20<=C20,O20<=C20),"Đúng","Sai") -> Đúng | T20: =IF(C20=P20+Q20,"Đúng","Sai") -> Đúng | U20: =IF(AND(R20<=Q20),"Đúng","Sai") -> Đúng
B21: Chi uỷ viên | C21: =SUM(D21:G21) -> 0 | S21: =IF(AND(H21<=C21,I21<=C21,J21<=C21,K21<=C21,L21<=C21,M21<=C21,N21<=C21,O21<=C21),"Đúng","Sai") -> Đúng | T21: =IF(C21=P21+Q21,"Đúng","Sai") -> Đúng | U21: =IF(AND(R21<=Q21),"Đúng","Sai") -> Đúng
A22: III | B22: Đảng viên ở các lĩnh vực | C22: =SUM(C23:C29) -> 0 | D22: =SUM(D23:D29) -> 0 | E22: =SUM(E23:E29) -> 0 | F22: =SUM(F23:F29) -> 0 | G22: =SUM(G23:G29) -> 0 | H22: =SUM(H23:H29) -> 0 | I22: =SUM(I23:I29) -> 0 | J22: =SUM(J23:J29) -> 0 | ... R22: =SUM(R23:R29) -> 0 | S22: =IF(AND(H22<=C22,I22<=C22,J22<=C22,K22<=C22,L22<=C22,M22<=C22,N22<=C22,O22<=C22),"Đúng","Sai") -> Đúng | T22: =IF(C22=P22+Q22,"Đúng","Sai") -> Đúng | U22: =IF(AND(R22<=Q22),"Đúng","Sai") -> Đúng
B23: Đảng | C23: =SUM(D23:G23) -> 0 | S23: =IF(AND(H23<=C23,I23<=C23,J23<=C23,K23<=C23,L23<=C23,M23<=C23,N23<=C23,O23<=C23),"Đúng","Sai") -> Đúng | T23: =IF(C23=P23+Q23,"Đúng","Sai") -> Đúng | U23: =IF(AND(R23<=Q23),"Đúng","Sai") -> Đúng
B24: Hành chính, Nhà nước | C24: =SUM(D24:G24) -> 0 | S24: =IF(AND(H24<=C24,I24<=C24,J24<=C24,K24<=C24,L24<=C24,M24<=C24,N24<=C24,O24<=C24),"Đúng","Sai") -> Đúng | T24: =IF(C24=P24+Q24,"Đúng","Sai") -> Đúng | U24: =IF(AND(R24<=Q24),"Đúng","Sai") -> Đúng
B25: Đoàn thể | C25: =SUM(D25:G25) -> 0 | S25: =IF(AND(H25<=C25,I25<=C25,J25<=C25,K25<=C25,L25<=C25,M25<=C25,N25<=C25,O25<=C25),"Đúng","Sai") -> Đúng | T25: =IF(C25=P25+Q25,"Đúng","Sai") -> Đúng | U25: =IF(AND(R25<=Q25),"Đúng","Sai") -> Đúng
B26: Lực lượng vũ trang | C26: =SUM(D26:G26) -> 0 | S26: =IF(AND(H26<=C26,I26<=C26,J26<=C26,K26<=C26,L26<=C26,M26<=C26,N26<=C26,O26<=C26),"Đúng","Sai") -> Đúng | T26: =IF(C26=P26+Q26,"Đúng","Sai") -> Đúng | U26: =IF(AND(R26<=Q26),"Đúng","Sai") -> Đúng
B27: Sự nghiệp công lập | C27: =SUM(D27:G27) -> 0 | S27: =IF(AND(H27<=C27,I27<=C27,J27<=C27,K27<=C27,L27<=C27,M27<=C27,N27<=C27,O27<=C27),"Đúng","Sai") -> Đúng | T27: =IF(C27=P27+Q27,"Đúng","Sai") -> Đúng | U27: =IF(AND(R27<=Q27),"Đúng","Sai") -> Đúng
B28: Sản xuất kinh doanh, dịch vụ | C28: =SUM(D28:G28) -> 0 | S28: =IF(AND(H28<=C28,I28<=C28,J28<=C28,K28<=C28,L28<=C28,M28<=C28,N28<=C28,O28<=C28),"Đúng","Sai") -> Đúng | T28: =IF(C28=P28+Q28,"Đúng","Sai") -> Đúng | U28: =IF(AND(R28<=Q28),"Đúng","Sai") -> Đúng
B29: Các lĩnh vực khác | C29: =SUM(D29:G29) -> 0 | S29: =IF(AND(H29<=C29,I29<=C29,J29<=C29,K29<=C29,L29<=C29,M29<=C29,N29<=C29,O29<=C29),"Đúng","Sai") -> Đúng | T29: =IF(C29=P29+Q29,"Đúng","Sai") -> Đúng | U29: =IF(AND(R29<=Q29),"Đúng","Sai") -> Đúng
C31: =IF(C6=C22, "Đúng","Sai") -> Đúng | D31: =IF(D6=D22, "Đúng","Sai") -> Đúng | E31: =IF(E6=E22, "Đúng","Sai") -> Đúng | F31: =IF(F6=F22, "Đúng","Sai") -> Đúng | G31: =IF(G6=G22, "Đúng","Sai") -> Đúng | H31: =IF(H6=H22, "Đúng","Sai") -> Đúng | I31: =IF(I6=I22, "Đúng","Sai") -> Đúng | J31: =IF(J6=J22, "Đúng","Sai") -> Đúng | ... R31: =IF(R6=R22, "Đúng","Sai") -> Đúng

Sheet B16
A1: GIÁM SÁT TỔ CHỨC ĐẢNG CỦA ỦY BAN KIỂM TRA CÁC CẤP | P1: Biểu 16
A2: (Giám sát theo chuyên đề) | O2: (ĐVT: Tổ chức đảng)
A3: TT | B3: Tổ chức đảng được giám sát | C3: Tổng số tổ chức đảng được giám sát | D3: Cấp giám sát | H3: Nội dung | O3: Kết quả
D4: UBKT Trung ương | E4: UBKT tỉnh uỷ và tương đương | F4: UBKT huyện uỷ và tương đương | G4: UBKT cơ sở | H4: Việc lãnh đạo, chỉ đạo, tổ chức thực hiện Cương lĩnh chính trị, Điều lệ Đảng, chủ trương, nghị quyết, chỉ thị, quy định, quyết định, quy chế, kết luận của Đảng, của cấp ủy cấp trên | I4: Việc ban hành và tổ chức thực hiện quy chế làm việc | J4: Việc chấp hành chính sách, pháp luật của Nhà nước | K4: Việc ban hành các văn bản có dấu hiệu trái với chủ trương, đường lối, nghị quyết của Đảng, pháp luật Nhà nước | L4: Việc thực hiện các kết luận, quyết định kiểm tra, giám sát và kỷ luật tổ chức đảng, đảng viên vi phạm | M4: Công tác cán bộ | N4: Khác | O4: Số tổ chức đảng thực hiện tốt | P4: Số tổ chức đảng có vi phạm, khuyết điểm | Q4: Số tổ chức đảng chuyển kiểm tra khi có dấu hiệu vi phạm
A5: 1 | B5: 2 | C5: 3 | D5: 4 | E5: 5 | F5: 6 | G5: 7 | H5: 8 | I5: 9 | J5: 10 | K5: 11 | L5: 12 | M5: 13 | N5: 14 | O5: 15 | P5: 16 | Q5: 17
B6: BCS đảng, đảng đoàn ở Trung ương | C6: =SUM(D6:G6) -> 0 | R6: =IF(AND(H6<=C6,I6<=C6,J6<=C6,K6<=C6,L6<=C6,M6<=C6,N6<=C6),"Đúng","Sai") -> Đúng | S6: =IF(C6=O6+P6,"Đúng","Sai") -> Đúng | T6: =IF(AND(Q6<=P6),"Đúng","Sai") -> Đúng
B7: Các CQ tham mưu của Trung ương | C7: =SUM(D7:G7) -> 0 | R7: =IF(AND(H7<=C7,I7<=C7,J7<=C7,K7<=C7,L7<=C7,M7<=C7,N7<=C7),"Đúng","Sai") -> Đúng | S7: =IF(C7=O7+P7,"Đúng","Sai") -> Đúng | T7: =IF(AND(Q7<=P7),"Đúng","Sai") -> Đúng
B8: Tỉnh ủy, BTV, thường trực tỉnh ủy và tương đương | C8: =SUM(D8:G8) -> 0 | R8: =IF(AND(H8<=C8,I8<=C8,J8<=C8,K8<=C8,L8<=C8,M8<=C8,N8<=C8),"Đúng","Sai") -> Đúng | S8: =IF(C8=O8+P8,"Đúng","Sai") -> Đúng | T8: =IF(AND(Q8<=P8),"Đúng","Sai") -> Đúng
B9: BCS đảng, đảng đoàn cấp tỉnh và tương đương | C9: =SUM(D9:G9) -> 0 | R9: =IF(AND(H9<=C9,I9<=C9,J9<=C9,K9<=C9,L9<=C9,M9<=C9,N9<=C9),"Đúng","Sai") -> Đúng | S9: =IF(C9=O9+P9,"Đúng","Sai") -> Đúng | T9: =IF(AND(Q9<=P9),"Đúng","Sai") -> Đúng
B10: Các CQ tham mưu của cấp ủy tỉnh và tương đương | C10: =SUM(D10:G10) -> 0 | R10: =IF(AND(H10<=C10,I10<=C10,J10<=C10,K10<=C10,L10<=C10,M10<=C10,N10<=C10),"Đúng","Sai") -> Đúng | S10: =IF(C10=O10+P10,"Đúng","Sai") -> Đúng | T10: =IF(AND(Q10<=P10),"Đúng","Sai") -> Đúng
B11: Huyện ủy, BTV huyện ủy, thường trực huyện ủy và tương đương | C11: =SUM(D11:G11) -> 0 | R11: =IF(AND(H11<=C11,I11<=C11,J11<=C11,K11<=C11,L11<=C11,M11<=C11,N11<=C11),"Đúng","Sai") -> Đúng | S11: =IF(C11=O11+P11,"Đúng","Sai") -> Đúng | T11: =IF(AND(Q11<=P11),"Đúng","Sai") -> Đúng
B12: Các CQ tham mưu của cấp ủy huyện và tương đương | C12: =SUM(D12:G12) -> 0 | R12: =IF(AND(H12<=C12,I12<=C12,J12<=C12,K12<=C12,L12<=C12,M12<=C12,N12<=C12),"Đúng","Sai") -> Đúng | S12: =IF(C12=O12+P12,"Đúng","Sai") -> Đúng | T12: =IF(AND(Q12<=P12),"Đúng","Sai") -> Đúng
B13: Đảng ủy cơ sở, BTV Đảng ủy cơ sở | C13: =SUM(D13:G13) -> 0 | R13: =IF(AND(H13<=C13,I13<=C13,J13<=C13,K13<=C13,L13<=C13,M13<=C13,N13<=C13),"Đúng","Sai") -> Đúng | S13: =IF(C13=O13+P13,"Đúng","Sai") -> Đúng | T13: =IF(AND(Q13<=P13),"Đúng","Sai") -> Đúng
B14: Đảng ủy bộ phận | C14: =SUM(D14:G14) -> 0 | R14: =IF(AND(H14<=C14,I14<=C14,J14<=C14,K14<=C14,L14<=C14,M14<=C14,N14<=C14),"Đúng","Sai") -> Đúng | S14: =IF(C14=O14+P14,"Đúng","Sai") -> Đúng | T14: =IF(AND(Q14<=P14),"Đúng","Sai") -> Đúng
B15: Chi bộ, Chi ủy | C15: =SUM(D15:G15) -> 0 | R15: =IF(AND(H15<=C15,I15<=C15,J15<=C15,K15<=C15,L15<=C15,M15<=C15,N15<=C15),"Đúng","Sai") -> Đúng | S15: =IF(C15=O15+P15,"Đúng","Sai") -> Đúng | T15: =IF(AND(Q15<=P15),"Đúng","Sai") -> Đúng
B16: Khác (ban chỉ đạo, tiểu ban, hội đồng, tổ đảng...) | C16: =SUM(D16:G16) -> 0 | R16: =IF(AND(H16<=C16,I16<=C16,J16<=C16,K16<=C16,L16<=C16,M16<=C16,N16<=C16),"Đúng","Sai") -> Đúng | S16: =IF(C16=O16+P16,"Đúng","Sai") -> Đúng | T16: =IF(AND(Q16<=P16),"Đúng","Sai") -> Đúng
A17: I | B17: Cộng | C17: =SUM(C6:C16) -> 0 | D17: =SUM(D6:D16) -> 0 | E17: =SUM(E6:E16) -> 0 | F17: =SUM(F6:F16) -> 0 | G17: =SUM(G6:G16) -> 0 | H17: =SUM(H6:H16) -> 0 | I17: =SUM(I6:I16) -> 0 | J17: =SUM(J6:J16) -> 0 | ... Q17: =SUM(Q6:Q16) -> 0 | R17: =IF(AND(H17<=C17,I17<=C17,J17<=C17,K17<=C17,L17<=C17,M17<=C17,N17<=C17),"Đúng","Sai") -> Đúng | S17: =IF(C17=O17+P17,"Đúng","Sai") -> Đúng | T17: =IF(AND(Q17<=P17),"Đúng","Sai") -> Đúng

Sheet B17
A1: THI HÀNH KỶ LUẬT ĐẢNG VIÊN CỦA ỦY BAN KIỂM TRA CÁC CẤP | X1: Biểu 17
W2: (ĐVT: lượt đảng viên)
A3: TT | B3: Đảng viên bị thi hành kỷ luật | C3: Tổng số đảng viên bị thi hành kỷ luật | D3: Hình thức kỷ luật | H3: Đình chỉ sinh hoạt đảng | I3: Đình chỉ sinh hoạt cấp ủy | J3: Cấp THKL | N3: Nội dung vi phạm | W3: Xử lý pháp luật | Z3: Xử lý hành chính
D4: Khiển trách | E4: Cảnh cáo | F4: Cách chức | G4: Khai trừ | J4: UBKT Trung ương | K4: UBKT tỉnh uỷ và tương đương | L4: UBKT huyện uỷ và tương đương | M4: UBKT đảng ủy cơ sở | N4: Những điều đảng viên không được làm | O4: Tiêu chuẩn đảng viên, tiêu chuẩn cấp ủy viên | P4: Việc thực hiện nhiệm vụ đảng viên, cấp ủy viên | Q4: Việc chấp hành nghị quyết, chỉ thị, quy định, kết luận của Đảng; chính sách, pháp luật của Nhà nước | R4: Việc chấp hành quy chế làm việc, nguyên tắc tập trung dân chủ, chế độ công tác | S4: Tư tưởng chính trị, đạo đức, lối sống, trách nhiệm nêu gương | T4: Tham nhũng, cố ý làm trái | U4: Kê khai tài sản, thu nhập cá nhân | V4: Khác | W4: Số lượng | X4: Trong đó
X5: Bị phạt tù (kể cả án treo) | Y5: Hình thức khác
A6: 1 | B6: 2 | C6: 3 | D6: 4 | E6: 5 | F6: 6 | G6: 7 | H6: 8 | I6: 9 | J6: 10 | K6: 11 | L6: 12 | M6: 13 | N6: 14 | O6: 15 | P6: 16 | Q6: 17 | R6: 18 | S6: 19 | T6: 20 | U6: 21 | V6: 22 | W6: 23 | X6: 24 | Y6: 25 | Z6: 26
A7: I | B7: Cấp quản lý đảng viên | C7: =SUM(C8:C11) -> 0 | D7: =SUM(D8:D11) -> 0 | E7: =SUM(E8:E11) -> 0 | F7: =SUM(F8:F11) -> 0 | G7: =SUM(G8:G11) -> 0 | H7: =SUM(H8:H11) -> 0 | I7: =SUM(I8:I11) -> 0 | J7: =SUM(J8:J11) -> 0 | ... Z7: =SUM(Z8:Z11) -> 0 | AA7: =IF((SUM(J7:M7)=C7),"Đúng","Sai") -> Đúng | AB7: =IF(AND(N7<=C7,O7<=C7,P7<=C7,Q7<=C7,R7<=C7,S7<=C7,T7<=C7,U7<=C7,V7<=C7),"Đúng","Sai") -> Đúng | AC7: =IF(W7=X7+Y7,"Đúng","Sai") -> Đúng
B8: Trung ương | C8: =SUM(D8:G8) -> 0 | W8: =SUM(X8:Y8) -> 0 | AA8: =IF((SUM(J8:M8)=C8),"Đúng","Sai") -> Đúng | AB8: =IF(AND(N8<=C8,O8<=C8,P8<=C8,Q8<=C8,R8<=C8,S8<=C8,T8<=C8,U8<=C8,V8<=C8),"Đúng","Sai") -> Đúng | AC8: =IF(W8=X8+Y8,"Đúng","Sai") -> Đúng
B9: Cấp tỉnh và tương đương | C9: =SUM(D9:G9) -> 0 | W9: =SUM(X9:Y9) -> 0 | AA9: =IF((SUM(J9:M9)=C9),"Đúng","Sai") -> Đúng | AB9: =IF(AND(N9<=C9,O9<=C9,P9<=C9,Q9<=C9,R9<=C9,S9<=C9,T9<=C9,U9<=C9,V9<=C9),"Đúng","Sai") -> Đúng | AC9: =IF(W9=X9+Y9,"Đúng","Sai") -> Đúng
B10: Cấp huyện và tương đương | C10: =SUM(D10:G10) -> 0 | W10: =SUM(X10:Y10) -> 0 | AA10: =IF((SUM(J10:M10)=C10),"Đúng","Sai") -> Đúng | AB10: =IF(AND(N10<=C10,O10<=C10,P10<=C10,Q10<=C10,R10<=C10,S10<=C10,T10<=C10,U10<=C10,V10<=C10),"Đúng","Sai") -> Đúng | AC10: =IF(W10=X10+Y10,"Đúng","Sai") -> Đúng
B11: Cấp cơ sở | C11: =SUM(D11:G11) -> 0 | W11: =SUM(X11:Y11) -> 0 | AA11: =IF((SUM(J11:M11)=C11),"Đúng","Sai") -> Đúng | AB11: =IF(AND(N11<=C11,O11<=C11,P11<=C11,Q11<=C11,R11<=C11,S11<=C11,T11<=C11,U11<=C11,V11<=C11),"Đúng","Sai") -> Đúng | AC11: =IF(W11=X11+Y11,"Đúng","Sai") -> Đúng
A12: II | B12: Là cấp uỷ viên các cấp | C12: =SUM(C13:C17) -> 0 | D12: =SUM(D13:D17) -> 0 | E12: =SUM(E13:E17) -> 0 | F12: =SUM(F13:F17) -> 0 | G12: =SUM(G13:G17) -> 0 | H12: =SUM(H13:H17) -> 0 | I12: =SUM(I13:I17) -> 0 | J12: =SUM(J13:J17) -> 0 | ... Z12: =SUM(Z13:Z17) -> 0 | AA12: =IF((SUM(J12:M12)=C12),"Đúng","Sai") -> Đúng | AB12: =IF(AND(N12<=C12,O12<=C12,P12<=C12,Q12<=C12,R12<=C12,S12<=C12,T12<=C12,U12<=C12,V12<=C12),"Đúng","Sai") -> Đúng | AC12: =IF(W12=X12+Y12,"Đúng","Sai") -> Đúng
B13: Tỉnh ủy viên và tương đương | C13: =SUM(D13:G13) -> 0 | W13: =SUM(X13:Y13) -> 0 | AA13: =IF((SUM(J13:M13)=C13),"Đúng","Sai") -> Đúng | AB13: =IF(AND(N13<=C13,O13<=C13,P13<=C13,Q13<=C13,R13<=C13,S13<=C13,T13<=C13,U13<=C13,V13<=C13),"Đúng","Sai") -> Đúng | AC13: =IF(W13=X13+Y13,"Đúng","Sai") -> Đúng
B14: Huyện ủy viên và tương đương | C14: =SUM(D14:G14) -> 0 | W14: =SUM(X14:Y14) -> 0 | AA14: =IF((SUM(J14:M14)=C14),"Đúng","Sai") -> Đúng | AB14: =IF(AND(N14<=C14,O14<=C14,P14<=C14,Q14<=C14,R14<=C14,S14<=C14,T14<=C14,U14<=C14,V14<=C14),"Đúng","Sai") -> Đúng | AC14: =IF(W14=X14+Y14,"Đúng","Sai") -> Đúng
B15: Đảng ủy viên | C15: =SUM(D15:G15) -> 0 | W15: =SUM(X15:Y15) -> 0 | AA15: =IF((SUM(J15:M15)=C15),"Đúng","Sai") -> Đúng | AB15: =IF(AND(N15<=C15,O15<=C15,P15<=C15,Q15<=C15,R15<=C15,S15<=C15,T15<=C15,U15<=C15,V15<=C15),"Đúng","Sai") -> Đúng | AC15: =IF(W15=X15+Y15,"Đúng","Sai") -> Đúng
B16: Đảng ủy viên đảng ủy bộ phận | C16: =SUM(D16:G16) -> 0 | W16: =SUM(X16:Y16) -> 0 | AA16: =IF((SUM(J16:M16)=C16),"Đúng","Sai") -> Đúng | AB16: =IF(AND(N16<=C16,O16<=C16,P16<=C16,Q16<=C16,R16<=C16,S16<=C16,T16<=C16,U16<=C16,V16<=C16),"Đúng","Sai") -> Đúng | AC16: =IF(W16=X16+Y16,"Đúng","Sai") -> Đúng
B17: Chi ủy viên | C17: =SUM(D17:G17) -> 0 | W17: =SUM(X17:Y17) -> 0 | AA17: =IF((SUM(J17:M17)=C17),"Đúng","Sai") -> Đúng | AB17: =IF(AND(N17<=C17,O17<=C17,P17<=C17,Q17<=C17,R17<=C17,S17<=C17,T17<=C17,U17<=C17,V17<=C17),"Đúng","Sai") -> Đúng | AC17: =IF(W17=X17+Y17,"Đúng","Sai") -> Đúng
A18: III | B18: Đảng viên ở các lĩnh vực | C18: =SUM(C19:C25) -> 0 | D18: =SUM(D19:D25) -> 0 | E18: =SUM(E19:E25) -> 0 | F18: =SUM(F19:F25) -> 0 | G18: =SUM(G19:G25) -> 0 | H18: =SUM(H19:H25) -> 0 | I18: =SUM(I19:I25) -> 0 | J18: =SUM(J19:J25) -> 0 | ... Z18: =SUM(Z19:Z25) -> 0 | AA18: =IF((SUM(J18:M18)=C18),"Đúng","Sai") -> Đúng | AB18: =IF(AND(N18<=C18,O18<=C18,P18<=C18,Q18<=C18,R18<=C18,S18<=C18,T18<=C18,U18<=C18,V18<=C18),"Đúng","Sai") -> Đúng | AC18: =IF(W18=X18+Y18,"Đúng","Sai") -> Đúng
B19: Đảng | C19: =SUM(D19:G19) -> 0 | W19: =SUM(X19:Y19) -> 0 | AA19: =IF((SUM(J19:M19)=C19),"Đúng","Sai") -> Đúng | AB19: =IF(AND(N19<=C19,O19<=C19,P19<=C19,Q19<=C19,R19<=C19,S19<=C19,T19<=C19,U19<=C19,V19<=C19),"Đúng","Sai") -> Đúng | AC19: =IF(W19=X19+Y19,"Đúng","Sai") -> Đúng
B20: Hành chính, Nhà nước | C20: =SUM(D20:G20) -> 0 | W20: =SUM(X20:Y20) -> 0 | AA20: =IF((SUM(J20:M20)=C20),"Đúng","Sai") -> Đúng | AB20: =IF(AND(N20<=C20,O20<=C20,P20<=C20,Q20<=C20,R20<=C20,S20<=C20,T20<=C20,U20<=C20,V20<=C20),"Đúng","Sai") -> Đúng | AC20: =IF(W20=X20+Y20,"Đúng","Sai") -> Đúng
B21: Đoàn thể | C21: =SUM(D21:G21) -> 0 | W21: =SUM(X21:Y21) -> 0 | AA21: =IF((SUM(J21:M21)=C21),"Đúng","Sai") -> Đúng | AB21: =IF(AND(N21<=C21,O21<=C21,P21<=C21,Q21<=C21,R21<=C21,S21<=C21,T21<=C21,U21<=C21,V21<=C21),"Đúng","Sai") -> Đúng | AC21: =IF(W21=X21+Y21,"Đúng","Sai") -> Đúng
B22: Lực lượng vũ trang | C22: =SUM(D22:G22) -> 0 | W22: =SUM(X22:Y22) -> 0 | AA22: =IF((SUM(J22:M22)=C22),"Đúng","Sai") -> Đúng | AB22: =IF(AND(N22<=C22,O22<=C22,P22<=C22,Q22<=C22,R22<=C22,S22<=C22,T22<=C22,U22<=C22,V22<=C22),"Đúng","Sai") -> Đúng | AC22: =IF(W22=X22+Y22,"Đúng","Sai") -> Đúng
B23: Sự nghiệp công lập | C23: =SUM(D23:G23) -> 0 | W23: =SUM(X23:Y23) -> 0 | AA23: =IF((SUM(J23:M23)=C23),"Đúng","Sai") -> Đúng | AB23: =IF(AND(N23<=C23,O23<=C23,P23<=C23,Q23<=C23,R23<=C23,S23<=C23,T23<=C23,U23<=C23,V23<=C23),"Đúng","Sai") -> Đúng | AC23: =IF(W23=X23+Y23,"Đúng","Sai") -> Đúng
B24: SXKD, dịch vụ | C24: =SUM(D24:G24) -> 0 | W24: =SUM(X24:Y24) -> 0 | AA24: =IF((SUM(J24:M24)=C24),"Đúng","Sai") -> Đúng | AB24: =IF(AND(N24<=C24,O24<=C24,P24<=C24,Q24<=C24,R24<=C24,S24<=C24,T24<=C24,U24<=C24,V24<=C24),"Đúng","Sai") -> Đúng | AC24: =IF(W24=X24+Y24,"Đúng","Sai") -> Đúng
B25: Lĩnh vực khác | C25: =SUM(D25:G25) -> 0 | W25: =SUM(X25:Y25) -> 0 | AA25: =IF((SUM(J25:M25)=C25),"Đúng","Sai") -> Đúng | AB25: =IF(AND(N25<=C25,O25<=C25,P25<=C25,Q25<=C25,R25<=C25,S25<=C25,T25<=C25,U25<=C25,V25<=C25),"Đúng","Sai") -> Đúng | AC25: =IF(W25=X25+Y25,"Đúng","Sai") -> Đúng
A26: IV | B26: Bị THKL từ nhiệm vụ | C26: =SUM(C27:C31) -> 0 | D26: =SUM(D27:D31) -> 0 | E26: =SUM(E27:E31) -> 0 | F26: =SUM(F27:F31) -> 0 | G26: =SUM(G27:G31) -> 0 | H26: =SUM(H27:H31) -> 0 | I26: =SUM(I27:I31) -> 0 | J26: =SUM(J27:J31) -> 0 | ... Z26: =SUM(Z27:Z31) -> 0 | AA26: =IF((SUM(J26:M26)=C26),"Đúng","Sai") -> Đúng | AB26: =IF(AND(N26<=C26,O26<=C26,P26<=C26,Q26<=C26,R26<=C26,S26<=C26,T26<=C26,U26<=C26,V26<=C26),"Đúng","Sai") -> Đúng | AC26: =IF(W26=X26+Y26,"Đúng","Sai") -> Đúng
B27: Kiểm tra khi có DHVP | C27: =SUM(D27:G27) -> 0 | W27: =SUM(X27:Y27) -> 0 | AA27: =IF((SUM(J27:M27)=C27),"Đúng","Sai") -> Đúng | AB27: =IF(AND(N27<=C27,O27<=C27,P27<=C27,Q27<=C27,R27<=C27,S27<=C27,T27<=C27,U27<=C27,V27<=C27),"Đúng","Sai") -> Đúng | AC27: =IF(W27=X27+Y27,"Đúng","Sai") -> Đúng
B28: Giải quyết tố cáo | C28: =SUM(D28:G28) -> 0 | W28: =SUM(X28:Y28) -> 0 | AA28: =IF((SUM(J28:M28)=C28),"Đúng","Sai") -> Đúng | AB28: =IF(AND(N28<=C28,O28<=C28,P28<=C28,Q28<=C28,R28<=C28,S28<=C28,T28<=C28,U28<=C28,V28<=C28),"Đúng","Sai") -> Đúng | AC28: =IF(W28=X28+Y28,"Đúng","Sai") -> Đúng
B29: Kiểm tra tài chính đảng (thu chi NSNN và SXKD) | C29: =SUM(D29:G29) -> 0 | W29: =SUM(X29:Y29) -> 0 | AA29: =IF((SUM(J29:M29)=C29),"Đúng","Sai") -> Đúng | AB29: =IF(AND(N29<=C29,O29<=C29,P29<=C29,Q29<=C29,R29<=C29,S29<=C29,T29<=C29,U29<=C29,V29<=C29),"Đúng","Sai") -> Đúng | AC29: =IF(W29=X29+Y29,"Đúng","Sai") -> Đúng
B30: Kiểm tra tài chính đảng (thu nộp, quản lý sử dụng ĐP) | C30: =SUM(D30:G30) -> 0 | W30: =SUM(X30:Y30) -> 0 | AA30: =IF((SUM(J30:M30)=C30),"Đúng","Sai") -> Đúng | AB30: =IF(AND(N30<=C30,O30<=C30,P30<=C30,Q30<=C30,R30<=C30,S30<=C30,T30<=C30,U30<=C30,V30<=C30),"Đúng","Sai") -> Đúng | AC30: =IF(W30=X30+Y30,"Đúng","Sai") -> Đúng
B31: Khác (từ đề nghị của TCĐ cấp dưới, từ chỉ đạo của cấp trên giao...) | C31: =SUM(D31:G31) -> 0 | W31: =SUM(X31:Y31) -> 0 | AA31: =IF((SUM(J31:M31)=C31),"Đúng","Sai") -> Đúng | AB31: =IF(AND(N31<=C31,O31<=C31,P31<=C31,Q31<=C31,R31<=C31,S31<=C31,T31<=C31,U31<=C31,V31<=C31),"Đúng","Sai") -> Đúng | AC31: =IF(W31=X31+Y31,"Đúng","Sai") -> Đúng
C33: =IF(AND(C26=C18,C7=C18),"Đúng","Sai") -> Đúng | D33: =IF(AND(D26=D18,D7=D18),"Đúng","Sai") -> Đúng | E33: =IF(AND(E26=E18,E7=E18),"Đúng","Sai") -> Đúng | F33: =IF(AND(F26=F18,F7=F18),"Đúng","Sai") -> Đúng | G33: =IF(AND(G26=G18,G7=G18),"Đúng","Sai") -> Đúng | H33: =IF(AND(H26=H18,H7=H18),"Đúng","Sai") -> Đúng | I33: =IF(AND(I26=I18,I7=I18),"Đúng","Sai") -> Đúng | J33: =IF(AND(J26=J18,J7=J18),"Đúng","Sai") -> Đúng | ... Z33: =IF(AND(Z26=Z18,Z7=Z18),"Đúng","Sai") -> Đúng

Sheet B18
A1: THI HÀNH KỶ LUẬT TỔ CHỨC ĐẢNG CỦA ỦY BAN KIỂM TRA CÁC CẤP | N1: Biểu 18
M2: (ĐVT: Tổ chức đảng)
A3: TT | B3: Tổ chức đảng bị thi hành kỷ luật | C3: Tổng số tổ chức đảng bị thi hành kỷ luật | D3: Hình thức kỷ luật | F3: Cấp thi hành kỷ luật | I3: Nội dung vi phạm
D4: Khiển trách | E4: Cảnh cáo | F4: UBKT Trung ương | G4: UBKT tỉnh ủy và tương đương | H4: UBKT huyện uỷ và tương đương | I4: Việc chấp hành Cương lĩnh chính trị, Điều lệ Đảng, chủ trương, nghị quyết, chỉ thị, quy định, quyết định, quy chế, kết luận, hướng dẫn của Đảng | J4: Việc chấp hành chính sách, pháp luật của Nhà nước | K4: Việc chấp hành các nguyên tắc tổ chức và hoạt động của Đảng, giữ gìn đoàn kết nội bộ, quy chế làm việc, chế độ công tác, thực hiện dân chủ trong Đảng | L4: Việc lãnh đạo, chỉ đạo thực hành tiết kiệm; phòng, chống tham nhũng, lãng phí; quản lý, rèn luyện phẩm chất, đạo đức, lối sống của đảng viên | M4: Việc lãnh đạo, chỉ đạo và tổ chức thực hiện cải cách hành chính, cải cách tư pháp | N4: Việc lãnh đạo, chỉ đạo các cơ quan bảo vệ pháp luật trong công tác điều tra, truy tố, xét xử, thi hành án | O4: Công tác cán bộ | P4: Giải quyết khiếu nại, tố cáo | Q4: Khác
A5: 1 | B5: 2 | C5: 3 | D5: 4 | E5: 5 | F5: 6 | G5: 7 | H5: 8 | I5: 9 | J5: 10 | K5: 11 | L5: 12 | M5: 13 | N5: 14 | O5: 15 | P5: 16 | Q5: 17
A6: I | B6: Tổ chức đảng bị THKL | C6: =SUM(C7:C14) -> 0 | D6: =SUM(D7:D14) -> 0 | E6: =SUM(E7:E14) -> 0 | F6: =SUM(F7:F14) -> 0 | G6: =SUM(G7:G14) -> 0 | H6: =SUM(H7:H14) -> 0 | I6: =SUM(I7:I14) -> 0 | J6: =SUM(J7:J14) -> 0 | ... Q6: =SUM(Q7:Q14) -> 0 | R6: =IF(SUM(F6:H6)=C6,"Đúng","Sai") -> Đúng | S6: =IF(AND(I6<=C6,J6<=C6,K6<=C6,L6<=C6,M6<=C6,N6<=C6,O6<=C6,P6<=C6,Q6<=C6),"Đúng","Sai") -> Đúng
B7: BCS đảng, đảng đoàn cấp tỉnh và tương đương | C7: =SUM(D7:E7) -> 0 | R7: =IF(SUM(F7:H7)=C7,"Đúng","Sai") -> Đúng | S7: =IF(AND(I7<=C7,J7<=C7,K7<=C7,L7<=C7,M7<=C7,N7<=C7,O7<=C7,P7<=C7,Q7<=C7),"Đúng","Sai") -> Đúng
B8: Các CQ tham mưu của cấp ủy tỉnh và tương đương | C8: =SUM(D8:E8) -> 0 | R8: =IF(SUM(F8:H8)=C8,"Đúng","Sai") -> Đúng | S8: =IF(AND(I8<=C8,J8<=C8,K8<=C8,L8<=C8,M8<=C8,N8<=C8,O8<=C8,P8<=C8,Q8<=C8),"Đúng","Sai") -> Đúng
B9: Huyện uỷ, BTV, Thường trực huyện uỷ và tương đương | C9: =SUM(D9:E9) -> 0 | R9: =IF(SUM(F9:H9)=C9,"Đúng","Sai") -> Đúng | S9: =IF(AND(I9<=C9,J9<=C9,K9<=C9,L9<=C9,M9<=C9,N9<=C9,O9<=C9,P9<=C9,Q9<=C9),"Đúng","Sai") -> Đúng
B10: Các CQ tham mưu của cấp ủy huyện và tương đương | C10: =SUM(D10:E10) -> 0 | R10: =IF(SUM(F10:H10)=C10,"Đúng","Sai") -> Đúng | S10: =IF(AND(I10<=C10,J10<=C10,K10<=C10,L10<=C10,M10<=C10,N10<=C10,O10<=C10,P10<=C10,Q10<=C10),"Đúng","Sai") -> Đúng
B11: Đảng uỷ cơ sở, BTV đảng ủy cơ sở | C11: =SUM(D11:E11) -> 0 | R11: =IF(SUM(F11:H11)=C11,"Đúng","Sai") -> Đúng | S11: =IF(AND(I11<=C11,J11<=C11,K11<=C11,L11<=C11,M11<=C11,N11<=C11,O11<=C11,P11<=C11,Q11<=C11),"Đúng","Sai") -> Đúng
B12: Đảng uỷ bộ phận | C12: =SUM(D12:E12) -> 0 | R12: =IF(SUM(F12:H12)=C12,"Đúng","Sai") -> Đúng | S12: =IF(AND(I12<=C12,J12<=C12,K12<=C12,L12<=C12,M12<=C12,N12<=C12,O12<=C12,P12<=C12,Q12<=C12),"Đúng","Sai") -> Đúng
B13: Chi bộ, Chi ủy | C13: =SUM(D13:E13) -> 0 | R13: =IF(SUM(F13:H13)=C13,"Đúng","Sai") -> Đúng | S13: =IF(AND(I13<=C13,J13<=C13,K13<=C13,L13<=C13,M13<=C13,N13<=C13,O13<=C13,P13<=C13,Q13<=C13),"Đúng","Sai") -> Đúng
B14: Khác (ban chỉ đạo, tiểu ban, hội đồng, tổ đảng...) | C14: =SUM(D14:E14) -> 0 | R14: =IF(SUM(F14:H14)=C14,"Đúng","Sai") -> Đúng | S14: =IF(AND(I14<=C14,J14<=C14,K14<=C14,L14<=C14,M14<=C14,N14<=C14,O14<=C14,P14<=C14,Q14<=C14),"Đúng","Sai") -> Đúng
A15: II | B15: Bị THKL từ nhiệm vụ | C15: =SUM(C16:C20) -> 0 | D15: =SUM(D16:D20) -> 0 | E15: =SUM(E16:E20) -> 0 | F15: =SUM(F16:F20) -> 0 | G15: =SUM(G16:G20) -> 0 | H15: =SUM(H16:H20) -> 0 | I15: =SUM(I16:I20) -> 0 | J15: =SUM(J16:J20) -> 0 | ... Q15: =SUM(Q16:Q20) -> 0 | R15: =IF(SUM(F15:H15)=C15,"Đúng","Sai") -> Đúng | S15: =IF(AND(I15<=C15,J15<=C15,K15<=C15,L15<=C15,M15<=C15,N15<=C15,O15<=C15,P15<=C15,Q15<=C15),"Đúng","Sai") -> Đúng
B16: Kiểm tra khi có DHVP | C16: =SUM(D16:E16) -> 0 | R16: =IF(SUM(F16:H16)=C16,"Đúng","Sai") -> Đúng | S16: =IF(AND(I16<=C16,J16<=C16,K16<=C16,L16<=C16,M16<=C16,N16<=C16,O16<=C16,P16<=C16,Q16<=C16),"Đúng","Sai") -> Đúng
B17: Giải quyết tố cáo | C17: =SUM(D17:E17) -> 0 | R17: =IF(SUM(F17:H17)=C17,"Đúng","Sai") -> Đúng | S17: =IF(AND(I17<=C17,J17<=C17,K17<=C17,L17<=C17,M17<=C17,N17<=C17,O17<=C17,P17<=C17,Q17<=C17),"Đúng","Sai") -> Đúng
B18: Kiểm tra tài chính đảng về thu chi NSNN và SXKD | C18: =SUM(D18:E18) -> 0 | R18: =IF(SUM(F18:H18)=C18,"Đúng","Sai") -> Đúng | S18: =IF(AND(I18<=C18,J18<=C18,K18<=C18,L18<=C18,M18<=C18,N18<=C18,O18<=C18,P18<=C18,Q18<=C18),"Đúng","Sai") -> Đúng
B19: Kiểm tra tài chính đảng về thu nộp, quản lý sử dụng đảng phí | C19: =SUM(D19:E19) -> 0 | R19: =IF(SUM(F19:H19)=C19,"Đúng","Sai") -> Đúng | S19: =IF(AND(I19<=C19,J19<=C19,K19<=C19,L19<=C19,M19<=C19,N19<=C19,O19<=C19,P19<=C19,Q19<=C19),"Đúng","Sai") -> Đúng
B20: Khác (từ đề nghị của TCĐ, UBKT cấp dưới, từ chỉ đạo của cấp trên giao...) | C20: =SUM(D20:E20) -> 0 | R20: =IF(SUM(F20:H20)=C20,"Đúng","Sai") -> Đúng | S20: =IF(AND(I20<=C20,J20<=C20,K20<=C20,L20<=C20,M20<=C20,N20<=C20,O20<=C20,P20<=C20,Q20<=C20),"Đúng","Sai") -> Đúng
C22: =IF(C6=C15,"Đúng","Sai") -> Đúng | D22: =IF(D6=D15,"Đúng","Sai") -> Đúng | E22: =IF(E6=E15,"Đúng","Sai") -> Đúng | F22: =IF(F6=F15,"Đúng","Sai") -> Đúng | G22: =IF(G6=G15,"Đúng","Sai") -> Đúng | H22: =IF(H6=H15,"Đúng","Sai") -> Đúng | I22: =IF(I6=I15,"Đúng","Sai") -> Đúng | J22: =IF(J6=J15,"Đúng","Sai") -> Đúng | ... Q22: =IF(Q6=Q15,"Đúng","Sai") -> Đúng

Sheet B19
A1: GIẢI QUYẾT TỐ CÁO ĐỐI VỚI ĐẢNG VIÊN CỦA ỦY BAN KIỂM TRA CÁC CẤP | W1: Biểu 19
R2: (ĐVT: lượt giải quyết tố cáo đảng viên)
A3: TT | B3: Đảng viên bị tố cáo | C3: Đã giải quyết xong | D3: Cấp giải quyết | H3: Nội dung tố cáo | R3: Kết luận
D4: UBKT Trung ương | E4: UBKT tỉnh uỷ và tương đương | F4: UBKT huyện uỷ và tương đương | G4: UBKT đảng uỷ cơ sở | H4: Tiêu chuẩn đảng viên, tiêu chuẩn cấp ủy viên | I4: Việc chấp hành Cương lĩnh chính trị, Điều lệ Đảng, chủ trương, nghị quyết, chỉ thị, quy định, quy chế, kết luận của Đảng | J4: Về nguyên tắc tổ chức và sinh hoạt đảng | K4: Về thực hiện chức trách, nhiệm vụ được giao | L4: Về phẩm chất đạo đức, lối sống và trách nhiệm nêu gương | M4: Tham nhũng, cố ý làm trái | N4: Đất đai, tài nguyên, khoáng sản, nhà ở, môi trường | O4: Tài chính, ngân hàng, đầu tư,xây dựng, y tế, khoa học công nghệ | P4: Kê khai tài sản, thu nhập cá nhân | Q4: Khác | R4: Cho rút đơn, không xem xét giải quyết | S4: Chưa có cơ sở kết luận | T4: Tố sai | U4: Tố đúng và đúng một phần | V4: Trong đó
V5: Tố đúng, có vi phạm nhưng chưa đến mức phải kỷ luật | W5: Phải thi hành kỷ luật | X5: Đã thi hành kỷ luật
A6: 1 | B6: 2 | C6: 3 | D6: 4 | E6: 5 | F6: 6 | G6: 7 | H6: 8 | I6: 9 | J6: 10 | K6: 11 | L6: 12 | M6: 13 | N6: 14 | O6: 15 | P6: 16 | Q6: 17 | R6: 18 | S6: 19 | T6: 20 | U6: 21 | V6: 22 | W6: 23 | X6: 24
A7: I | B7: Cấp quản lý đảng viên | C7: =SUM(C8:C11) -> 0 | D7: =SUM(D8:D11) -> 0 | E7: =SUM(E8:E11) -> 0 | F7: =SUM(F8:F11) -> 0 | G7: =SUM(G8:G11) -> 0 | H7: =SUM(H8:H11) -> 0 | I7: =SUM(I8:I11) -> 0 | J7: =SUM(J8:J11) -> 0 | ... X7: =SUM(X8:X11) -> 0 | Y7: =IF(AND(H7<=C7,I7<=C7,J7<=C7,K7<=C7,L7<=C7,M7<=C7,N7<=C7,O7<=C7,P7<=C7,Q7<=C7),"Đúng","Sai") -> Đúng | Z7: =IF(C7=R7+S7+T7+U7,"Đúng","Sai") -> Đúng | AA7: =IF(U7=V7+W7,"Đúng","Sai") -> Đúng | AB7: =IF(X7<=W7,"Đúng","Sai") -> Đúng
B8: Trung ương | C8: =SUM(D8:G8) -> 0 | Y8: =IF(AND(H8<=C8,I8<=C8,J8<=C8,K8<=C8,L8<=C8,M8<=C8,N8<=C8,O8<=C8,P8<=C8,Q8<=C8),"Đúng","Sai") -> Đúng | Z8: =IF(C8=R8+S8+T8+U8,"Đúng","Sai") -> Đúng | AA8: =IF(U8=V8+W8,"Đúng","Sai") -> Đúng | AB8: =IF(X8<=W8,"Đúng","Sai") -> Đúng
B9: Cấp tỉnh và tương đương | C9: =SUM(D9:G9) -> 0 | Y9: =IF(AND(H9<=C9,I9<=C9,J9<=C9,K9<=C9,L9<=C9,M9<=C9,N9<=C9,O9<=C9,P9<=C9,Q9<=C9),"Đúng","Sai") -> Đúng | Z9: =IF(C9=R9+S9+T9+U9,"Đúng","Sai") -> Đúng | AA9: =IF(U9=V9+W9,"Đúng","Sai") -> Đúng | AB9: =IF(X9<=W9,"Đúng","Sai") -> Đúng
B10: Cấp huyện và tương đương | C10: =SUM(D10:G10) -> 0 | Y10: =IF(AND(H10<=C10,I10<=C10,J10<=C10,K10<=C10,L10<=C10,M10<=C10,N10<=C10,O10<=C10,P10<=C10,Q10<=C10),"Đúng","Sai") -> Đúng | Z10: =IF(C10=R10+S10+T10+U10,"Đúng","Sai") -> Đúng | AA10: =IF(U10=V10+W10,"Đúng","Sai") -> Đúng | AB10: =IF(X10<=W10,"Đúng","Sai") -> Đúng
B11: Cấp cơ sở | C11: =SUM(D11:G11) -> 0 | Y11: =IF(AND(H11<=C11,I11<=C11,J11<=C11,K11<=C11,L11<=C11,M11<=C11,N11<=C11,O11<=C11,P11<=C11,Q11<=C11),"Đúng","Sai") -> Đúng | Z11: =IF(C11=R11+S11+T11+U11,"Đúng","Sai") -> Đúng | AA11: =IF(U11=V11+W11,"Đúng","Sai") -> Đúng | AB11: =IF(X11<=W11,"Đúng","Sai") -> Đúng
A12: II | B12: Là cấp uỷ viên các cấp | C12: =SUM(C13:C18) -> 0 | D12: =SUM(D13:D18) -> 0 | E12: =SUM(E13:E18) -> 0 | F12: =SUM(F13:F18) -> 0 | G12: =SUM(G13:G18) -> 0 | H12: =SUM(H13:H18) -> 0 | I12: =SUM(I13:I18) -> 0 | J12: =SUM(J13:J18) -> 0 | ... X12: =SUM(X13:X18) -> 0 | Y12: =IF(AND(H12<=C12,I12<=C12,J12<=C12,K12<=C12,L12<=C12,M12<=C12,N12<=C12,O12<=C12,P12<=C12,Q12<=C12),"Đúng","Sai") -> Đúng | Z12: =IF(C12=R12+S12+T12+U12,"Đúng","Sai") -> Đúng | AA12: =IF(U12=V12+W12,"Đúng","Sai") -> Đúng | AB12: =IF(X12<=W12,"Đúng","Sai") -> Đúng
B13: Uỷ viên Trung ương | C13: =SUM(D13:G13) -> 0 | Y13: =IF(AND(H13<=C13,I13<=C13,J13<=C13,K13<=C13,L13<=C13,M13<=C13,N13<=C13,O13<=C13,P13<=C13,Q13<=C13),"Đúng","Sai") -> Đúng | Z13: =IF(C13=R13+S13+T13+U13,"Đúng","Sai") -> Đúng | AA13: =IF(U13=V13+W13,"Đúng","Sai") -> Đúng | AB13: =IF(X13<=W13,"Đúng","Sai") -> Đúng
B14: Tỉnh uỷ viên và tương đương | C14: =SUM(D14:G14) -> 0 | Y14: =IF(AND(H14<=C14,I14<=C14,J14<=C14,K14<=C14,L14<=C14,M14<=C14,N14<=C14,O14<=C14,P14<=C14,Q14<=C14),"Đúng","Sai") -> Đúng | Z14: =IF(C14=R14+S14+T14+U14,"Đúng","Sai") -> Đúng | AA14: =IF(U14=V14+W14,"Đúng","Sai") -> Đúng | AB14: =IF(X14<=W14,"Đúng","Sai") -> Đúng
B15: Huyện uỷ viên và tương đương | C15: =SUM(D15:G15) -> 0 | Y15: =IF(AND(H15<=C15,I15<=C15,J15<=C15,K15<=C15,L15<=C15,M15<=C15,N15<=C15,O15<=C15,P15<=C15,Q15<=C15),"Đúng","Sai") -> Đúng | Z15: =IF(C15=R15+S15+T15+U15,"Đúng","Sai") -> Đúng | AA15: =IF(U15=V15+W15,"Đúng","Sai") -> Đúng | AB15: =IF(X15<=W15,"Đúng","Sai") -> Đúng
B16: Đảng uỷ viên | C16: =SUM(D16:G16) -> 0 | Y16: =IF(AND(H16<=C16,I16<=C16,J16<=C16,K16<=C16,L16<=C16,M16<=C16,N16<=C16,O16<=C16,P16<=C16,Q16<=C16),"Đúng","Sai") -> Đúng | Z16: =IF(C16=R16+S16+T16+U16,"Đúng","Sai") -> Đúng | AA16: =IF(U16=V16+W16,"Đúng","Sai") -> Đúng | AB16: =IF(X16<=W16,"Đúng","Sai") -> Đúng
B17: Đảng ủy viên đảng ủy bộ phận | C17: =SUM(D17:G17) -> 0 | Y17: =IF(AND(H17<=C17,I17<=C17,J17<=C17,K17<=C17,L17<=C17,M17<=C17,N17<=C17,O17<=C17,P17<=C17,Q17<=C17),"Đúng","Sai") -> Đúng | Z17: =IF(C17=R17+S17+T17+U17,"Đúng","Sai") -> Đúng | AA17: =IF(U17=V17+W17,"Đúng","Sai") -> Đúng | AB17: =IF(X17<=W17,"Đúng","Sai") -> Đúng
B18: Chi uỷ viên | C18: =SUM(D18:G18) -> 0 | Y18: =IF(AND(H18<=C18,I18<=C18,J18<=C18,K18<=C18,L18<=C18,M18<=C18,N18<=C18,O18<=C18,P18<=C18,Q18<=C18),"Đúng","Sai") -> Đúng | Z18: =IF(C18=R18+S18+T18+U18,"Đúng","Sai") -> Đúng | AA18: =IF(U18=V18+W18,"Đúng","Sai") -> Đúng | AB18: =IF(X18<=W18,"Đúng","Sai") -> Đúng
A19: III | B19: Đảng viên ở các lĩnh vực | C19: =SUM(C20:C26) -> 0 | D19: =SUM(D20:D26) -> 0 | E19: =SUM(E20:E26) -> 0 | F19: =SUM(F20:F26) -> 0 | G19: =SUM(G20:G26) -> 0 | H19: =SUM(H20:H26) -> 0 | I19: =SUM(I20:I26) -> 0 | J19: =SUM(J20:J26) -> 0 | ... X19: =SUM(X20:X26) -> 0 | Y19: =IF(AND(H19<=C19,I19<=C19,J19<=C19,K19<=C19,L19<=C19,M19<=C19,N19<=C19,O19<=C19,P19<=C19,Q19<=C19),"Đúng","Sai") -> Đúng | Z19: =IF(C19=R19+S19+T19+U19,"Đúng","Sai") -> Đúng | AA19: =IF(U19=V19+W19,"Đúng","Sai") -> Đúng | AB19: =IF(X19<=W19,"Đúng","Sai") -> Đúng
B20: Đảng | C20: =SUM(D20:G20) -> 0 | Y20: =IF(AND(H20<=C20,I20<=C20,J20<=C20,K20<=C20,L20<=C20,M20<=C20,N20<=C20,O20<=C20,P20<=C20,Q20<=C20),"Đúng","Sai") -> Đúng | Z20: =IF(C20=R20+S20+T20+U20,"Đúng","Sai") -> Đúng | AA20: =IF(U20=V20+W20,"Đúng","Sai") -> Đúng | AB20: =IF(X20<=W20,"Đúng","Sai") -> Đúng
B21: Hành chính, Nhà nước | C21: =SUM(D21:G21) -> 0 | Y21: =IF(AND(H21<=C21,I21<=C21,J21<=C21,K21<=C21,L21<=C21,M21<=C21,N21<=C21,O21<=C21,P21<=C21,Q21<=C21),"Đúng","Sai") -> Đúng | Z21: =IF(C21=R21+S21+T21+U21,"Đúng","Sai") -> Đúng | AA21: =IF(U21=V21+W21,"Đúng","Sai") -> Đúng | AB21: =IF(X21<=W21,"Đúng","Sai") -> Đúng
B22: Đoàn thể | C22: =SUM(D22:G22) -> 0 | Y22: =IF(AND(H22<=C22,I22<=C22,J22<=C22,K22<=C22,L22<=C22,M22<=C22,N22<=C22,O22<=C22,P22<=C22,Q22<=C22),"Đúng","Sai") -> Đúng | Z22: =IF(C22=R22+S22+T22+U22,"Đúng","Sai") -> Đúng | AA22: =IF(U22=V22+W22,"Đúng","Sai") -> Đúng | AB22: =IF(X22<=W22,"Đúng","Sai") -> Đúng
B23: Lực lượng vũ trang | C23: =SUM(D23:G23) -> 0 | Y23: =IF(AND(H23<=C23,I23<=C23,J23<=C23,K23<=C23,L23<=C23,M23<=C23,N23<=C23,O23<=C23,P23<=C23,Q23<=C23),"Đúng","Sai") -> Đúng | Z23: =IF(C23=R23+S23+T23+U23,"Đúng","Sai") -> Đúng | AA23: =IF(U23=V23+W23,"Đúng","Sai") -> Đúng | AB23: =IF(X23<=W23,"Đúng","Sai") -> Đúng
B24: Sự nghiệp công lập | C24: =SUM(D24:G24) -> 0 | Y24: =IF(AND(H24<=C24,I24<=C24,J24<=C24,K24<=C24,L24<=C24,M24<=C24,N24<=C24,O24<=C24,P24<=C24,Q24<=C24),"Đúng","Sai") -> Đúng | Z24: =IF(C24=R24+S24+T24+U24,"Đúng","Sai") -> Đúng | AA24: =IF(U24=V24+W24,"Đúng","Sai") -> Đúng | AB24: =IF(X24<=W24,"Đúng","Sai") -> Đúng
B25: Sản xuất kinh doanh, dịch vụ | C25: =SUM(D25:G25) -> 0 | Y25: =IF(AND(H25<=C25,I25<=C25,J25<=C25,K25<=C25,L25<=C25,M25<=C25,N25<=C25,O25<=C25,P25<=C25,Q25<=C25),"Đúng","Sai") -> Đúng | Z25: =IF(C25=R25+S25+T25+U25,"Đúng","Sai") -> Đúng | AA25: =IF(U25=V25+W25,"Đúng","Sai") -> Đúng | AB25: =IF(X25<=W25,"Đúng","Sai") -> Đúng
B26: Các lĩnh vực khác | C26: =SUM(D26:G26) -> 0 | Y26: =IF(AND(H26<=C26,I26<=C26,J26<=C26,K26<=C26,L26<=C26,M26<=C26,N26<=C26,O26<=C26,P26<=C26,Q26<=C26),"Đúng","Sai") -> Đúng | Z26: =IF(C26=R26+S26+T26+U26,"Đúng","Sai") -> Đúng | AA26: =IF(U26=V26+W26,"Đúng","Sai") -> Đúng | AB26: =IF(X26<=W26,"Đúng","Sai") -> Đúng
A27: IV | B27: Kết luận | C27: =SUM(C28:C31) -> 0 | D27: =SUM(D28:D31) -> 0 | E27: =SUM(E28:E31) -> 0 | F27: =SUM(F28:F31) -> 0 | G27: =SUM(G28:G31) -> 0 | H27: =SUM(H28:H31) -> 0 | I27: =SUM(I28:I31) -> 0 | J27: =SUM(J28:J31) -> 0 | ... Q27: =SUM(Q28:Q31) -> 0
B28: Cho rút đơn, không xem xét giải quyết | C28: =SUM(D28:G28) -> 0
B29: Chưa có cơ sở kết luận | C29: =SUM(D29:G29) -> 0
B30: Tố sai | C30: =SUM(D30:G30) -> 0
B31: Tố đúng và đúng một phần | C31: =SUM(D31:G31) -> 0
B32: Đúng có vi phạm nhưng chưa đến mức phải kỷ luật | C32: =SUM(D32:G32) -> 0
B33: Phải thi hành kỷ luật | C33: =SUM(D33:G33) -> 0
B34: Đã thi hành kỷ luật | C34: =SUM(D34:G34) -> 0
B35: GQ đúng thời gian quy định | C35: =SUM(D35:G35) -> 0
C37: =IF(AND(C7=C27,C19=C27), "Đúng","Sai") -> Đúng | D37: =IF(D7=D27, "Đúng","Sai") -> Đúng | E37: =IF(E7=E27, "Đúng","Sai") -> Đúng | F37: =IF(F7=F27, "Đúng","Sai") -> Đúng | G37: =IF(G7=G27, "Đúng","Sai") -> Đúng | H37: =IF(H7=H27, "Đúng","Sai") -> Đúng | I37: =IF(I7=I27, "Đúng","Sai") -> Đúng | J37: =IF(J7=J27, "Đúng","Sai") -> Đúng | K37: =IF(K7=K27, "Đúng","Sai") -> Đúng | ... Q37: =IF(Q7=Q27, "Đúng","Sai") -> Đúng | R37: =IF(R7=R19, "Đúng","Sai") -> Đúng | S37: =IF(S7=S19, "Đúng","Sai") -> Đúng | T37: =IF(T7=T19, "Đúng","Sai") -> Đúng | U37: =IF(U7=U19, "Đúng","Sai") -> Đúng | V37: =IF(V7=V19, "Đúng","Sai") -> Đúng | W37: =IF(W7=W19, "Đúng","Sai") -> Đúng | X37: =IF(X7=X19, "Đúng","Sai") -> Đúng
C38: =IF(C31=C32+C33,"Đúng","Sai") -> Đúng | D38: =IF(D31=D32+D33,"Đúng","Sai") -> Đúng | E38: =IF(E31=E32+E33,"Đúng","Sai") -> Đúng | F38: =IF(F31=F32+F33,"Đúng","Sai") -> Đúng | G38: =IF(G31=G32+G33,"Đúng","Sai") -> Đúng | H38: =IF(H31=H32+H33,"Đúng","Sai") -> Đúng | I38: =IF(I31=I32+I33,"Đúng","Sai") -> Đúng | J38: =IF(J31=J32+J33,"Đúng","Sai") -> Đúng | ... Q38: =IF(Q31=Q32+Q33,"Đúng","Sai") -> Đúng
C39: =IF(C34<=C33,"Đúng","Sai") -> Đúng | D39: =IF(D34<=D33,"Đúng","Sai") -> Đúng | E39: =IF(E34<=E33,"Đúng","Sai") -> Đúng | F39: =IF(F34<=F33,"Đúng","Sai") -> Đúng | G39: =IF(G34<=G33,"Đúng","Sai") -> Đúng | H39: =IF(H34<=H33,"Đúng","Sai") -> Đúng | I39: =IF(I34<=I33,"Đúng","Sai") -> Đúng | J39: =IF(J34<=J33,"Đúng","Sai") -> Đúng | ... Q39: =IF(Q34<=Q33,"Đúng","Sai") -> Đúng
C40: =IF(C35<=C7,"Đúng","Sai") -> Đúng | D40: =IF(D35<=D7,"Đúng","Sai") -> Đúng | E40: =IF(E35<=E7,"Đúng","Sai") -> Đúng | F40: =IF(F35<=F7,"Đúng","Sai") -> Đúng | G40: =IF(G35<=G7,"Đúng","Sai") -> Đúng | H40: =IF(H35<=H7,"Đúng","Sai") -> Đúng | I40: =IF(I35<=I7,"Đúng","Sai") -> Đúng | J40: =IF(J35<=J7,"Đúng","Sai") -> Đúng | ... Q40: =IF(Q35<=Q7,"Đúng","Sai") -> Đúng
C41: =IF(R19=C28, "Đúng","Sai") -> Đúng
C42: =IF(S19=C29, "Đúng","Sai") -> Đúng
C43: =IF(T19=C30, "Đúng","Sai") -> Đúng
C44: =IF(U19=C31, "Đúng","Sai") -> Đúng
C45: =IF(V19=C32, "Đúng","Sai") -> Đúng
C46: =IF(W19=C33, "Đúng","Sai") -> Đúng
C47: =IF(X19=C34, "Đúng","Sai") -> Đúng

Sheet B20
A1: GIẢI QUYẾT TỐ CÁO TỔ CHỨC ĐẢNG CỦA ỦY BAN KIỂM TRA CÁC CẤP | S1: Biểu 20
O2: (ĐVT: Lượt giải quyết tố cáo Tổ chức đảng)
A3: TT | B3: Tổ chức đảng bị tố cáo | C3: Tổng số tổ chức đảng bị tố cáo đã giải quyết xong | D3: Cấp giải quyết | H3: Nội dung tố cáo | O3: Kết luận
D4: UBKT Trung ương | E4: UBKT tỉnh uỷ và tương đương | F4: UBKT huyện uỷ và tương đương | G4: UBKT đảng uỷ cơ sở | H4: Việc chấp hành Cương lĩnh chính trị, Điều lệ Đảng, chủ trương, nghị quyết, chỉ thị, quy định, quy chế, kết luận của Đảng | I4: Việc chấp hành chính sách, pháp luật của Nhà nước | J4: Các nguyên tắc tổ chức và hoạt động của Đảng | K4: Đoàn kết nội bộ | L4: Việc thực hành tiết kiệm, phòng, chống tham nhũng, lãng phí, tiêu cực | M4: Công tác cán bộ | N4: Khác | O4: Không xem xét, giải quyết | P4: Chưa có cơ sở kết luận | Q4: Tố sai | R4: Tố đúng và đúng một phần | S4: Trong đó
S5: Tố đúng, có vi phạm chưa đến mức phải kỷ luật | T5: Phải thi hành kỷ luật | U5: Đã thi hành kỷ luật
A6: 1 | B6: 2 | C6: 3 | D6: 4 | E6: 5 | F6: 6 | G6: 7 | H6: 8 | I6: 9 | J6: 10 | K6: 11 | L6: 12 | M6: 13 | N6: 14 | O6: 15 | P6: 16 | Q6: 17 | R6: 18 | S6: 19 | T6: 20 | U6: 21
A7: I | B7: Tổng số TCĐ bị tố cáo | C7: =SUM(C8:C15) -> 0 | D7: =SUM(D8:D15) -> 0 | E7: =SUM(E8:E15) -> 0 | F7: =SUM(F8:F15) -> 0 | G7: =SUM(G8:G15) -> 0 | H7: =SUM(H8:H15) -> 0 | I7: =SUM(I8:I15) -> 0 | J7: =SUM(J8:J15) -> 0 | ... U7: =SUM(U8:U15) -> 0 | V7: =IF(AND(H7<=C7,I7<=C7,J7<=C7,K7<=C7,L7<=C7,M7<=C7,N7<=C7),"Đúng","Sai") -> Đúng | W7: =IF(C7=O7+P7+Q7+R7,"Đúng","Sai") -> Đúng | X7: =IF(R7=S7+T7,"Đúng","Sai") -> Đúng | Y7: =IF(AND(U7<=T7),"Đúng","Sai") -> Đúng
B8: BCS đảng, đảng đoàn ở Trung ương | C8: =SUM(D8:G8) -> 0 | V8: =IF(AND(H8<=C8,I8<=C8,J8<=C8,K8<=C8,L8<=C8,M8<=C8,N8<=C8),"Đúng","Sai") -> Đúng | W8: =IF(C8=O8+P8+Q8+R8,"Đúng","Sai") -> Đúng | X8: =IF(R8=S8+T8,"Đúng","Sai") -> Đúng | Y8: =IF(AND(U8<=T8),"Đúng","Sai") -> Đúng
B9: Tỉnh ủy, BTV tỉnh ủy, thường trực tỉnh ủy và tương đương | C9: =SUM(D9:G9) -> 0 | V9: =IF(AND(H9<=C9,I9<=C9,J9<=C9,K9<=C9,L9<=C9,M9<=C9,N9<=C9),"Đúng","Sai") -> Đúng | W9: =IF(C9=O9+P9+Q9+R9,"Đúng","Sai") -> Đúng | X9: =IF(R9=S9+T9,"Đúng","Sai") -> Đúng | Y9: =IF(AND(U9<=T9),"Đúng","Sai") -> Đúng
B10: BCS đảng, đảng đoàn cấp tỉnh và tương đương | C10: =SUM(D10:G10) -> 0 | V10: =IF(AND(H10<=C10,I10<=C10,J10<=C10,K10<=C10,L10<=C10,M10<=C10,N10<=C10),"Đúng","Sai") -> Đúng | W10: =IF(C10=O10+P10+Q10+R10,"Đúng","Sai") -> Đúng | X10: =IF(R10=S10+T10,"Đúng","Sai") -> Đúng | Y10: =IF(AND(U10<=T10),"Đúng","Sai") -> Đúng
B11: Huyện ủy, BTV huyện ủy, thường trực huyện ủy và tương đương | C11: =SUM(D11:G11) -> 0 | V11: =IF(AND(H11<=C11,I11<=C11,J11<=C11,K11<=C11,L11<=C11,M11<=C11,N11<=C11),"Đúng","Sai") -> Đúng | W11: =IF(C11=O11+P11+Q11+R11,"Đúng","Sai") -> Đúng | X11: =IF(R11=S11+T11,"Đúng","Sai") -> Đúng | Y11: =IF(AND(U11<=T11),"Đúng","Sai") -> Đúng
B12: Đảng ủy, BTV đảng ủy cơ sở | C12: =SUM(D12:G12) -> 0 | V12: =IF(AND(H12<=C12,I12<=C12,J12<=C12,K12<=C12,L12<=C12,M12<=C12,N12<=C12),"Đúng","Sai") -> Đúng | W12: =IF(C12=O12+P12+Q12+R12,"Đúng","Sai") -> Đúng | X12: =IF(R12=S12+T12,"Đúng","Sai") -> Đúng | Y12: =IF(AND(U12<=T12),"Đúng","Sai") -> Đúng
B13: Đảng ủy bộ phận | C13: =SUM(D13:G13) -> 0 | V13: =IF(AND(H13<=C13,I13<=C13,J13<=C13,K13<=C13,L13<=C13,M13<=C13,N13<=C13),"Đúng","Sai") -> Đúng | W13: =IF(C13=O13+P13+Q13+R13,"Đúng","Sai") -> Đúng | X13: =IF(R13=S13+T13,"Đúng","Sai") -> Đúng | Y13: =IF(AND(U13<=T13),"Đúng","Sai") -> Đúng
B14: Chi bộ, Chi ủy | C14: =SUM(D14:G14) -> 0 | V14: =IF(AND(H14<=C14,I14<=C14,J14<=C14,K14<=C14,L14<=C14,M14<=C14,N14<=C14),"Đúng","Sai") -> Đúng | W14: =IF(C14=O14+P14+Q14+R14,"Đúng","Sai") -> Đúng | X14: =IF(R14=S14+T14,"Đúng","Sai") -> Đúng | Y14: =IF(AND(U14<=T14),"Đúng","Sai") -> Đúng
B15: Khác (tiểu ban, hội đồng, tổ đảng...) | C15: =SUM(D15:G15) -> 0 | V15: =IF(AND(H15<=C15,I15<=C15,J15<=C15,K15<=C15,L15<=C15,M15<=C15,N15<=C15),"Đúng","Sai") -> Đúng | W15: =IF(C15=O15+P15+Q15+R15,"Đúng","Sai") -> Đúng | X15: =IF(R15=S15+T15,"Đúng","Sai") -> Đúng | Y15: =IF(AND(U15<=T15),"Đúng","Sai") -> Đúng
A16: II | B16: Kết luận giải quyết tố cáo | C16: =SUM(D16:G16) -> 0 | D16: =SUM(D17:D20) -> 0 | E16: =SUM(E17:E20) -> 0 | F16: =SUM(F17:F20) -> 0 | G16: =SUM(G17:G20) -> 0 | H16: =SUM(H17:H20) -> 0 | I16: =SUM(I17:I20) -> 0 | J16: =SUM(J17:J20) -> 0 | K16: =SUM(K17:K20) -> 0 | ... N16: =SUM(N17:N20) -> 0
B17: Không xem xét giải quyết | C17: =SUM(D17:G17) -> 0 | V17: =IF(AND(H17<=C17,I17<=C17,J17<=C17,K17<=C17,L17<=C17,M17<=C17,N17<=C17),"Đúng","Sai") -> Đúng
B18: Chưa có cơ sở kết luận | C18: =SUM(D18:G18) -> 0 | V18: =IF(AND(H18<=C18,I18<=C18,J18<=C18,K18<=C18,L18<=C18,M18<=C18,N18<=C18),"Đúng","Sai") -> Đúng
B19: Tố sai | C19: =SUM(D19:G19) -> 0 | V19: =IF(AND(H19<=C19,I19<=C19,J19<=C19,K19<=C19,L19<=C19,M19<=C19,N19<=C19),"Đúng","Sai") -> Đúng
B20: Tố đúng và đúng một phần | C20: =SUM(D20:G20) -> 0 | V20: =IF(AND(H20<=C20,I20<=C20,J20<=C20,K20<=C20,L20<=C20,M20<=C20,N20<=C20),"Đúng","Sai") -> Đúng
B21: Đúng có vi phạm chưa đến mức phải kỷ luật | C21: =SUM(D21:G21) -> 0 | V21: =IF(AND(H21<=C21,I21<=C21,J21<=C21,K21<=C21,L21<=C21,M21<=C21,N21<=C21),"Đúng","Sai") -> Đúng
B22: Phải thi hành kỷ luật | C22: =SUM(D22:G22) -> 0 | V22: =IF(AND(H22<=C22,I22<=C22,J22<=C22,K22<=C22,L22<=C22,M22<=C22,N22<=C22),"Đúng","Sai") -> Đúng
B23: Đã thi hành kỷ luật | C23: =SUM(D23:G23) -> 0 | V23: =IF(AND(H23<=C23,I23<=C23,J23<=C23,K23<=C23,L23<=C23,M23<=C23,N23<=C23),"Đúng","Sai") -> Đúng
B24: Giải quyết đúng thời gian quy định | C24: =SUM(D24:G24) -> 0 | V24: =IF(AND(H24<=C24,I24<=C24,J24<=C24,K24<=C24,L24<=C24,M24<=C24,N24<=C24),"Đúng","Sai") -> Đúng
C26: =IF(C7=C16,"Đúng","Sai") -> Đúng | D26: =IF(D7=D16,"Đúng","Sai") -> Đúng | E26: =IF(E7=E16,"Đúng","Sai") -> Đúng | F26: =IF(F7=F16,"Đúng","Sai") -> Đúng | G26: =IF(G7=G16,"Đúng","Sai") -> Đúng | H26: =IF(H7=H16,"Đúng","Sai") -> Đúng | I26: =IF(I7=I16,"Đúng","Sai") -> Đúng | J26: =IF(J7=J16,"Đúng","Sai") -> Đúng | ... N26: =IF(N7=N16,"Đúng","Sai") -> Đúng
C27: =IF(C20=C21+C22,"Đúng","Sai") -> Đúng | D27: =IF(D20=D21+D22,"Đúng","Sai") -> Đúng | E27: =IF(E20=E21+E22,"Đúng","Sai") -> Đúng | F27: =IF(F20=F21+F22,"Đúng","Sai") -> Đúng | G27: =IF(G20=G21+G22,"Đúng","Sai") -> Đúng | H27: =IF(H20=H21+H22,"Đúng","Sai") -> Đúng | I27: =IF(I20=I21+I22,"Đúng","Sai") -> Đúng | J27: =IF(J20=J21+J22,"Đúng","Sai") -> Đúng | ... N27: =IF(N20=N21+N22,"Đúng","Sai") -> Đúng
C28: =IF(C23<=C22,"Đúng","Sai") -> Đúng | D28: =IF(D23<=D22,"Đúng","Sai") -> Đúng | E28: =IF(E23<=E22,"Đúng","Sai") -> Đúng | F28: =IF(F23<=F22,"Đúng","Sai") -> Đúng | G28: =IF(G23<=G22,"Đúng","Sai") -> Đúng | H28: =IF(H23<=H22,"Đúng","Sai") -> Đúng | I28: =IF(I23<=I22,"Đúng","Sai") -> Đúng | J28: =IF(J23<=J22,"Đúng","Sai") -> Đúng | ... N28: =IF(N23<=N22,"Đúng","Sai") -> Đúng
C29: =IF(C24<=C7,"Đúng","Sai") -> Đúng | D29: =IF(D24<=D7,"Đúng","Sai") -> Đúng | E29: =IF(E24<=E7,"Đúng","Sai") -> Đúng | F29: =IF(F24<=F7,"Đúng","Sai") -> Đúng | G29: =IF(G24<=G7,"Đúng","Sai") -> Đúng | H29: =IF(H24<=H7,"Đúng","Sai") -> Đúng | I29: =IF(I24<=I7,"Đúng","Sai") -> Đúng | J29: =IF(J24<=J7,"Đúng","Sai") -> Đúng | ... N29: =IF(N24<=N7,"Đúng","Sai") -> Đúng
C30: =IF(O7=C17,"Đúng","Sai") -> Đúng
C31: =IF(P7=C18,"Đúng","Sai") -> Đúng
C32: =IF(Q7=C19,"Đúng","Sai") -> Đúng
C33: =IF(R7=C20,"Đúng","Sai") -> Đúng
C34: =IF(S7=C21,"Đúng","Sai") -> Đúng
C35: =IF(T7=C22,"Đúng","Sai") -> Đúng
C36: =IF(U7=C23,"Đúng","Sai") -> Đúng

Sheet B21
A1: GIẢI QUYẾT KHIẾU NẠI KỶ LUẬT ĐẢNG VIÊN CỦA ỦY BAN KIỂM TRA CÁC CẤP | Q1: Biểu 21
Q2: (ĐVT: Đảng viên)
A3: TT | B3: Đảng viên khiếu nại kỷ luật | C3: Tổng số đã giải quyết xong | D3: Cấp giải quyết | H3: Nội dung khiếu nại | K3: Kết luận
D4: UBKT Trung ương | E4: UBKT tỉnh uỷ và tương đương | F4: UBKT huyện uỷ và tương đương | G4: UBKT đảng ủy cơ sở | H4: Nội dung vi phạm | I4: Hình thức kỷ luật | J4: Nguyên tắc, thủ tục, quy trình, thẩm quyền | K4: Cho rút đơn, không xem xét, giải quyết | L4: Giữ nguyên hình thức kỷ luật | M4: Thay đổi hình thức kỷ luật | N4: Trong đó | Q4: Nguyên nhân thay đổi hình thức kỷ luật
N5: Tăng hình thức kỷ luật | O5: Giảm hình thức kỷ luật | P5: Xoá kỷ luật | Q5: Vận dụng phương hướng, phương châm thi hành kỷ luật | R5: Thẩm tra, xác minh | S5: Khác
A6: 1 | B6: 2 | C6: 3 | D6: 4 | E6: 5 | F6: 6 | G6: 7 | H6: 8 | I6: 9 | J6: 10 | K6: 11 | L6: 12 | M6: 13 | N6: 14 | O6: 15 | P6: 16 | Q6: 17 | R6: 18 | S6: 19
A7: I | B7: Cấp quyết định kỷ luật | C7: =SUM(C8:C16) -> 0 | D7: =SUM(D8:D16) -> 0 | E7: =SUM(E8:E16) -> 0 | F7: =SUM(F8:F16) -> 0 | G7: =SUM(G8:G16) -> 0 | H7: =SUM(H8:H16) -> 0 | I7: =SUM(I8:I16) -> 0 | J7: =SUM(J8:J16) -> 0 | ... S7: =SUM(S8:S16) -> 0 | T7: =IF(AND(H7<=C7,I7<=C7,J7<=C7),"Đúng","Sai") -> Đúng | U7: =IF(C7=K7+L7+M7,"Đúng","Sai") -> Đúng | V7: =IF(M7=N7+O7+P7,"Đúng","Sai") -> Đúng
B8: Tỉnh ủy và tương đương | C8: =SUM(D8:G8) -> 0 | T8: =IF(AND(H8<=C8,I8<=C8,J8<=C8),"Đúng","Sai") -> Đúng | U8: =IF(C8=K8+L8+M8,"Đúng","Sai") -> Đúng | V8: =IF(M8=N8+O8+P8,"Đúng","Sai") -> Đúng
B9: BTV tỉnh ủy và tương đương | C9: =SUM(D9:G9) -> 0 | T9: =IF(AND(H9<=C9,I9<=C9,J9<=C9),"Đúng","Sai") -> Đúng | U9: =IF(C9=K9+L9+M9,"Đúng","Sai") -> Đúng | V9: =IF(M9=N9+O9+P9,"Đúng","Sai") -> Đúng
B10: UBKT tỉnh uỷ và tương đương | C10: =SUM(D10:G10) -> 0 | T10: =IF(AND(H10<=C10,I10<=C10,J10<=C10),"Đúng","Sai") -> Đúng | U10: =IF(C10=K10+L10+M10,"Đúng","Sai") -> Đúng | V10: =IF(M10=N10+O10+P10,"Đúng","Sai") -> Đúng
B11: Huyện ủy và tương đương | C11: =SUM(D11:G11) -> 0 | T11: =IF(AND(H11<=C11,I11<=C11,J11<=C11),"Đúng","Sai") -> Đúng | U11: =IF(C11=K11+L11+M11,"Đúng","Sai") -> Đúng | V11: =IF(M11=N11+O11+P11,"Đúng","Sai") -> Đúng
B12: BTV huyện ủy và tương đương | C12: =SUM(D12:G12) -> 0 | T12: =IF(AND(H12<=C12,I12<=C12,J12<=C12),"Đúng","Sai") -> Đúng | U12: =IF(C12=K12+L12+M12,"Đúng","Sai") -> Đúng | V12: =IF(M12=N12+O12+P12,"Đúng","Sai") -> Đúng
B13: UBKT huyện ủy và tương đương | C13: =SUM(D13:G13) -> 0 | T13: =IF(AND(H13<=C13,I13<=C13,J13<=C13),"Đúng","Sai") -> Đúng | U13: =IF(C13=K13+L13+M13,"Đúng","Sai") -> Đúng | V13: =IF(M13=N13+O13+P13,"Đúng","Sai") -> Đúng
B14: Đảng ủy cơ sở | C14: =SUM(D14:G14) -> 0 | T14: =IF(AND(H14<=C14,I14<=C14,J14<=C14),"Đúng","Sai") -> Đúng | U14: =IF(C14=K14+L14+M14,"Đúng","Sai") -> Đúng | V14: =IF(M14=N14+O14+P14,"Đúng","Sai") -> Đúng
B15: UBKT Đảng ủy cơ sở | C15: =SUM(D15:G15) -> 0 | T15: =IF(AND(H15<=C15,I15<=C15,J15<=C15),"Đúng","Sai") -> Đúng | U15: =IF(C15=K15+L15+M15,"Đúng","Sai") -> Đúng | V15: =IF(M15=N15+O15+P15,"Đúng","Sai") -> Đúng
B16: Chi bộ | C16: =SUM(D16:G16) -> 0 | T16: =IF(AND(H16<=C16,I16<=C16,J16<=C16),"Đúng","Sai") -> Đúng | U16: =IF(C16=K16+L16+M16,"Đúng","Sai") -> Đúng | V16: =IF(M16=N16+O16+P16,"Đúng","Sai") -> Đúng
A17: II | B17: Cấp quản lý đảng viên | C17: =SUM(C18:C21) -> 0 | D17: =SUM(D18:D21) -> 0 | E17: =SUM(E18:E21) -> 0 | F17: =SUM(F18:F21) -> 0 | G17: =SUM(G18:G21) -> 0 | H17: =SUM(H18:H21) -> 0 | I17: =SUM(I18:I21) -> 0 | J17: =SUM(J18:J21) -> 0 | ... S17: =SUM(S18:S21) -> 0 | T17: =IF(AND(H17<=C17,I17<=C17,J17<=C17),"Đúng","Sai") -> Đúng | U17: =IF(C17=K17+L17+M17,"Đúng","Sai") -> Đúng | V17: =IF(M17=N17+O17+P17,"Đúng","Sai") -> Đúng
B18: Trung ương | C18: =SUM(D18:G18) -> 0 | T18: =IF(AND(H18<=C18,I18<=C18,J18<=C18),"Đúng","Sai") -> Đúng | U18: =IF(C18=K18+L18+M18,"Đúng","Sai") -> Đúng | V18: =IF(M18=N18+O18+P18,"Đúng","Sai") -> Đúng
B19: Cấp tỉnh và tương đương | C19: =SUM(D19:G19) -> 0 | T19: =IF(AND(H19<=C19,I19<=C19,J19<=C19),"Đúng","Sai") -> Đúng | U19: =IF(C19=K19+L19+M19,"Đúng","Sai") -> Đúng | V19: =IF(M19=N19+O19+P19,"Đúng","Sai") -> Đúng
B20: Cấp huyện và tương đương | C20: =SUM(D20:G20) -> 0 | T20: =IF(AND(H20<=C20,I20<=C20,J20<=C20),"Đúng","Sai") -> Đúng | U20: =IF(C20=K20+L20+M20,"Đúng","Sai") -> Đúng | V20: =IF(M20=N20+O20+P20,"Đúng","Sai") -> Đúng
B21: Cấp cơ sở | C21: =SUM(D21:G21) -> 0 | T21: =IF(AND(H21<=C21,I21<=C21,J21<=C21),"Đúng","Sai") -> Đúng | U21: =IF(C21=K21+L21+M21,"Đúng","Sai") -> Đúng | V21: =IF(M21=N21+O21+P21,"Đúng","Sai") -> Đúng
B22: GQ đúng thời gian quy định | C22: =SUM(D22:G22) -> 0
C24: =IF(C7=C17, "Đúng","Sai") -> Đúng | D24: =IF(D7=D17, "Đúng","Sai") -> Đúng | E24: =IF(E7=E17, "Đúng","Sai") -> Đúng | F24: =IF(F7=F17, "Đúng","Sai") -> Đúng | G24: =IF(G7=G17, "Đúng","Sai") -> Đúng | H24: =IF(H7=H17, "Đúng","Sai") -> Đúng | I24: =IF(I7=I17, "Đúng","Sai") -> Đúng | J24: =IF(J7=J17, "Đúng","Sai") -> Đúng | ... S24: =IF(S7=S17, "Đúng","Sai") -> Đúng
C25: =IF(C22<=C7,"Đúng","Sai") -> Đúng | D25: =IF(D22<=D7,"Đúng","Sai") -> Đúng | E25: =IF(E22<=E7,"Đúng","Sai") -> Đúng | F25: =IF(F22<=F7,"Đúng","Sai") -> Đúng | G25: =IF(G22<=G7,"Đúng","Sai") -> Đúng

Sheet B22
A1: KIỂM TRA TÀI CHÍNH ĐẢNG (VỀ THU CHI NGÂN SÁCH VÀ SẢN XUẤT KINH DOANH) | AC1: Biểu 22
A3: TT | B3: Tổ chức đảng được kiểm tra | C3: Tổng số tổ chức đảng được kiểm tra | D3: Cấp kiểm tra (ĐVT: TCĐ) | H3: Nội dung kiểm tra (ĐVT: TCĐ) | N3: Kết luận
N4: Số TCĐ có vi phạm | O4: Số có vi phạm nhưng chưa đến mức phải kỷ luật | P4: Số có vi phạm phải thi hành kỷ luật | Q4: Số có vi phạm đã thi hành kỷ luật | R4: Nội dung vi phạm | AB4: Đảng viên có vi phạm (ĐVT: đảng viên)
D5: UBKT Trung ương | E5: UBKT tỉnh uỷ và tương đương | F5: UBKT huyện uỷ và tương đương | G5: UBKT đảng ủy cơ sở | H5: Tài chính của cấp ủy | I5: Tài chính của đơn vị hành chính | J5: Tài chính của đơn vị sự nghiệp | K5: Sản xuất kinh doanh | L5: Xây dựng cơ bản, sửa chữa, mua sắm tài sản | M5: Các nội dung khác | R5: Trong công tác tham mưu, thực hiện quy định, chính sách | S5: Trong công tác chỉ đạo, hướng dẫn, kiểm tra tài chính cấp dưới | T5: Trong chi tiêu, quản lý tài chính | U5: Trong công tác hạch toán, kế toán | V5: Trong đó | AB5: Tổng số | AC5: Có vi phạm chưa đến mức phải kỷ luật | AD5: Phải thi hành kỷ luật | AE5: Đã thi hành kỷ luật | AF5: Chuyển cơ quan pháp luật xử lý
V6: Số tiền vi phạm (ĐVT: Triệu đồng) | Y6: Đề nghị xử lý (ĐVT: Triệu đồng)
V7: Tham ô, thất thoát, lãng phí | W7: Để ngoài sổ sách, sai chế độ | X7: Các vi phạm khác | Y7: Thu hồi, yêu cầu bồi thường | Z7: Xuất toán, hạch toán lại | AA7: Khác
A8: 1 | B8: 2 | C8: 3 | D8: 4 | E8: 5 | F8: 6 | G8: 7 | H8: 8 | I8: 9 | J8: 10 | K8: 11 | L8: 12 | M8: 13 | N8: 14 | O8: 15 | P8: 16 | Q8: 17 | R8: 18 | S8: 19 | T8: 20 | U8: 21 | V8: 22 | W8: 23 | X8: 24 | Y8: 25 | Z8: 26 | AA8: 27 | AB8: 28 | AC8: 29 | AD8: 30 | AE8: 31 | AF8: 32
B9: Văn phòng Trung ương | C9: =SUM(D9:G9) -> 0 | N9: =SUM(O9:P9) -> 0 | AB9: =SUM(AC9:AD9) -> 0 | AG9: =IF(N9=O9+P9,"Đúng","Sai") -> Đúng | AH9: =IF(AND(R9<=N9,S9<=N9,T9<=N9,U9<=N9),"Đúng","Sai") -> Đúng | AI9: =IF(AB9=AC9+AD9,"Đúng","Sai") -> Đúng | AJ9: =IF(AE9<=AD9,"Đúng","Sai") -> Đúng
B10: Đơn vị dự toán ngân sách cấp dưới trực thuộc của Trung ương | C10: =SUM(D10:G10) -> 0 | N10: =SUM(O10:P10) -> 0 | AB10: =SUM(AC10:AD10) -> 0 | AG10: =IF(N10=O10+P10,"Đúng","Sai") -> Đúng | AH10: =IF(AND(R10<=N10,S10<=N10,T10<=N10,U10<=N10),"Đúng","Sai") -> Đúng | AI10: =IF(AB10=AC10+AD10,"Đúng","Sai") -> Đúng | AJ10: =IF(AE10<=AD10,"Đúng","Sai") -> Đúng
B11: Doanh nghiệp của Đảng ở Trung ương | C11: =SUM(D11:G11) -> 0 | N11: =SUM(O11:P11) -> 0 | AB11: =SUM(AC11:AD11) -> 0 | AG11: =IF(N11=O11+P11,"Đúng","Sai") -> Đúng | AH11: =IF(AND(R11<=N11,S11<=N11,T11<=N11,U11<=N11),"Đúng","Sai") -> Đúng | AI11: =IF(AB11=AC11+AD11,"Đúng","Sai") -> Đúng | AJ11: =IF(AE11<=AD11,"Đúng","Sai") -> Đúng
B12: Tỉnh ủy, BTV tỉnh ủy và tương đương | C12: =SUM(D12:G12) -> 0 | N12: =SUM(O12:P12) -> 0 | AB12: =SUM(AC12:AD12) -> 0 | AG12: =IF(N12=O12+P12,"Đúng","Sai") -> Đúng | AH12: =IF(AND(R12<=N12,S12<=N12,T12<=N12,U12<=N12),"Đúng","Sai") -> Đúng | AI12: =IF(AB12=AC12+AD12,"Đúng","Sai") -> Đúng | AJ12: =IF(AE12<=AD12,"Đúng","Sai") -> Đúng
B13: Cơ quan tài chính tỉnh ủy và tương đương | C13: =SUM(D13:G13) -> 0 | N13: =SUM(O13:P13) -> 0 | AB13: =SUM(AC13:AD13) -> 0 | AG13: =IF(N13=O13+P13,"Đúng","Sai") -> Đúng | AH13: =IF(AND(R13<=N13,S13<=N13,T13<=N13,U13<=N13),"Đúng","Sai") -> Đúng | AI13: =IF(AB13=AC13+AD13,"Đúng","Sai") -> Đúng | AJ13: =IF(AE13<=AD13,"Đúng","Sai") -> Đúng
B14: Đơn vị dự toán ngân sách cấp dưới trực thuộc của tỉnh ủy và tương đương | C14: =SUM(D14:G14) -> 0 | N14: =SUM(O14:P14) -> 0 | AB14: =SUM(AC14:AD14) -> 0 | AG14: =IF(N14=O14+P14,"Đúng","Sai") -> Đúng | AH14: =IF(AND(R14<=N14,S14<=N14,T14<=N14,U14<=N14),"Đúng","Sai") -> Đúng | AI14: =IF(AB14=AC14+AD14,"Đúng","Sai") -> Đúng | AJ14: =IF(AE14<=AD14,"Đúng","Sai") -> Đúng
B15: Doanh nghiệp của Đảng ở tỉnh ủy và tương đương | C15: =SUM(D15:G15) -> 0 | N15: =SUM(O15:P15) -> 0 | AB15: =SUM(AC15:AD15) -> 0 | AG15: =IF(N15=O15+P15,"Đúng","Sai") -> Đúng | AH15: =IF(AND(R15<=N15,S15<=N15,T15<=N15,U15<=N15),"Đúng","Sai") -> Đúng | AI15: =IF(AB15=AC15+AD15,"Đúng","Sai") -> Đúng | AJ15: =IF(AE15<=AD15,"Đúng","Sai") -> Đúng
B16: Huyện ủy, BTV huyện ủy và tương đương | C16: =SUM(D16:G16) -> 0 | N16: =SUM(O16:P16) -> 0 | AB16: =SUM(AC16:AD16) -> 0 | AG16: =IF(N16=O16+P16,"Đúng","Sai") -> Đúng | AH16: =IF(AND(R16<=N16,S16<=N16,T16<=N16,U16<=N16),"Đúng","Sai") -> Đúng | AI16: =IF(AB16=AC16+AD16,"Đúng","Sai") -> Đúng | AJ16: =IF(AE16<=AD16,"Đúng","Sai") -> Đúng
B17: Cơ quan tài chính huyện ủy và tương đương | C17: =SUM(D17:G17) -> 0 | N17: =SUM(O17:P17) -> 0 | AB17: =SUM(AC17:AD17) -> 0 | AG17: =IF(N17=O17+P17,"Đúng","Sai") -> Đúng | AH17: =IF(AND(R17<=N17,S17<=N17,T17<=N17,U17<=N17),"Đúng","Sai") -> Đúng | AI17: =IF(AB17=AC17+AD17,"Đúng","Sai") -> Đúng | AJ17: =IF(AE17<=AD17,"Đúng","Sai") -> Đúng
B18: Đảng ủy cơ sở, BTV đảng ủy cơ sở | C18: =SUM(D18:G18) -> 0 | N18: =SUM(O18:P18) -> 0 | AB18: =SUM(AC18:AD18) -> 0 | AG18: =IF(N18=O18+P18,"Đúng","Sai") -> Đúng | AH18: =IF(AND(R18<=N18,S18<=N18,T18<=N18,U18<=N18),"Đúng","Sai") -> Đúng | AI18: =IF(AB18=AC18+AD18,"Đúng","Sai") -> Đúng | AJ18: =IF(AE18<=AD18,"Đúng","Sai") -> Đúng
B19: Đảng ủy bộ phận, chi bộ trực thuộc | C19: =SUM(D19:G19) -> 0 | N19: =SUM(O19:P19) -> 0 | AB19: =SUM(AC19:AD19) -> 0 | AG19: =IF(N19=O19+P19,"Đúng","Sai") -> Đúng | AH19: =IF(AND(R19<=N19,S19<=N19,T19<=N19,U19<=N19),"Đúng","Sai") -> Đúng | AI19: =IF(AB19=AC19+AD19,"Đúng","Sai") -> Đúng | AJ19: =IF(AE19<=AD19,"Đúng","Sai") -> Đúng
A20: I | B20: Cộng | C20: =SUM(C9:C19) -> 0 | D20: =SUM(D9:D19) -> 0 | E20: =SUM(E9:E19) -> 0 | F20: =SUM(F9:F19) -> 0 | G20: =SUM(G9:G19) -> 0 | H20: =SUM(H9:H19) -> 0 | I20: =SUM(I9:I19) -> 0 | J20: =SUM(J9:J19) -> 0 | ... AF20: =SUM(AF9:AF19) -> 0

Sheet B23
A1: KIỂM TRA TÀI CHÍNH ĐẢNG (VỀ VIỆC THU, NỘP, QUẢN LÝ VÀ SỬ DỤNG ĐẢNG PHÍ) | AA1: Biểu 23
A3: TT | B3: Tổ chức đảng được kiểm tra | C3: Tổng số đảng viên được kiểm tra | D3: Cấp kiểm tra (ĐVT: đảng viên) | H3: Tổng số tổ chức đảng được kiểm tra | I3: Cấp kiểm tra (ĐVT: TCĐ) | M3: Kết luận
D4: UBKT Trung ương | E4: UBKT tỉnh uỷ và tương đương | F4: UBKT huyện uỷ và tương đương | G4: UBKT đảng uỷ cơ sở | I4: UBKT Trung ương | J4: UBKT tỉnh uỷ và tương đương | K4: UBKT huyện uỷ và tương đương | L4: UBKT đảng uỷ cơ sở | M4: Số tổ chức đảng có vi phạm | N4: Phải thi hành kỷ luật | O4: Đã thi hành kỷ luật | P4: Số tiền vi phạm (ĐVT: triệu đồng) | Z4: Đảng viên có vi phạm (ĐVT: đảng viên)
P5: Tổng số | Q5: Nội dung vi phạm | V5: Đề nghị xử lý | Z5: Tổng số | AA5: Có vi phạm nhưng chưa đến mức phải kỷ luật | AB5: Phải thi hành kỷ luật | AC5: Đã thi hành kỷ luật
Q6: Thu thiếu | R6: Thu thừa | S6: Tham ô, biển thủ | T6: Chi sai chế độ | U6: Khác | V6: Xuất toán, thu hồi | W6: Hạch toán lại | X6: Giao đơn vị xử lý | Y6: Khác
A7: 1 | B7: 2 | C7: 3 | D7: 4 | E7: 5 | F7: 6 | G7: 7 | H7: 8 | I7: 9 | J7: 10 | K7: 11 | L7: 12 | M7: 13 | N7: 14 | O7: 15 | P7: 16 | Q7: 17 | R7: 18 | S7: 19 | T7: 20 | U7: 21 | V7: 22 | W7: 23 | X7: 24 | Y7: 25 | Z7: 26 | AA7: 27 | AB7: 28 | AC7: 29
B8: Văn phòng Trung ương | C8: =SUM(D8:G8) -> 0 | H8: =SUM(I8:L8) -> 0 | P8: =SUM(Q8:U8) -> 0 | Z8: =AA8+AB8 -> 0 | AD8: =IF(H8=SUM(I8:L8),"Đúng","Sai") -> Đúng | AE8: =IF(AND(O8<=N8,N8<=M8,M8<=H8),"Đúng","Sai") -> Đúng | AF8: =IF(P8=SUM(Q8:U8),"Đúng","Sai") -> Đúng | AG8: =IF(Z8=AA8+AB8,"Đúng","Sai") -> Đúng | AH8: =IF(AC8<=AB8,"Đúng","Sai") -> Đúng
B9: Tỉnh ủy, BTV tỉnh ủy và tương đương | C9: =SUM(D9:G9) -> 0 | H9: =SUM(I9:L9) -> 0 | P9: =SUM(Q9:U9) -> 0 | Z9: =AA9+AB9 -> 0 | AD9: =IF(H9=SUM(I9:L9),"Đúng","Sai") -> Đúng | AE9: =IF(AND(O9<=N9,N9<=M9,M9<=H9),"Đúng","Sai") -> Đúng | AF9: =IF(P9=SUM(Q9:U9),"Đúng","Sai") -> Đúng | AG9: =IF(Z9=AA9+AB9,"Đúng","Sai") -> Đúng | AH9: =IF(AND(AC9<=AB9,Z9<=C9),"Đúng","Sai") -> Đúng
B10: Cơ quan tài chính tỉnh ủy và tương đương | C10: =SUM(D10:G10) -> 0 | H10: =SUM(I10:L10) -> 0 | P10: =SUM(Q10:U10) -> 0 | Z10: =AA10+AB10 -> 0 | AD10: =IF(H10=SUM(I10:L10),"Đúng","Sai") -> Đúng | AE10: =IF(AND(O10<=N10,N10<=M10,M10<=H10),"Đúng","Sai") -> Đúng | AF10: =IF(P10=SUM(Q10:U10),"Đúng","Sai") -> Đúng | AG10: =IF(Z10=AA10+AB10,"Đúng","Sai") -> Đúng | AH10: =IF(AND(AC10<=AB10,Z10<=C10),"Đúng","Sai") -> Đúng
B11: Huyện ủy, BTV huyện ủy và tương đương | C11: =SUM(D11:G11) -> 0 | H11: =SUM(I11:L11) -> 0 | P11: =SUM(Q11:U11) -> 0 | Z11: =AA11+AB11 -> 0 | AD11: =IF(H11=SUM(I11:L11),"Đúng","Sai") -> Đúng | AE11: =IF(AND(O11<=N11,N11<=M11,M11<=H11),"Đúng","Sai") -> Đúng | AF11: =IF(P11=SUM(Q11:U11),"Đúng","Sai") -> Đúng | AG11: =IF(Z11=AA11+AB11,"Đúng","Sai") -> Đúng | AH11: =IF(AND(AC11<=AB11,Z11<=C11),"Đúng","Sai") -> Đúng
B12: Cơ quan tài chính huyện ủy và tương đương | C12: =SUM(D12:G12) -> 0 | H12: =SUM(I12:L12) -> 0 | P12: =SUM(Q12:U12) -> 0 | Z12: =AA12+AB12 -> 0 | AD12: =IF(H12=SUM(I12:L12),"Đúng","Sai") -> Đúng | AE12: =IF(AND(O12<=N12,N12<=M12,M12<=H12),"Đúng","Sai") -> Đúng | AF12: =IF(P12=SUM(Q12:U12),"Đúng","Sai") -> Đúng | AG12: =IF(Z12=AA12+AB12,"Đúng","Sai") -> Đúng | AH12: =IF(AND(AC12<=AB12,Z12<=C12),"Đúng","Sai") -> Đúng
B13: Đảng ủy cơ sở, BTV đảng ủy cơ sở | C13: =SUM(D13:G13) -> 0 | H13: =SUM(I13:L13) -> 0 | P13: =SUM(Q13:U13) -> 0 | Z13: =AA13+AB13 -> 0 | AD13: =IF(H13=SUM(I13:L13),"Đúng","Sai") -> Đúng | AE13: =IF(AND(O13<=N13,N13<=M13,M13<=H13),"Đúng","Sai") -> Đúng | AF13: =IF(P13=SUM(Q13:U13),"Đúng","Sai") -> Đúng | AG13: =IF(Z13=AA13+AB13,"Đúng","Sai") -> Đúng | AH13: =IF(AND(AC13<=AB13,Z13<=C13),"Đúng","Sai") -> Đúng
B14: Chi bộ, đảng bộ trực thuộc, Chi ủy | C14: =SUM(D14:G14) -> 0 | H14: =SUM(I14:L14) -> 0 | P14: =SUM(Q14:U14) -> 0 | Z14: =AA14+AB14 -> 0 | AD14: =IF(H14=SUM(I14:L14),"Đúng","Sai") -> Đúng | AE14: =IF(AND(O14<=N14,N14<=M14,M14<=H14),"Đúng","Sai") -> Đúng | AF14: =IF(P14=SUM(Q14:U14),"Đúng","Sai") -> Đúng | AG14: =IF(Z14=AA14+AB14,"Đúng","Sai") -> Đúng | AH14: =IF(AND(AC14<=AB14,Z14<=C14),"Đúng","Sai") -> Đúng
A15: I | B15: Cộng | C15: =SUM(C8:C14) -> 0 | D15: =SUM(D8:D14) -> 0 | E15: =SUM(E8:E14) -> 0 | F15: =SUM(F8:F14) -> 0 | G15: =SUM(G8:G14) -> 0 | H15: =SUM(H8:H14) -> 0 | I15: =SUM(I8:I14) -> 0 | J15: =SUM(J8:J14) -> 0 | ... AC15: =SUM(AC8:AC14) -> 0 | AD15: =IF(H15=SUM(I15:L15),"Đúng","Sai") -> Đúng | AE15: =IF(AND(O15<=N15,N15<=M15,M15<=H15),"Đúng","Sai") -> Đúng | AF15: =IF(P15=SUM(Q15:U15),"Đúng","Sai") -> Đúng | AG15: =IF(Z15=AA15+AB15,"Đúng","Sai") -> Đúng | AH15: =IF(AND(AC15<=AB15,Z15<=C15),"Đúng","Sai") -> Đúng

Sheet B24
A1: TIẾP NHẬN, XỬ LÝ ĐƠN THƯ CỦA ỦY BAN KIỂM TRA CÁC CẤP | Y1: Biểu 24
Y2: (ĐVT: đơn)
A3: TT | B3: Ủy ban kiểm tra các cấp xử lý đơn thư | E3: Tổng số đơn thư | F3: Tổ chức đảng, đảng viên bị tố cáo do từng cấp quản lý | J3: Phân loại | M3: Nội dung | Y3: Kết quả xử lý
F4: Trung ương | G4: Tỉnh và tương đương | H4: Huyện và tương đương | I4: Cơ sở | J4: Đơn phải giải quyết | K4: Đơn không phải giải quyết | L4: Đơn phục vụ công tác kiểm tra, giám sát | M4: Việc chấp hành Cương lĩnh chính trị, Điều lệ Đảng, chủ trương, nghị quyết, chỉ thị, quy định, quy chế, kết luận của Đảng | N4: Tiêu chuẩn đảng viên, tiêu chuẩn cấp ủy viên | O4: Việc chấp hành nguyên tắc tập trung dân chủ, quy chế làm việc, chế độ công tác; các nguyên tắc sinh hoạt của Đảng | P4: Việc thực hiện nhiệm vụ đảng viên, nhiệm vụ cấp ủy viên | Q4: Tư tưởng chính trị, việc giữ gìn phẩm chất đạo đức, lối sống, trách nhiệm nêu gương | R4: Việc giữ gìn đoàn kết nội bộ | S4: Những điều đảng viên không được làm | T4: Tham nhũng, cố ý làm trái | U4: Thiếu trách nhiệm, buông lỏng lãnh đạo | V4: Việc chấp hành chính sách, pháp luật của Nhà nước | W4: Kê khai tài sản, thu nhập cá nhân | X4: Khác | Y4: Thành lập đoàn giải quyết tố cáo | Z4: Kết thúc đơn, không giải quyết tố cáo | AA4: Chuyển đơn đến cơ quan có thẩm quyền | AB4: Hướng dẫn, trả đơn; kết thúc tố cáo | AC4: Lưu đơn
A6: 1 | B6: 2 | E6: 3 | F6: 4 | G6: 5 | H6: 6 | I6: 7 | J6: 8 | K6: 9 | L6: 10 | M6: 11 | N6: 12 | O6: 13 | P6: 14 | Q6: 15 | R6: 16 | S6: 17 | T6: 18 | U6: 19 | V6: 20 | W6: 21 | X6: 22 | Y6: 23 | Z6: 24 | AA6: 25 | AB6: 26 | AC6: 27
B7: Trung ương | C7: Đảng viên | D7: a | E7: =SUM(F7:I7) -> 0 | AD7: =IF(AND(SUM(J7:L7)=E7,SUM(Y7:AC7)=E7),"Đúng","Sai") -> Đúng
C8: TCĐ | D8: b | E8: =SUM(F8:I8) -> 0 | AD8: =IF(AND(SUM(J8:L8)=E8,SUM(Y8:AC8)=E8),"Đúng","Sai") -> Đúng
B9: Cấp tỉnh | C9: Đảng viên | D9: c | E9: =SUM(F9:I9) -> 0 | AD9: =IF(AND(SUM(J9:L9)=E9,SUM(Y9:AC9)=E9),"Đúng","Sai") -> Đúng
C10: TCĐ | D10: d | E10: =SUM(F10:I10) -> 0 | AD10: =IF(AND(SUM(J10:L10)=E10,SUM(Y10:AC10)=E10),"Đúng","Sai") -> Đúng
B11: Cấp huyện | C11: Đảng viên | D11: đ | E11: =SUM(F11:I11) -> 0 | AD11: =IF(AND(SUM(J11:L11)=E11,SUM(Y11:AC11)=E11),"Đúng","Sai") -> Đúng
C12: TCĐ | D12: e | E12: =SUM(F12:I12) -> 0 | AD12: =IF(AND(SUM(J12:L12)=E12,SUM(Y12:AC12)=E12),"Đúng","Sai") -> Đúng
B13: Cấp cơ sở | C13: Đảng viên | D13: g | E13: =SUM(F13:I13) -> 0 | AD13: =IF(AND(SUM(J13:L13)=E13,SUM(Y13:AC13)=E13),"Đúng","Sai") -> Đúng
C14: TCĐ | D14: h | E14: =SUM(F14:I14) -> 0 | AD14: =IF(AND(SUM(J14:L14)=E14,SUM(Y14:AC14)=E14),"Đúng","Sai") -> Đúng
A15: 1 | B15: CỘNG | C15: Đảng viên | D15: i | E15: =E7+E9+E11+E13 -> 0 | F15: =F7+F9+F11+F13 -> 0 | G15: =G7+G9+G11+G13 -> 0 | H15: =H7+H9+H11+H13 -> 0 | I15: =I7+I9+I11+I13 -> 0 | J15: =J7+J9+J11+J13 -> 0 | K15: =K7+K9+K11+K13 -> 0 | L15: =L7+L9+L11+L13 -> 0 | ... AC15: =AC7+AC9+AC11+AC13 -> 0 | AD15: =IF(AND(SUM(J15:L15)=E15,SUM(Y15:AC15)=E15),"Đúng","Sai") -> Đúng
A16: 2 | B16: CỘNG | C16: TCĐ | D16: k | E16: =E8+E10+E12+E14 -> 0 | F16: =F8+F10+F12+F14 -> 0 | G16: =G8+G10+G12+G14 -> 0 | H16: =H8+H10+H12+H14 -> 0 | I16: =I8+I10+I12+I14 -> 0 | J16: =J8+J10+J12+J14 -> 0 | K16: =K8+K10+K12+K14 -> 0 | L16: =L8+L10+L12+L14 -> 0 | ... AC16: =AC8+AC10+AC12+AC14 -> 0 | AD16: =IF(AND(SUM(J16:L16)=E16,SUM(Y16:AC16)=E16),"Đúng","Sai") -> Đúng
B17: Tổng số lượt tiếp đảng viên và công dân: | F17: 2000

Sheet B25
A1: TÌNH HÌNH ĐỘI NGŨ CÁN BỘ NGÀNH KIỂM TRA CÁC CẤP | AI1: Biểu 25
AI2: (ĐVT: người)
A3: TT | B3: UBKT các cấp | C3: Tổng số | D3: Giới tính | F3: Đảng viên | G3: Độ tuổi | M3: Cơ cấu ngạch | R3: Trình độ | AD3: Luân chuyển trong kỳ1
R4: Chuyên môn | AB4: Lý luận chính trị
D5: Nam | E5: Nữ | G5: Từ 30 tuổi trở xuống | H5: từ 31 đến 40 | I5: từ 41 đến 50 | J5: Từ 51 đến 55 | K5: Từ 56 đến 60 | L5: Trên 60 tuổi | M5: KTVCC và tương đương | N5: KTVC hoặc tương đương | O5: KTV và tương đương | P5: Cán sự và tương đương | Q5: Nhân viên | R5: Học vị | U5: Lĩnh vực2 | AD5: Trong ngành | AI5: Ngoài ngành | AK5: Chức vụ
R6: Cử nhân, kỹ sư, bác sỹ | S6: Thạc sĩ | T6: Tiến sĩ | U6: Chính trị - Hành chính | V6: Kinh tế | W6: Pháp luật | X6: Quốc phòng - An ninh | Y6: Khoa học kỹ thuật | Z6: khoa học công nghệ | AA6: Khác | AB6: Cử nhân, Cao cấp | AC6: Trung cấp | AD6: Cùng cấp | AF6: Khác cấp
AD7: Chuyển đi | AE7: Chuyển đến | AF7: Chuyển đi cấp trên | AG7: Chuyển đi cấp dưới | AH7: Cấp trên chuyển xuống | AI7: Đi ngoài ngành | AJ7: Ngoài ngành đến | AK7: Ngang chức, tương đương | AL7: Lên chức
A8: 1 | B8: 2 | C8: 3 | D8: 4 | E8: 5 | F8: 6 | G8: 7 | H8: 8 | I8: 9 | J8: 10 | K8: 11 | L8: 12 | M8: 13 | N8: 14 | O8: 15 | P8: 16 | Q8: 17 | R8: 18 | S8: 19 | T8: 20 | U8: 21 | V8: 22 | W8: 23 | X8: 24 | Y8: 25 | Z8: 26 | AA8: 27 | AB8: 28 | AC8: 29 | AD8: 30 | AE8: 31 | AF8: 32 | AG8: 33 | AH8: 34 | AI8: 35 | AJ8: 36 | AK8: 37 | AL8: 38
A9: I | B9: Trung ương | C9: =SUM(M9:Q9) -> 0 | D9: =SUM(D10:D14) -> 0 | E9: =SUM(E10:E14) -> 0 | F9: =SUM(F10:F14) -> 0 | G9: =SUM(G10:G14) -> 0 | H9: =SUM(H10:H14) -> 0 | I9: =SUM(I10:I14) -> 0 | J9: =SUM(J10:J14) -> 0 | K9: =SUM(K10:K14) -> 0 | ... AL9: =SUM(AL10:AL14) -> 0 | AM9: =IF(AND(SUM(D9:E9)=C9,SUM(M9:Q9)=C9,SUM(U9:AA9)=C9),"Đúng","Sai") -> Đúng | AN9: =IF(AND(AD9<=C9,AE9<=C9,AF9<=C9,AG9<=C9,AH9<=C9,AI9<=C9,AJ9<=C9,AK9<=C9,AL9<=C9),"Đúng","Sai") -> Đúng
B10: Chủ nhiệm | C10: =SUM(G10:L10) -> 0 | AM10: =IF(AND(SUM(D10:E10)=C10,SUM(M10:Q10)=C10,SUM(U10:AA10)=C10),"Đúng","Sai") -> Đúng | AN10: =IF(AND(AD10<=C10,AE10<=C10,AF10<=C10,AG10<=C10,AH10<=C10,AI10<=C10,AJ10<=C10,AK10<=C10,AL10<=C10),"Đúng","Sai") -> Đúng
B11: Phó Chủ nhiệm | C11: =SUM(G11:L11) -> 0 | AM11: =IF(AND(SUM(D11:E11)=C11,SUM(M11:Q11)=C11,SUM(U11:AA11)=C11),"Đúng","Sai") -> Đúng | AN11: =IF(AND(AD11<=C11,AE11<=C11,AF11<=C11,AG11<=C11,AH11<=C11,AI11<=C11,AJ11<=C11,AK11<=C11,AL11<=C11),"Đúng","Sai") -> Đúng
B12: Ủy viên chuyên trách | C12: =SUM(G12:L12) -> 0 | AM12: =IF(AND(SUM(D12:E12)=C12,SUM(M12:Q12)=C12,SUM(U12:AA12)=C12),"Đúng","Sai") -> Đúng | AN12: =IF(AND(AD12<=C12,AE12<=C12,AF12<=C12,AG12<=C12,AH12<=C12,AI12<=C12,AJ12<=C12,AK12<=C12,AL12<=C12),"Đúng","Sai") -> Đúng
B13: Công chức kiểm tra | C13: =SUM(G13:L13) -> 0 | AM13: =IF(AND(SUM(D13:E13)=C13,SUM(M13:Q13)=C13,SUM(U13:AA13)=C13),"Đúng","Sai") -> Đúng | AN13: =IF(AND(AD13<=C13,AE13<=C13,AF13<=C13,AG13<=C13,AH13<=C13,AI13<=C13,AJ13<=C13,AK13<=C13,AL13<=C13),"Đúng","Sai") -> Đúng
B14: Khác | C14: =SUM(G14:L14) -> 0 | AM14: =IF(AND(SUM(D14:E14)=C14,SUM(M14:Q14)=C14,SUM(U14:AA14)=C14),"Đúng","Sai") -> Đúng | AN14: =IF(AND(AD14<=C14,AE14<=C14,AF14<=C14,AG14<=C14,AH14<=C14,AI14<=C14,AJ14<=C14,AK14<=C14,AL14<=C14),"Đúng","Sai") -> Đúng
A15: II | B15: Cấp tỉnh | C15: =SUM(M15:Q15) -> 0 | D15: =SUM(D16:D21) -> 0 | E15: =SUM(E16:E21) -> 0 | F15: =SUM(F16:F21) -> 0 | G15: =SUM(G16:G21) -> 0 | H15: =SUM(H16:H21) -> 0 | I15: =SUM(I16:I21) -> 0 | J15: =SUM(J16:J21) -> 0 | K15: =SUM(K16:K21) -> 0 | ... AL15: =SUM(AL16:AL21) -> 0 | AM15: =IF(AND(SUM(D15:E15)=C15,SUM(M15:Q15)=C15,SUM(U15:AA15)=C15),"Đúng","Sai") -> Đúng | AN15: =IF(AND(AD15<=C15,AE15<=C15,AF15<=C15,AG15<=C15,AH15<=C15,AI15<=C15,AJ15<=C15,AK15<=C15,AL15<=C15),"Đúng","Sai") -> Đúng
B16: Chủ nhiệm | C16: =SUM(G16:L16) -> 0 | AM16: =IF(AND(SUM(D16:E16)=C16,SUM(M16:Q16)=C16,SUM(U16:AA16)=C16),"Đúng","Sai") -> Đúng | AN16: =IF(AND(AD16<=C16,AE16<=C16,AF16<=C16,AG16<=C16,AH16<=C16,AI16<=C16,AJ16<=C16,AK16<=C16,AL16<=C16),"Đúng","Sai") -> Đúng
B17: Phó Chủ nhiệm | C17: =SUM(G17:L17) -> 0 | AM17: =IF(AND(SUM(D17:E17)=C17,SUM(M17:Q17)=C17,SUM(U17:AA17)=C17),"Đúng","Sai") -> Đúng | AN17: =IF(AND(AD17<=C17,AE17<=C17,AF17<=C17,AG17<=C17,AH17<=C17,AI17<=C17,AJ17<=C17,AK17<=C17,AL17<=C17),"Đúng","Sai") -> Đúng
B18: Ủy viên chuyên trách | C18: =SUM(G18:L18) -> 0 | AM18: =IF(AND(SUM(D18:E18)=C18,SUM(M18:Q18)=C18,SUM(U18:AA18)=C18),"Đúng","Sai") -> Đúng | AN18: =IF(AND(AD18<=C18,AE18<=C18,AF18<=C18,AG18<=C18,AH18<=C18,AI18<=C18,AJ18<=C18,AK18<=C18,AL18<=C18),"Đúng","Sai") -> Đúng
B19: Ủy viên kiêm chức | C19: =SUM(G19:L19) -> 0 | AM19: =IF(AND(SUM(D19:E19)=C19,SUM(M19:Q19)=C19,SUM(U19:AA19)=C19),"Đúng","Sai") -> Đúng | AN19: =IF(AND(AD19<=C19,AE19<=C19,AF19<=C19,AG19<=C19,AH19<=C19,AI19<=C19,AJ19<=C19,AK19<=C19,AL19<=C19),"Đúng","Sai") -> Đúng
B20: Công chức kiểm tra | C20: =SUM(G20:L20) -> 0 | AM20: =IF(AND(SUM(D20:E20)=C20,SUM(M20:Q20)=C20,SUM(U20:AA20)=C20),"Đúng","Sai") -> Đúng | AN20: =IF(AND(AD20<=C20,AE20<=C20,AF20<=C20,AG20<=C20,AH20<=C20,AI20<=C20,AJ20<=C20,AK20<=C20,AL20<=C20),"Đúng","Sai") -> Đúng
B21: Khác | C21: =SUM(G21:L21) -> 0 | AM21: =IF(AND(SUM(D21:E21)=C21,SUM(M21:Q21)=C21,SUM(U21:AA21)=C21),"Đúng","Sai") -> Đúng | AN21: =IF(AND(AD21<=C21,AE21<=C21,AF21<=C21,AG21<=C21,AH21<=C21,AI21<=C21,AJ21<=C21,AK21<=C21,AL21<=C21),"Đúng","Sai") -> Đúng
A22: III | B22: Cấp huyện | C22: =SUM(M22:Q22) -> 0 | D22: =SUM(D23:D28) -> 0 | E22: =SUM(E23:E28) -> 0 | F22: =SUM(F23:F28) -> 0 | G22: =SUM(G23:G28) -> 0 | H22: =SUM(H23:H28) -> 0 | I22: =SUM(I23:I28) -> 0 | J22: =SUM(J23:J28) -> 0 | K22: =SUM(K23:K28) -> 0 | ... AL22: =SUM(AL23:AL28) -> 0 | AM22: =IF(AND(SUM(D22:E22)=C22,SUM(M22:Q22)=C22,SUM(U22:AA22)=C22),"Đúng","Sai") -> Đúng | AN22: =IF(AND(AD22<=C22,AE22<=C22,AF22<=C22,AG22<=C22,AH22<=C22,AI22<=C22,AJ22<=C22,AK22<=C22,AL22<=C22),"Đúng","Sai") -> Đúng
B23: Chủ nhiệm | C23: =SUM(G23:L23) -> 0 | AM23: =IF(AND(SUM(D23:E23)=C23,SUM(M23:Q23)=C23,SUM(U23:AA23)=C23),"Đúng","Sai") -> Đúng | AN23: =IF(AND(AD23<=C23,AE23<=C23,AF23<=C23,AG23<=C23,AH23<=C23,AI23<=C23,AJ23<=C23,AK23<=C23,AL23<=C23),"Đúng","Sai") -> Đúng
B24: Phó Chủ nhiệm | C24: =SUM(G24:L24) -> 0 | AM24: =IF(AND(SUM(D24:E24)=C24,SUM(M24:Q24)=C24,SUM(U24:AA24)=C24),"Đúng","Sai") -> Đúng | AN24: =IF(AND(AD24<=C24,AE24<=C24,AF24<=C24,AG24<=C24,AH24<=C24,AI24<=C24,AJ24<=C24,AK24<=C24,AL24<=C24),"Đúng","Sai") -> Đúng
B25: Ủy viên chuyên trách | C25: =SUM(G25:L25) -> 0 | AM25: =IF(AND(SUM(D25:E25)=C25,SUM(M25:Q25)=C25,SUM(U25:AA25)=C25),"Đúng","Sai") -> Đúng | AN25: =IF(AND(AD25<=C25,AE25<=C25,AF25<=C25,AG25<=C25,AH25<=C25,AI25<=C25,AJ25<=C25,AK25<=C25,AL25<=C25),"Đúng","Sai") -> Đúng
B26: Ủy viên kiêm chức | C26: =SUM(G26:L26) -> 0 | AM26: =IF(AND(SUM(D26:E26)=C26,SUM(M26:Q26)=C26,SUM(U26:AA26)=C26),"Đúng","Sai") -> Đúng | AN26: =IF(AND(AD26<=C26,AE26<=C26,AF26<=C26,AG26<=C26,AH26<=C26,AI26<=C26,AJ26<=C26,AK26<=C26,AL26<=C26),"Đúng","Sai") -> Đúng
B27: Công chức kiểm tra | C27: =SUM(G27:L27) -> 0 | AM27: =IF(AND(SUM(D27:E27)=C27,SUM(M27:Q27)=C27,SUM(U27:AA27)=C27),"Đúng","Sai") -> Đúng | AN27: =IF(AND(AD27<=C27,AE27<=C27,AF27<=C27,AG27<=C27,AH27<=C27,AI27<=C27,AJ27<=C27,AK27<=C27,AL27<=C27),"Đúng","Sai") -> Đúng
B28: Khác | C28: =SUM(G28:L28) -> 0 | AM28: =IF(AND(SUM(D28:E28)=C28,SUM(M28:Q28)=C28,SUM(U28:AA28)=C28),"Đúng","Sai") -> Đúng | AN28: =IF(AND(AD28<=C28,AE28<=C28,AF28<=C28,AG28<=C28,AH28<=C28,AI28<=C28,AJ28<=C28,AK28<=C28,AL28<=C28),"Đúng","Sai") -> Đúng
A29: IV | B29: Cấp cơ sở | C29: =SUM(M29:Q29) -> 0 | D29: =SUM(D30:D35) -> 0 | E29: =SUM(E30:E35) -> 0 | F29: =SUM(F30:F35) -> 0 | G29: =SUM(G30:G35) -> 0 | H29: =SUM(H30:H35) -> 0 | I29: =SUM(I30:I35) -> 0 | J29: =SUM(J30:J35) -> 0 | K29: =SUM(K30:K35) -> 0 | ... AL29: =SUM(AL30:AL35) -> 0 | AM29: =IF(AND(SUM(D29:E29)=C29,SUM(M29:Q29)=C29,SUM(U29:AA29)=C29),"Đúng","Sai") -> Đúng | AN29: =IF(AND(AD29<=C29,AE29<=C29,AF29<=C29,AG29<=C29,AH29<=C29,AI29<=C29,AJ29<=C29,AK29<=C29,AL29<=C29),"Đúng","Sai") -> Đúng
B30: Chủ nhiệm | C30: =SUM(G30:L30) -> 0 | AM30: =IF(AND(SUM(D30:E30)=C30,SUM(M30:Q30)=C30,SUM(U30:AA30)=C30),"Đúng","Sai") -> Đúng | AN30: =IF(AND(AD30<=C30,AE30<=C30,AF30<=C30,AG30<=C30,AH30<=C30,AI30<=C30,AJ30<=C30,AK30<=C30,AL30<=C30),"Đúng","Sai") -> Đúng
B31: Phó Chủ nhiệm | C31: =SUM(G31:L31) -> 0 | AM31: =IF(AND(SUM(D31:E31)=C31,SUM(M31:Q31)=C31,SUM(U31:AA31)=C31),"Đúng","Sai") -> Đúng | AN31: =IF(AND(AD31<=C31,AE31<=C31,AF31<=C31,AG31<=C31,AH31<=C31,AI31<=C31,AJ31<=C31,AK31<=C31,AL31<=C31),"Đúng","Sai") -> Đúng
B32: Ủy viên chuyên trách | C32: =SUM(G32:L32) -> 0 | AM32: =IF(AND(SUM(D32:E32)=C32,SUM(M32:Q32)=C32,SUM(U32:AA32)=C32),"Đúng","Sai") -> Đúng | AN32: =IF(AND(AD32<=C32,AE32<=C32,AF32<=C32,AG32<=C32,AH32<=C32,AI32<=C32,AJ32<=C32,AK32<=C32,AL32<=C32),"Đúng","Sai") -> Đúng
B33: Ủy viên kiêm chức | C33: =SUM(G33:L33) -> 0 | AM33: =IF(AND(SUM(D33:E33)=C33,SUM(M33:Q33)=C33,SUM(U33:AA33)=C33),"Đúng","Sai") -> Đúng | AN33: =IF(AND(AD33<=C33,AE33<=C33,AF33<=C33,AG33<=C33,AH33<=C33,AI33<=C33,AJ33<=C33,AK33<=C33,AL33<=C33),"Đúng","Sai") -> Đúng
B34: Công chức kiểm tra | C34: =SUM(G34:L34) -> 0 | AM34: =IF(AND(SUM(D34:E34)=C34,SUM(M34:Q34)=C34,SUM(U34:AA34)=C34),"Đúng","Sai") -> Đúng | AN34: =IF(AND(AD34<=C34,AE34<=C34,AF34<=C34,AG34<=C34,AH34<=C34,AI34<=C34,AJ34<=C34,AK34<=C34,AL34<=C34),"Đúng","Sai") -> Đúng
B35: Khác | C35: =SUM(G35:L35) -> 0 | AM35: =IF(AND(SUM(D35:E35)=C35,SUM(M35:Q35)=C35,SUM(U35:AA35)=C35),"Đúng","Sai") -> Đúng | AN35: =IF(AND(AD35<=C35,AE35<=C35,AF35<=C35,AG35<=C35,AH35<=C35,AI35<=C35,AJ35<=C35,AK35<=C35,AL35<=C35),"Đúng","Sai") -> Đúng
A36: V | B36: Cộng (I + II + III + IV) | C36: =C9+C15+C22+C29 -> 0 | D36: =D9+D15+D22+D29 -> 0 | E36: =E9+E15+E22+E29 -> 0 | F36: =F9+F15+F22+F29 -> 0 | G36: =G9+G15+G22+G29 -> 0 | H36: =H9+H15+H22+H29 -> 0 | I36: =I9+I15+I22+I29 -> 0 | J36: =J9+J15+J22+J29 -> 0 | ... AL36: =AL9+AL15+AL22+AL29 -> 0 | AM36: =IF(AND(SUM(D36:E36)=C36,SUM(M36:Q36)=C36,SUM(U36:AA36)=C36),"Đúng","Sai") -> Đúng | AN36: =IF(AND(AD36<=C36,AE36<=C36,AF36<=C36,AG36<=C36,AH36<=C36,AI36<=C36,AJ36<=C36,AK36<=C36,AL36<=C36),"Đúng","Sai") -> Đúng
C38: 1 Theo Quy định số 65-QĐ/TW, ngày 28/4/2022 của Bộ Chính trị.
C39: 2 Lĩnh vực có học vị cao nhất, nếu có nhiều học vị tương đương, thống kế học vị được cấp đầu tiên

Sheet B26
A2: TÌNH HÌNH ĐÀO TẠO, BỒI DƯỠNG CÁN BỘ, CÔNG CHỨC LÀM CÔNG TÁC KIỂM TRA | AH2: Biểu 26
AH3: (ĐVT: Người)
A4: TT | B4: UBKT các cấp | C4: Tổng số cán bộ, công chức được cử đi đào tạo | D4: Giới tính | F4: Chức danh | L4: Kết quả đào tạo, bồi dưỡng
L5: Chuyên môn | P5: Lý luận chính trị | S5: Quản lý nhà nước | V5: Lãnh đạo quản lý các cấp | Z5: Quốc phòng và an ninh | AD5: Nghiệp vụ kiểm tra | AK5: Bồi dưỡng khác
D6: Nam | E6: Nữ | F6: Chủ nhiệm | G6: Phó Chủ nhiệm | H6: Ủy viên chuyên trách | I6: Ủy viên kiêm chức | J6: Công chức kiểm tra | K6: Khác | L6: Tiến sỹ | M6: Thạc sỹ | N6: Đại học | O6: Cao đẳng | P6: Cử nhân chính trị trở lên, cao cấp | Q6: Trung cấp | R6: Sơ cấp | S6: Ngạch CVCC | T6: Ngạch CVC | U6: Ngạch CV | V6: Cấp vụ và tương đương | W6: Cấp sở và tương đương | X6: Cấp huyện và tương đương | Y6: Cấp phòng và tương đương | Z6: Đối tượng 1 | AA6: Đối tượng 2 | AB6: Đối tượng 3 | AC6: Đối tượng 4 | AD6: Đại học (chuyên ngành công tác kiểm tra) | AE6: Bồi dưỡng ngạch | AH6: Bồi dưỡng chức danh CN, PCN | AI6: Bồi dưỡng NV công tác KT, GS | AJ6: Khác | AK6: Tin học | AL6: Ngoại ngữ | AM6: Khác
AE7: Ngạch KTVCC | AF7: Ngạch KTVC | AG7: Ngạch KTV
A8: 1 | B8: 2 | C8: 3 | D8: 4 | E8: 5 | F8: 6 | G8: 7 | H8: 8 | I8: 9 | J8: 10 | K8: 11 | L8: 12 | M8: 13 | N8: 14 | O8: 15 | P8: 16 | Q8: 17 | R8: 18 | S8: 19 | T8: 20 | U8: 21 | V8: 22 | W8: 23 | X8: 24 | Y8: 25 | Z8: 26 | AA8: 27 | AB8: 28 | AC8: 29 | AD8: 30 | AE8: 31 | AF8: 32 | AG8: 33 | AH8: 34 | AI8: 35 | AJ8: 36 | AK8: 37 | AL8: 38 | AM8: 39
B9: Trung ương | C9: =SUM(F9:K9) -> 0 | AN9: =IF(D9+E9=C9,"Đúng","Sai") -> Đúng | AO9: =IF(AND(L9<=C9,M9<=C9,N9<=C9,O9<=C9,P9<=C9,Q9<=C9,R9<=C9,S9<=C9,T9<=C9,U9<=C9,V9<=C9,W9<=C9,X9<=C9,Y9<=C9,Z9<=C9,AA9<=C9,AB9<=C9,AC9<=C9,AD9<=C9,AE9<=C9,AF9<=C9,AG9<=C9,AH9<=C9,AI9<=C9,AJ9<=C9,AK9<=C9,AL9<=C9,AM9<=C9),"Đúng","Sai") -> Đúng
B10: Cấp tỉnh | C10: =SUM(F10:K10) -> 0 | AN10: =IF(D10+E10=C10,"Đúng","Sai") -> Đúng | AO10: =IF(AND(L10<=C10,M10<=C10,N10<=C10,O10<=C10,P10<=C10,Q10<=C10,R10<=C10,S10<=C10,T10<=C10,U10<=C10,V10<=C10,W10<=C10,X10<=C10,Y10<=C10,Z10<=C10,AA10<=C10,AB10<=C10,AC10<=C10,AD10<=C10,AE10<=C10,AF10<=C10,AG10<=C10,AH10<=C10,AI10<=C10,AJ10<=C10,AK10<=C10,AL10<=C10,AM10<=C10),"Đúng","Sai") -> Đúng
B11: Cấp huyện | C11: =SUM(F11:K11) -> 0 | AN11: =IF(D11+E11=C11,"Đúng","Sai") -> Đúng | AO11: =IF(AND(L11<=C11,M11<=C11,N11<=C11,O11<=C11,P11<=C11,Q11<=C11,R11<=C11,S11<=C11,T11<=C11,U11<=C11,V11<=C11,W11<=C11,X11<=C11,Y11<=C11,Z11<=C11,AA11<=C11,AB11<=C11,AC11<=C11,AD11<=C11,AE11<=C11,AF11<=C11,AG11<=C11,AH11<=C11,AI11<=C11,AJ11<=C11,AK11<=C11,AL11<=C11,AM11<=C11),"Đúng","Sai") -> Đúng
B12: Cấp cơ sở | C12: =SUM(F12:K12) -> 0 | AN12: =IF(D12+E12=C12,"Đúng","Sai") -> Đúng | AO12: =IF(AND(L12<=C12,M12<=C12,N12<=C12,O12<=C12,P12<=C12,Q12<=C12,R12<=C12,S12<=C12,T12<=C12,U12<=C12,V12<=C12,W12<=C12,X12<=C12,Y12<=C12,Z12<=C12,AA12<=C12,AB12<=C12,AC12<=C12,AD12<=C12,AE12<=C12,AF12<=C12,AG12<=C12,AH12<=C12,AI12<=C12,AJ12<=C12,AK12<=C12,AL12<=C12,AM12<=C12),"Đúng","Sai") -> Đúng
A13: I | B13: Cộng | C13: =SUM(C9:C12) -> 0 | D13: =SUM(D9:D12) -> 0 | E13: =SUM(E9:E12) -> 0 | F13: =SUM(F9:F12) -> 0 | G13: =SUM(G9:G12) -> 0 | H13: =SUM(H9:H12) -> 0 | I13: =SUM(I9:I12) -> 0 | J13: =SUM(J9:J12) -> 0 | ... AM13: =SUM(AM9:AM12) -> 0 | AN13: =IF(D13+E13=C13,"Đúng","Sai") -> Đúng | AO13: =IF(AND(L13<=C13,M13<=C13,N13<=C13,O13<=C13,P13<=C13,Q13<=C13,R13<=C13,S13<=C13,T13<=C13,U13<=C13,V13<=C13,W13<=C13,X13<=C13,Y13<=C13,Z13<=C13,AA13<=C13,AB13<=C13,AC13<=C13,AD13<=C13,AE13<=C13,AF13<=C13,AG13<=C13,AH13<=C13,AI13<=C13,AJ13<=C13,AK13<=C13,AL13<=C13,AM13<=C13),"Đúng","Sai") -> Đúng
